BEGIN:VCALENDAR
VERSION:2.0
PRODID:-//The Effie - ECPv6.15.20//NONSGML v1.0//EN
CALSCALE:GREGORIAN
METHOD:PUBLISH
X-WR-CALNAME:The Effie
X-ORIGINAL-URL:https://effieartsco.ca
X-WR-CALDESC:Events for The Effie
REFRESH-INTERVAL;VALUE=DURATION:PT1H
X-Robots-Tag:noindex
X-PUBLISHED-TTL:PT1H
BEGIN:VTIMEZONE
TZID:America/Vancouver
BEGIN:DAYLIGHT
TZOFFSETFROM:-0800
TZOFFSETTO:-0700
TZNAME:PDT
DTSTART:20240310T100000
END:DAYLIGHT
BEGIN:STANDARD
TZOFFSETFROM:-0700
TZOFFSETTO:-0800
TZNAME:PST
DTSTART:20241103T090000
END:STANDARD
BEGIN:DAYLIGHT
TZOFFSETFROM:-0800
TZOFFSETTO:-0700
TZNAME:PDT
DTSTART:20250309T100000
END:DAYLIGHT
BEGIN:STANDARD
TZOFFSETFROM:-0700
TZOFFSETTO:-0800
TZNAME:PST
DTSTART:20251102T090000
END:STANDARD
BEGIN:DAYLIGHT
TZOFFSETFROM:-0800
TZOFFSETTO:-0700
TZNAME:PDT
DTSTART:20260308T100000
END:DAYLIGHT
BEGIN:STANDARD
TZOFFSETFROM:-0700
TZOFFSETTO:-0800
TZNAME:PST
DTSTART:20261101T090000
END:STANDARD
END:VTIMEZONE
BEGIN:VEVENT
DTSTART;TZID=America/Vancouver:20251001T190000
DTEND;TZID=America/Vancouver:20251001T220000
DTSTAMP:20260420T174623
CREATED:20250830T071938Z
LAST-MODIFIED:20250830T071938Z
UID:10001420-1759345200-1759356000@effieartsco.ca
SUMMARY:Marc McLaughlin with Jared Doherty
DESCRIPTION:Minors Allowed Accompanied by an Adult \nTICKETS: https://app.ticketowl.io/aCS6dbYjvdJ0dlx3/event/aLHwm9IdrQozb3y8 \nMarc McLaughlin is a Canadian singer-songwriter and multi-instrumentalist from rural Newfoundland and Labrador\, now based in New Brunswick. Known for intricate melodies and introspective lyrics\, he blends indie pop and rock with a thoughtful approach. His 2023 EP\, I Don’t Want to Be Blue Anymore\, earned critical acclaim for its eloquent songwriting and quiet depth. His latest EP\, All I Can Say (February 2025)\, builds on his dreamy indie pop sound with aching sincerity. Marc has also shared the stage with and contributed to East Coast acts like Kelly McMichael\, Weary\, and Strongboy. \nJared Doherty is a singer-songwriter and multi-instrumentalist hailing from Kamloops\, British Columbia. Adopting a psych-pop songwriting style that simultaneously takes cues from 60’s/70’s folk rock (The Byrds\, Joni Mitchell)\, more contemporary indie singer-songwriters (Mac DeMarco\, Alex G)\, and with a touch of noisy experimentalism (Neutral Milk Hotel)\, Jared strives to create lush psychedelic soundscapes that breathe around his melodic songs. Jared’s debut 7 track album ‘Small Window’ came out November 16\, 2018 on Kamloops-based Factotum Cassettes & Oddities. Lyrically\, the album deals with an exploration of perception; how viewing things through a small window can be equal parts rewarding and limiting\, melancholic and uplifting. \nTickets: https://app.ticketowl.io/aCS6dbYjvdJ0dlx3/event/aLHwm9IdrQozb3y8
URL:https://effieartsco.ca/event/marc-mclaughlin-with-jared-doherty/
LOCATION:The Effie\, 422 Tranquille Road\, Kamloops\, British Columbia\, V2B 3G8\, Canada
CATEGORIES:Music
ATTACH;FMTTYPE=image/png:https://effieartsco.ca/wp-content/uploads/2025/08/Marc-McLaughlin-Banner-scaled.png
END:VEVENT
END:VCALENDAR