BEGIN:VCALENDAR
VERSION:2.0
PRODID:-//The Effie - ECPv6.15.20//NONSGML v1.0//EN
CALSCALE:GREGORIAN
METHOD:PUBLISH
X-ORIGINAL-URL:https://effieartsco.ca
X-WR-CALDESC:Events for The Effie
REFRESH-INTERVAL;VALUE=DURATION:PT1H
X-Robots-Tag:noindex
X-PUBLISHED-TTL:PT1H
BEGIN:VTIMEZONE
TZID:America/Vancouver
BEGIN:DAYLIGHT
TZOFFSETFROM:-0800
TZOFFSETTO:-0700
TZNAME:PDT
DTSTART:20220313T100000
END:DAYLIGHT
BEGIN:STANDARD
TZOFFSETFROM:-0700
TZOFFSETTO:-0800
TZNAME:PST
DTSTART:20221106T090000
END:STANDARD
BEGIN:DAYLIGHT
TZOFFSETFROM:-0800
TZOFFSETTO:-0700
TZNAME:PDT
DTSTART:20230312T100000
END:DAYLIGHT
BEGIN:STANDARD
TZOFFSETFROM:-0700
TZOFFSETTO:-0800
TZNAME:PST
DTSTART:20231105T090000
END:STANDARD
BEGIN:DAYLIGHT
TZOFFSETFROM:-0800
TZOFFSETTO:-0700
TZNAME:PDT
DTSTART:20240310T100000
END:DAYLIGHT
BEGIN:STANDARD
TZOFFSETFROM:-0700
TZOFFSETTO:-0800
TZNAME:PST
DTSTART:20241103T090000
END:STANDARD
END:VTIMEZONE
BEGIN:VEVENT
DTSTART;TZID=America/Vancouver:20230218T190000
DTEND;TZID=America/Vancouver:20230218T190000
DTSTAMP:20260419T054512
CREATED:20230116T002437Z
LAST-MODIFIED:20230130T043246Z
UID:10000006-1676746800-1676746800@effieartsco.ca
SUMMARY:Kamloops Burlesque  Presents: Don't Go Bacon My Heart
DESCRIPTION:It’s the Valentines show you didn’t know you needed! Love. Heartbreak. And Food.\nThis Feb 18th\, join our crew of delectable treats\, Rosie Bubbles\, Maple Bacon\, Coco-A-Gogo\, Ivy Nyx\, Ms Coco Creme\, and Dahlia Divine!\nOur evening of delicious debauchery will be hosted by none other than the full meal deal\, our delightful host\, Misty Vine!\nDress up for our best dressed costume contest and win prizes from our sponsors at The Scarlet Apple and Studio Micah!\n\nEarly Show:\nDoors 6:30 Burlesque 7pm\nLate Show:\nDoors 9pm Burlesque 9:30 \n19+ Licensed Event\n$20 + fees
URL:https://effieartsco.ca/event/kamloops-burlesque-presents-dont-go-bacon-my-heart/
LOCATION:British Columbia
CATEGORIES:Burlesque
ATTACH;FMTTYPE=image/jpeg:https://effieartsco.ca/wp-content/uploads/2023/01/Eventbrite-2160-x-1080-px.jpg
END:VEVENT
BEGIN:VEVENT
DTSTART;TZID=America/Vancouver:20230217T200000
DTEND;TZID=America/Vancouver:20230217T230000
DTSTAMP:20260419T054512
CREATED:20230128T023636Z
LAST-MODIFIED:20230128T195430Z
UID:10000008-1676664000-1676674800@effieartsco.ca
SUMMARY:Bad Magic & Myles from Home
DESCRIPTION:Vancouver based Modern Alt Rock/Dark R&B band **Bad Magic** is an explosive combination of deep grooves\, thoughtful lyrical content and headbanger approved riffs. Helmed by lead singer and songwriter Eric Novak\, the band has been described as “if Prince could scream\, wrote songs for Arctic Monkeys and grew up going to punk shows”. With a ferocious appetite for connection and living in the moment at their live shows\, the band implores the audience to feel your way through the darkness and get you dancing with your shadow. \nMyles From Home is an offspring from the “classic” era of rock when amps were stacked on amps and the louder you sang\, the harder you rocked. Though the Linden\, Manitoba native channels his inner rock god\, as heard from the songs in his [recordings]\, he does so quietly amongst folk-rock instrumentation. After studying engineering and frontmaning the band Café Racer in Montreal\, Myles is now based in Vancouver\, BC. He released his second album “Reading\, Riting and Rithmetic” in 2019\, a collection of songs about love and math\, which he self-recorded and produced while finishing his masters thesis on an implosion driven launcher. \n 
URL:https://effieartsco.ca/event/bad-magic-myles-from-home/
LOCATION:The Effie\, 422 Tranquille Road\, Kamloops\, British Columbia\, V2B 3G8\, Canada
CATEGORIES:Music
ATTACH;FMTTYPE=image/jpeg:https://effieartsco.ca/wp-content/uploads/2023/01/BM-MFH-cover.jpg
END:VEVENT
BEGIN:VEVENT
DTSTART;TZID=America/Vancouver:20230216T183000
DTEND;TZID=America/Vancouver:20230216T183000
DTSTAMP:20260419T054512
CREATED:20230116T001838Z
LAST-MODIFIED:20230326T013808Z
UID:10000005-1676572200-1676572200@effieartsco.ca
SUMMARY:Comedy Night Featuring:  Julie Kim
DESCRIPTION:Julie Kim is stand-up comedian and writer. Julie recently toured across North America with Ronny Chieng (The Daily Show with Trevor Noah\, Crazy Rich Asians). She has been featured on national television and radio multiple times (the Winnipeg Comedy Festival\, Just for Laughs Northwest\, the Halifax Comedy Festival\, and much more). She is a gala performer at Just for Laughs in Montreal this year. \nJulie’s been a writer and on-camera talent for CBC’s The Debaters\, Laugh out Loud\, CBC’s Kim’s Convenience (occasionally as a guest in the writer’s room)\, and more. Julie was also a writer for Simu Liu (Shang-Chi and the Legend of the Ten Rings\, Kim’s Convenience) as he hosted The Juno Awards in 2022. Julie’s mission is to spread happiness\, lighten hearts\, and unite through laughter. \nThe Effie Arts Collective is fast becoming recognized as one of the best comedy rooms in Western Canada with a great vibe and great talent. The Effie is proud to serve Phillips Brewing alcohol and de-alcoholised beverages as well as a selection of wines and spirits with various snacks. \nDoors 6:30 Comedy 7pm \n19+ Licensed Event\n$25 + fees
URL:https://effieartsco.ca/event/comedy-night-featuring-julie-kim/
LOCATION:The Effie\, 422 Tranquille Road\, Kamloops\, British Columbia\, V2B 3G8\, Canada
CATEGORIES:Comedy
ATTACH;FMTTYPE=image/jpeg:https://effieartsco.ca/wp-content/uploads/2023/01/Julie-Kim.jpg
END:VEVENT
BEGIN:VEVENT
DTSTART;TZID=America/Vancouver:20230215T193000
DTEND;TZID=America/Vancouver:20230215T193000
DTSTAMP:20260419T054512
CREATED:20230116T001520Z
LAST-MODIFIED:20230326T224323Z
UID:10000004-1676489400-1676489400@effieartsco.ca
SUMMARY:Comedy Open Mic
DESCRIPTION:Kamloops Comedy Open Mic provides comedians with opportunities to get out in front of a crowd and work on their craft. It is a safe space for comedians (fans may be triggered) to get up and put it all out there. \nKamloops Comedy Open Mic Doors 7:30pm Comedy 8:00pm $10 or free for performers and Eff Buddies
URL:https://effieartsco.ca/event/comedy-open-mic-3/
LOCATION:The Effie\, 422 Tranquille Road\, Kamloops\, British Columbia\, V2B 3G8\, Canada
CATEGORIES:Comedy
ATTACH;FMTTYPE=image/jpeg:https://effieartsco.ca/wp-content/uploads/2023/01/Effie-Open-Mic.jpg
END:VEVENT
BEGIN:VEVENT
DTSTART;TZID=America/Vancouver:20230204T193000
DTEND;TZID=America/Vancouver:20230204T193000
DTSTAMP:20260419T054512
CREATED:20230120T190158Z
LAST-MODIFIED:20230326T224723Z
UID:10000007-1675539000-1675539000@effieartsco.ca
SUMMARY:Freudian Slips Dungeons and Dragons Improv
DESCRIPTION:The Freudian Slips is the hottest Improvised Comedy Troupe in Kamloops! Bringing monthly improv shows to the city in four distinct improv styles\, no matter what form they take you are guaranteed a night of hilarity. Boasting a new cast for 2022\, expect some new and familiar faces and the same sidesplitting humour you’ve come to know since 2015. \nChimera Members are able to buy TWO tickets at Chimera Member Pricing (a savings of ten bucks!). Chimera Memberships are valid for one year. Don’t have a Chimera memership? Purchase one with your tickets at the checkout to get membership pricing on two tickets. \nAnd don’t forget to bid on the VIP table at the show for extra perks! \nDoors 7:30PM Improv 8:00PM
URL:https://effieartsco.ca/event/freudian-slips-dungeons-and-dragons-improv-2/
LOCATION:The Effie\, 422 Tranquille Road\, Kamloops\, British Columbia\, V2B 3G8\, Canada
CATEGORIES:Improv
ATTACH;FMTTYPE=image/jpeg:https://effieartsco.ca/wp-content/uploads/2023/01/315743519_612442384061025_863232054579740425_n-e1679870821812.jpg
END:VEVENT
BEGIN:VEVENT
DTSTART;TZID=America/Vancouver:20230201T193000
DTEND;TZID=America/Vancouver:20230201T193000
DTSTAMP:20260419T054512
CREATED:20230115T084135Z
LAST-MODIFIED:20230326T224845Z
UID:10000003-1675279800-1675279800@effieartsco.ca
SUMMARY:Comedy Open Mic
DESCRIPTION:Kamloops Comedy Open Mic provides comedians with opportunities to get out in front of a crowd and work on their craft. It is a safe space for comedians (fans may be triggered) to get up and put it all out there. \nKamloops Comedy Open Mic Doors 7:30pm Comedy 8:00pm $10 or free for performers and Eff Buddies
URL:https://effieartsco.ca/event/comedy-open-mic-2/
LOCATION:The Effie\, 422 Tranquille Road\, Kamloops\, British Columbia\, V2B 3G8\, Canada
CATEGORIES:Comedy
ATTACH;FMTTYPE=image/jpeg:https://effieartsco.ca/wp-content/uploads/2023/01/Effie-Open-Mic.jpg
END:VEVENT
BEGIN:VEVENT
DTSTART;TZID=America/Vancouver:20230125T193000
DTEND;TZID=America/Vancouver:20230125T193000
DTSTAMP:20260419T054512
CREATED:20230115T082636Z
LAST-MODIFIED:20230326T230410Z
UID:10000002-1674675000-1674675000@effieartsco.ca
SUMMARY:Comedy Open Mic
DESCRIPTION:Kamloops Comedy Open Mic provides comedians with opportunities to get out in front of a crowd and work on their craft. It is a safe space for comedians (fans may be triggered) to get up and put it all out there. \nKamloops Comedy Open Mic Doors 7:30pm Comedy 8:00pm $10 or free for performers and Eff Buddies
URL:https://effieartsco.ca/event/comedy-open-mic/
LOCATION:The Effie\, 422 Tranquille Road\, Kamloops\, British Columbia\, V2B 3G8\, Canada
CATEGORIES:Comedy
ATTACH;FMTTYPE=image/jpeg:https://effieartsco.ca/wp-content/uploads/2023/01/Effie-Open-Mic.jpg
END:VEVENT
BEGIN:VEVENT
DTSTART;TZID=America/Vancouver:20230119T193000
DTEND;TZID=America/Vancouver:20230119T193000
DTSTAMP:20260419T054512
CREATED:20230114T224047Z
LAST-MODIFIED:20240304T055517Z
UID:10000001-1674156600-1674156600@effieartsco.ca
SUMMARY:Freudian Slips Dungeons and Dragons Improv
DESCRIPTION:The Freudian Slips Present: Dungeons & Dragons Improv! \nJoin Dungeon Master TJ McCallum and The Freudian Slips in their latest foray into the world of Dungeons & Dragons! Prepare to meet new party of adventurers as they face the challenges the dungeon master – and the dice – has to offer. \nLONG FORM\, EPISODIC D&D IMPROV – This performance will consist of a long form improvised story over the course of the night. Actors will create a fully improvised show based on the narration of the Dungeon Master\, suggestions of the audience\, and roll of the giant d20. This show is episodic in nature\, and is the first in what will be an ongoing series following this party of heroes. \nNo Dungeon & Dragons knowledge required\, but a love of fantasy and comedy is welcomed! \nThe Freudian Slips is the hottest Improvised Comedy Troupe in Kamloops! Bringing monthly improv shows to the city in four distinct improv styles\, no matter what form they take you are guaranteed a night of hilarity. Boasting a new cast for 2022\, expect some new and familiar faces and the same sidesplitting humour you’ve come to know since 2015. \nChimera Members are able to buy TWO tickets at Chimera Member Pricing (a savings of ten bucks!). Chimera Memberships are valid for one year. Don’t have a Chimera memership? Purchase one with your tickets at the checkout to get membership pricing on two tickets. \nAnd don’t forget to bid on the VIP table at the show for extra perks! \nDoors 7:30PM Improv 8:00PM
URL:https://effieartsco.ca/event/freudian-slips-dungeons-and-dragons-improv/
LOCATION:The Effie\, 422 Tranquille Road\, Kamloops\, British Columbia\, V2B 3G8\, Canada
CATEGORIES:Comedy,Improv
ATTACH;FMTTYPE=image/jpeg:https://effieartsco.ca/wp-content/uploads/2023/01/The-Freudian-Slips-Dungeons-and-Dragons-Improv.jpg
END:VEVENT
END:VCALENDAR