BEGIN:VCALENDAR
VERSION:2.0
PRODID:-//The Effie - ECPv6.15.20//NONSGML v1.0//EN
CALSCALE:GREGORIAN
METHOD:PUBLISH
X-WR-CALNAME:The Effie
X-ORIGINAL-URL:https://effieartsco.ca
X-WR-CALDESC:Events for The Effie
REFRESH-INTERVAL;VALUE=DURATION:PT1H
X-Robots-Tag:noindex
X-PUBLISHED-TTL:PT1H
BEGIN:VTIMEZONE
TZID:America/Vancouver
BEGIN:DAYLIGHT
TZOFFSETFROM:-0800
TZOFFSETTO:-0700
TZNAME:PDT
DTSTART:20230312T100000
END:DAYLIGHT
BEGIN:STANDARD
TZOFFSETFROM:-0700
TZOFFSETTO:-0800
TZNAME:PST
DTSTART:20231105T090000
END:STANDARD
BEGIN:DAYLIGHT
TZOFFSETFROM:-0800
TZOFFSETTO:-0700
TZNAME:PDT
DTSTART:20240310T100000
END:DAYLIGHT
BEGIN:STANDARD
TZOFFSETFROM:-0700
TZOFFSETTO:-0800
TZNAME:PST
DTSTART:20241103T090000
END:STANDARD
BEGIN:DAYLIGHT
TZOFFSETFROM:-0800
TZOFFSETTO:-0700
TZNAME:PDT
DTSTART:20250309T100000
END:DAYLIGHT
BEGIN:STANDARD
TZOFFSETFROM:-0700
TZOFFSETTO:-0800
TZNAME:PST
DTSTART:20251102T090000
END:STANDARD
END:VTIMEZONE
BEGIN:VEVENT
DTSTART;TZID=America/Vancouver:20240601T200000
DTEND;TZID=America/Vancouver:20240601T200000
DTSTAMP:20260419T051917
CREATED:20240509T044805Z
LAST-MODIFIED:20240528T235827Z
UID:10000569-1717272000-1717272000@effieartsco.ca
SUMMARY:Freudian Slips
DESCRIPTION:TICKETS: https://www.eventbrite.ca/e/the-freudian-slips-improv-presents-viking-spon-tag-tickets-914792116847\n\n\n\n  \nThe Freudian Slips’ journey through time continues! Join the us in your finest Viking attire for a game of Spoon Tag! \nLet us take you on a series of short-form improv adventures\, with a Viking theme\, all while trying not to be the last person holding the spoon. \nIt’s a lot to hold onto at once! Which is why we brought a spoon. \nYou can also watch the Slips spoon each other from the comfort of the VIP table! \nChimera Theatre Society members can reserve a table at no additional cost! \nDoors open at 7:30pm\, and the show begins at 8:00! \nPlease be advised\, the show is estimated to end at 10pm\, and patrons under 19 must leave the venue promptly at 10:00. \n\nGeneral Admission $25 +fees\n\n\n\n\n\n\n\n\nCA$27.96\nincl. CA$2.96 Eventbrite Fee\n\n\n\n\n\n\nChimera Member Pricing $15 +fees\n\n\n\n\n\n\n\n\n\n\n\nCA$17.31\nincl. CA$2.31  Eventbrite Fee\n\n\n\n 
URL:https://effieartsco.ca/event/freudian-slips/
LOCATION:The Effie\, 422 Tranquille Road\, Kamloops\, British Columbia\, V2B 3G8\, Canada
CATEGORIES:Improv
ATTACH;FMTTYPE=image/jpeg:https://effieartsco.ca/wp-content/uploads/2023/03/Website-Banner4.jpg
END:VEVENT
BEGIN:VEVENT
DTSTART;TZID=America/Vancouver:20240605T200000
DTEND;TZID=America/Vancouver:20240605T220000
DTSTAMP:20260419T051917
CREATED:20230325T214743Z
LAST-MODIFIED:20250508T233611Z
UID:10000075-1717617600-1717624800@effieartsco.ca
SUMMARY:Kamloops Comedy Open Mic
DESCRIPTION:1/$10 General Admission\n\nFree for Performers & Eff Buddies\nDoors 7:30pm\nComedy 8-10pm\n16+\n\nKamloops Comedy Open Mic provides comedians with opportunities to get out in front of a crowd and work on their craft. It is a safe space for comedians (fans may be triggered) to get up and put it all out there.
URL:https://effieartsco.ca/event/kamloops-comedy-open-mic/2024-06-05/
LOCATION:The Effie\, 422 Tranquille Road\, Kamloops\, British Columbia\, V2B 3G8\, Canada
CATEGORIES:Comedy
ATTACH;FMTTYPE=image/jpeg:https://effieartsco.ca/wp-content/uploads/2023/01/Effie-Open-Mic.jpg
END:VEVENT
BEGIN:VEVENT
DTSTART;TZID=America/Vancouver:20240607T190000
DTEND;TZID=America/Vancouver:20240607T190000
DTSTAMP:20260419T051917
CREATED:20240509T044005Z
LAST-MODIFIED:20240509T044006Z
UID:10000568-1717786800-1717786800@effieartsco.ca
SUMMARY:Bealby Point at The Effie
DESCRIPTION:Licensed Venue – Minors Allowed Accompanied by an Adult. \nDoors 7:00pm Show 7:30pm. \n$15 + eventbrite fees in Advance \n $20 at the Door  \nTickets: https://www.eventbrite.ca/e/bealby-point-at-the-effie-kamloops-tickets-897751066607 \nIn a world full of micro-influencers\, digital grifters\, and spon-con hucksters\, Vancouver quartet Bealby Point offers a simple promise: what you see is what you get. Formed in 2018\, the indie rockers have built a sterling reputation thanks to their polished live performances and intricate\, approachable songwriting. Drawing inspiration from alt-rock icons including The Strokes\, Weezer\, Young The Giant\, and Red Hot Chili Peppers\, the boys’ signature sound centers on big hooks\, big solos\, and even bigger grooves. Since 2022 they have played sold-out shows across Vancouver\, including such notable venues as The Fox Cabaret\, Fortune Sound Club\, and The Rickshaw Theatre. This spring\, they will take their electric show on the road\, touring Western Canada to promote their latest single For Your Time. \nLicensed Venue – Minors Allowed Accompanied by an Adult. \nDoors 7:00pm Show 7:30pm. \n$15 + eventbrite fees in Advance \n $20 at the Door  \nTickets: https://www.eventbrite.ca/e/bealby-point-at-the-effie-kamloops-tickets-897751066607
URL:https://effieartsco.ca/event/bealby-point-at-the-effie/
LOCATION:The Effie\, 422 Tranquille Road\, Kamloops\, British Columbia\, V2B 3G8\, Canada
CATEGORIES:Music
ATTACH;FMTTYPE=image/jpeg:https://effieartsco.ca/wp-content/uploads/2024/05/https___cdn.evbuc_.com_images_759326719_696679102743_1_original.jpg
END:VEVENT
BEGIN:VEVENT
DTSTART;TZID=America/Vancouver:20240608T200000
DTEND;TZID=America/Vancouver:20240608T200000
DTSTAMP:20260419T051917
CREATED:20240529T003145Z
LAST-MODIFIED:20240529T003217Z
UID:10000572-1717876800-1717876800@effieartsco.ca
SUMMARY:Y2Gay Party
DESCRIPTION:Get ready to party like it’s Y2Gay at our fabulous event celebrating all things queer from the early 2000s!\n\nTICKETS: https://www.eventbrite.ca/e/y2gay-party-tickets-896800072157\n\n Join us on June 8th from 8 PM until 1 AM for a night of nostalgic beats\, fabulous vibes\, and inclusive fun!\nDance the night away to the hottest tracks spun by BeatLoops Entertainment\, guaranteed to keep you grooving all night long! This event is strictly 19+\, so get ready to sip and celebrate responsibly with The Effie’s selection of canned cocktails\, beer\, and highballs!\n\n Step back into the early 2000s! Dust off your glitter\, grab your platform shoes\, and embrace the iconic fashion and music of the era. Think Britney Spears\, Destiny’s Child\, and *NSYNC – it’s time to relive the glory days of the 2000s!\n\nAccessibility: We strive to create an inclusive environment for all attendees:\n-Gender-neutral washrooms available-Note: The venue is not wheelchair accessible (ramp is broken)\, and there are 3 steps to get into the venue-Standing room only\, with very limited seating available for those who need it-We respect your decision to wear or not wear a mask at our events-Bright and/or strobe lights\, loud music and sounds\, and use of fog machines and/or other chemicals or smells may be present.\n\n Kamloops Pride volunteers will be available throughout the event to assist you with water\, calling a cab\, or anything else you may need.\n\n PWYC Tickets: Some Pay What You Can (PWYC) tickets are available. Please reach out to info@kamloopspride.com to inquire.\n\nTICKETS: $10 +eventbrite fees\nhttps://www.eventbrite.ca/e/y2gay-party-tickets-896800072157\n\nLet’s make this a night to remember! See you on the dance floor!
URL:https://effieartsco.ca/event/y2gay-party/
LOCATION:The Effie\, 422 Tranquille Road\, Kamloops\, British Columbia\, V2B 3G8\, Canada
ATTACH;FMTTYPE=image/jpeg:https://effieartsco.ca/wp-content/uploads/2024/05/441289662_762846822673253_3556929173663732585_n.jpg
END:VEVENT
BEGIN:VEVENT
DTSTART;TZID=America/Vancouver:20240614T200000
DTEND;TZID=America/Vancouver:20240614T220000
DTSTAMP:20260419T051917
CREATED:20240529T005531Z
LAST-MODIFIED:20240529T011559Z
UID:10000573-1718395200-1718402400@effieartsco.ca
SUMMARY:Stand Up Comedy at The Effie Starring Kyle P. Ferris
DESCRIPTION:TICKETS: https://www.eventbrite.ca/e/914947421367 \n$20 + Eventbrite fees \nDoors 7:30 Comedy 8pm \nKyle P. Ferris is a Kelowna-based comedian known for his sharp wit\, infectious energy\, and unique perspective on life. With a knack for finding humor in the ordinary\, Kyle has been entertaining audiences with his hilarious observations and quick-fire punchlines for over a decade. Known for pushing boundaries and challenging societal norms\, Kyle fearlessly tackles a wide range of topics in his stand-up routines. From relationships and technology to pop culture and everyday absurdities\, he fearlessly dives into the comical aspects of the human experience. But it’s not just his comedic prowess that sets Kyle apart; his larger-than-life personality and unabashed confidence have become synonymous with his performances. Audiences are captivated by his magnetic stage presence and infectious laughter\, making each show a memorable experience.While it’s true that Kyle’s unique physical attributes have become a part of his comedic persona\, it’s his talent for delivering laughter that truly defines him as a comedian. With his razor-sharp humor and undeniable charm\, Kyle P. Ferris continues to leave audiences in stitches\, proving that laughter knows no bounds. \nTICKETS: https://www.eventbrite.ca/e/914947421367
URL:https://effieartsco.ca/event/1284/
LOCATION:The Effie\, 422 Tranquille Road\, Kamloops\, British Columbia\, V2B 3G8\, Canada
CATEGORIES:Comedy
ATTACH;FMTTYPE=image/jpeg:https://effieartsco.ca/wp-content/uploads/2024/05/445227873_422576310594168_93461753882591383_n.jpg
END:VEVENT
BEGIN:VEVENT
DTSTART;TZID=America/Vancouver:20240615T190000
DTEND;TZID=America/Vancouver:20240615T220000
DTSTAMP:20260419T051917
CREATED:20240529T053451Z
LAST-MODIFIED:20240529T053607Z
UID:10000574-1718478000-1718488800@effieartsco.ca
SUMMARY:Cabaret Night and Chris Bose Book Launch
DESCRIPTION:TICKETS: https://www.eventbrite.ca/e/cabaret-night-and-chris-bose-book-launch-at-the-effie-tickets-915049627067 \nheyoooo\, at long last\, an evening to promote my newest book “Crazy\, Coyote\, Forever\,” as well as have perform locally for the 1st time in almost a year with “Horse Funeral Band\,” a band i started over a year ago\, as well as local heroes “PADOVA\,” and “Nobody Road.” Come check it out!! I’ll be doing select readings and then performing!!! Will have books available!!!! Come say hi to Uncle and friends!!!! woot woot!!!! \nTICKETS: https://www.eventbrite.ca/e/cabaret-night-and-chris-bose-book-launch-at-the-effie-tickets-915049627067 \n$15 +eventbrite fees in advance\n$20 at door\n7pm – 10pm\nMinors allowed accompanied by an adult
URL:https://effieartsco.ca/event/cabaret-night-and-chris-bose-book-launch/
LOCATION:The Effie\, 422 Tranquille Road\, Kamloops\, British Columbia\, V2B 3G8\, Canada
CATEGORIES:Music
ATTACH;FMTTYPE=image/jpeg:https://effieartsco.ca/wp-content/uploads/2024/05/441883106_10159740557406791_3560901801058536114_n.jpg
END:VEVENT
BEGIN:VEVENT
DTSTART;TZID=America/Vancouver:20240619T200000
DTEND;TZID=America/Vancouver:20240619T220000
DTSTAMP:20260419T051917
CREATED:20230325T214743Z
LAST-MODIFIED:20250508T233611Z
UID:10000077-1718827200-1718834400@effieartsco.ca
SUMMARY:Kamloops Comedy Open Mic
DESCRIPTION:1/$10 General Admission\n\nFree for Performers & Eff Buddies\nDoors 7:30pm\nComedy 8-10pm\n16+\n\nKamloops Comedy Open Mic provides comedians with opportunities to get out in front of a crowd and work on their craft. It is a safe space for comedians (fans may be triggered) to get up and put it all out there.
URL:https://effieartsco.ca/event/kamloops-comedy-open-mic/2024-06-19/
LOCATION:The Effie\, 422 Tranquille Road\, Kamloops\, British Columbia\, V2B 3G8\, Canada
CATEGORIES:Comedy
ATTACH;FMTTYPE=image/jpeg:https://effieartsco.ca/wp-content/uploads/2023/01/Effie-Open-Mic.jpg
END:VEVENT
BEGIN:VEVENT
DTSTART;TZID=America/Vancouver:20240620T190000
DTEND;TZID=America/Vancouver:20240620T190000
DTSTAMP:20260419T051917
CREATED:20240509T045412Z
LAST-MODIFIED:20240528T234112Z
UID:10000570-1718910000-1718910000@effieartsco.ca
SUMMARY:Summer Solstice Sound Healing
DESCRIPTION:TICKETS:  https://www.eventbrite.ca/e/summer-solstice-sound-healing-tickets-905486704107 \nExperience the soothing vibrations of sound healing under the summer sun at our event\, perfect for relaxation and rejuvenation. \nThu\, Jun 20\, 2024 7:00 PM – 8:00 PM \nJoin husband and wife duo\, Quinton and Kendra Armstrong for the longest day of the year to release what is no longer serving you and experience an expansive\, meditative journey through sound healing. \nReiki master\, reflexologist and sound healer\, Kendra will guide you through breath work as she plays quartz cystal and tibetan singing bowls. Professional musician\, Quinton will play relaxing and psychedelic guitar riffs with a variety of pedals. \nThe pure tones offered in a sound bath facilitate DEEP REST & RESET for the nervous system. \nEach singing bowl (note) corresponds with a different chakra/energy center in the body\, bringing alignment to the physical and energetic body. The vibration frequencies of crystal singing bowls have the ability to move through skin\, fluid and bones of the body\, creating a full body relaxation and re-calibration down to the level of cellular structure. In addition\, your brainwave frequency and state of consciousness can be re-wired\, and regulated causing a positive and stable state of mind\, by the vibrations that are created during sound healing. \nPlease bring a yoga mat and any other props you’d like to get cozy (blanket\, pillow\, bolster\, crystals). \nThere is a LIMITED number of pre sale tickets available for $25 \nTICKETS:  https://www.eventbrite.ca/e/summer-solstice-sound-healing-tickets-905486704107 \nDoors: $30 cash only \n 
URL:https://effieartsco.ca/event/summer-solstice-sound-bath/
LOCATION:The Effie\, 422 Tranquille Road\, Kamloops\, British Columbia\, V2B 3G8\, Canada
CATEGORIES:Music
ATTACH;FMTTYPE=image/jpeg:https://effieartsco.ca/wp-content/uploads/2024/03/https-__cdn.evbuc_.com_images_708620019_1486537024193_1_original.jpg
END:VEVENT
BEGIN:VEVENT
DTSTART;TZID=America/Vancouver:20240621T200000
DTEND;TZID=America/Vancouver:20240621T200000
DTSTAMP:20260419T051917
CREATED:20231105T031108Z
LAST-MODIFIED:20240610T200045Z
UID:10000380-1719000000-1719000000@effieartsco.ca
SUMMARY:THE FREUDIAN SLIPS DUNGEONS AND DRAGONS IMPROV
DESCRIPTION:Come join The Freudian Slips for a night of TTRPG-inspired fun! \nTICKETS: https://www.eventbrite.ca/e/the-freudian-slips-dungeons-dragons-improv-tickets-923145802947 \n\n\nNo Dungeon & Dragons knowledge required\, but a love of fantasy and comedy is welcomed! \nThe Slips will be performing an improvised adventure with our giant 20 sided die and master behind the screen. What will adventure contain? Who will be the hero? Find out with the rest of us on June 21st at 8:00PM. \nThe Freudian Slips are the hottest Improvised Comedy Troupe in Kamloops! Bringing monthly improv shows to the city in four distinct improv styles\, no matter what form they take you are guaranteed a night of hilarity. Expect some new and familiar faces and the same side-splitting humour you’ve come to know since 2015. \nChimera Members are able to buy TWO tickets at Chimera Member Pricing (a savings of ten bucks!). Chimera Memberships are valid for one year. Don’t have a Chimera membership? Purchase one with your tickets at the checkout to get membership pricing on two tickets. \n422 Tranquille Rd\, Kamloops \nDoors 7:30pm; Show 8:00pm \nTickets $25 + eventbrite fees ( No fees if you buy in person at the Effie!) \nTICKETS: https://www.eventbrite.ca/e/the-freudian-slips-dungeons-dragons-improv-tickets-923145802947 \n\nGeneral Admission $25 +fees\n\n\n\n\n\n\n\n\nCA$29.36\nincl. CA$2.96 Fee / incl. CA$1.40 Tax\n\n\n\n\n\n\nChimera Member Pricing $15+fees\n\n\n\n\n\n\n\n\n\n\n\nCA$18.18\nincl. CA$2.31 Fee / incl. CA$0.87 Tax\n\n\n\n\n\n\nChimera Membership $10+fees\n\n\n\n\n\n\n\n\n\n\n\nCA$12.58\nincl. CA$1.98 Fee / incl. CA$0.60 Tax
URL:https://effieartsco.ca/event/the-freudian-slips-dungeons-and-dragons-improv-7/
LOCATION:The Effie\, 422 Tranquille Road\, Kamloops\, British Columbia\, V2B 3G8\, Canada
CATEGORIES:Improv
ATTACH;FMTTYPE=image/jpeg:https://effieartsco.ca/wp-content/uploads/2023/01/The-Freudian-Slips-Dungeons-and-Dragons-Improv.jpg
ORGANIZER;CN="Chimera Theatre":MAILTO:info@chimeratheatre.com ﻿
END:VEVENT
BEGIN:VEVENT
DTSTART;TZID=America/Vancouver:20240622T190000
DTEND;TZID=America/Vancouver:20240622T190000
DTSTAMP:20260419T051917
CREATED:20231205T224541Z
LAST-MODIFIED:20240610T192510Z
UID:10000425-1719082800-1719082800@effieartsco.ca
SUMMARY:Kamloops Burlesque
DESCRIPTION:EARLY SHOW TICKETS:  https://www.eventbrite.ca/e/kamloops-burlesque-presents-roughing-it-early-show-tickets-923125010757 \nLATE SHOW TICKETS: https://www.eventbrite.ca/e/kamloops-burlesque-presents-roughing-it-late-show-tickets-923128400897 \nJoin us Saturday\, June 22 as we get back to nature and explore all avenues of ‘Roughing It’. \nOur lineup of local\, wild talent includes\, The Cream Puffs\, Rosie Bubbles\, Coco-A-Gogo\, The Rainbow Puffs\, Babe Maverick\, The Conjuring\, Ivy Nyx\, The Laps of Luxury\, and welcoming back to our stage both Lasha Wild and Tintina Tundra! \nDress up and join our best dressed contest to win a sexy prize from our sponsors at The Scarlet Apple\, Exposed Wax Arts\, and Studio Micah! \nOur host for the evening is the incomparable Misty Vine! \n19+ show \nEarly Show – Doors at 6:30pm\, show at 7pm \nLate Show – Doors at 9:00pm\, show at 9:30pm \n20$ tickets\, available on Eventbrite. \nSponsored by RDC Photography\, Instinct Adornment\, The Scarlet Apple\, Studio Micah\, Exposed Wax Arts\, The Book Place\, and Infernol Arts! \n\n\n\n\n\n$20 + Eventbrite fees \nEARLY SHOW TICKETS:  https://www.eventbrite.ca/e/kamloops-burlesque-presents-roughing-it-early-show-tickets-923125010757 \nLATE SHOW TICKETS: https://www.eventbrite.ca/e/kamloops-burlesque-presents-roughing-it-late-show-tickets-923128400897
URL:https://effieartsco.ca/event/kamloops-burlesque-2/
LOCATION:The Effie\, 422 Tranquille Road\, Kamloops\, British Columbia\, V2B 3G8\, Canada
CATEGORIES:Burlesque
ATTACH;FMTTYPE=image/jpeg:https://effieartsco.ca/wp-content/uploads/2023/12/kamloops-burlesque-roughing-it-e1718047501958.jpg
END:VEVENT
END:VCALENDAR