BEGIN:VCALENDAR
VERSION:2.0
PRODID:-//The Effie - ECPv6.15.20//NONSGML v1.0//EN
CALSCALE:GREGORIAN
METHOD:PUBLISH
X-ORIGINAL-URL:https://effieartsco.ca
X-WR-CALDESC:Events for The Effie
REFRESH-INTERVAL;VALUE=DURATION:PT1H
X-Robots-Tag:noindex
X-PUBLISHED-TTL:PT1H
BEGIN:VTIMEZONE
TZID:America/Vancouver
BEGIN:DAYLIGHT
TZOFFSETFROM:-0800
TZOFFSETTO:-0700
TZNAME:PDT
DTSTART:20220313T100000
END:DAYLIGHT
BEGIN:STANDARD
TZOFFSETFROM:-0700
TZOFFSETTO:-0800
TZNAME:PST
DTSTART:20221106T090000
END:STANDARD
BEGIN:DAYLIGHT
TZOFFSETFROM:-0800
TZOFFSETTO:-0700
TZNAME:PDT
DTSTART:20230312T100000
END:DAYLIGHT
BEGIN:STANDARD
TZOFFSETFROM:-0700
TZOFFSETTO:-0800
TZNAME:PST
DTSTART:20231105T090000
END:STANDARD
BEGIN:DAYLIGHT
TZOFFSETFROM:-0800
TZOFFSETTO:-0700
TZNAME:PDT
DTSTART:20240310T100000
END:DAYLIGHT
BEGIN:STANDARD
TZOFFSETFROM:-0700
TZOFFSETTO:-0800
TZNAME:PST
DTSTART:20241103T090000
END:STANDARD
END:VTIMEZONE
BEGIN:VEVENT
DTSTART;TZID=America/Vancouver:20230805T200000
DTEND;TZID=America/Vancouver:20230805T200000
DTSTAMP:20260420T105650
CREATED:20230722T211514Z
LAST-MODIFIED:20230722T211803Z
UID:10000326-1691265600-1691265600@effieartsco.ca
SUMMARY:The Freudian Slips Improv: The Floor is Lava
DESCRIPTION:The Freudian Slips’ new season begins! Improv comedy\, theatre\, and a new complication: The floor is lava! What does that mean? Find out from the comfort of the VIP table! \nThe Freudian Slips is the hottest Improvised Comedy Troupe in Kamloops! Bringing monthly improv shows to the city in four distinct improv styles\, no matter what form they take you are guaranteed a night of hilarity. Boasting a new cast for 2023\, expect some new and familiar faces and the same sidesplitting humour you’ve come to know since 2015. \nChimera Members are able to buy TWO tickets at Chimera Member Pricing (a savings of ten bucks!). Chimera Memberships are valid for one year. Don’t have a Chimera membership? Purchase one with your tickets at the checkout to get membership pricing on two tickets. Don’t forget to reserve your table by choosing the table option with your tickets. \nDoors 7:30pm\, Show 8pm\, Tickets $20 + fees \nTICKETS: https://www.eventbrite.ca/e/660150095707 \n 
URL:https://effieartsco.ca/event/the-freudian-slips-improv-the-floor-is-lava/
LOCATION:The Effie\, 422 Tranquille Road\, Kamloops\, British Columbia\, V2B 3G8\, Canada
CATEGORIES:Improv
ATTACH;FMTTYPE=image/jpeg:https://effieartsco.ca/wp-content/uploads/2023/07/floor-is-lava.jpg
END:VEVENT
BEGIN:VEVENT
DTSTART;TZID=America/Vancouver:20230808T200000
DTEND;TZID=America/Vancouver:20230808T230000
DTSTAMP:20260420T105650
CREATED:20230722T205208Z
LAST-MODIFIED:20230722T205324Z
UID:10000325-1691524800-1691535600@effieartsco.ca
SUMMARY:A Way Home Kamloops presents Oscar's Hollow\, with special guest Jeremy Kneeshaw
DESCRIPTION:TICKETS: https://www.eventbrite.ca/e/681134931917 \nDoors: 7:30pm. Music: 8:00. Tickets $15 in advance. $20 at the door.  \nA Way Home Kamloops presents an all-ages live music fundraiser featuring Oscar’s Hollow with Jeremy Kneeshaw- all proceeds go towards A Way Home Kamloops (https://www.awayhomekamloops.com/)  \nOscar’s Hollow is a Saskatoon-based rock band formed in 2016. With songs that \ntypically blend first-person storytelling with the frankness of a good confession\, \nthe group’s music evokes comparisons to outfits like The Band or Blue Rodeo \nthe way a yellow 1974 F150 might remind you of the late-summer sun on the \nprairies. \nThe band’s current lineup consists of Kris Mihilewicz playing guitar\, Byron Shaw \non bass\, Kurt Burnett on the drums and Darryl Dozlaw playing mostly keys. Lead \nvocal duties are shared between Mihilewicz and Dozlaw\, with everyone \ncontributing background vocals. \nHaving self-produced two EP’s: Oscar’s Hollow (2018) and Now Playing (2019)\, \nthe band is currently developing new music with the recording of a full-length \nalbum on the horizon. Whether headlining or supporting\, Oscar’s Hollow delivers \na dynamic\, fun live show. \n\nDoors: 7:30pm. Music: 8:00. Tickets $15 in advance. $20 at the door.  \nTICKETS: https://www.eventbrite.ca/e/681134931917
URL:https://effieartsco.ca/event/a-way-home-kamloops-presents-oscars-hollow-with-special-guest-jeremy-kneeshaw/
LOCATION:The Effie\, 422 Tranquille Road\, Kamloops\, British Columbia\, V2B 3G8\, Canada
CATEGORIES:Music
ATTACH;FMTTYPE=image/jpeg:https://effieartsco.ca/wp-content/uploads/2023/07/awayhome.jpg
END:VEVENT
BEGIN:VEVENT
DTSTART;TZID=America/Vancouver:20230812T170000
DTEND;TZID=America/Vancouver:20230812T220000
DTSTAMP:20260420T105650
CREATED:20230725T000933Z
LAST-MODIFIED:20230725T001000Z
UID:10000329-1691859600-1691877600@effieartsco.ca
SUMMARY:Misfit Night Market: Pride was a RIOT!
DESCRIPTION:HAPPY PRIDE!\nMisfit Night Market will once again be taking over The Effie Arts Collective and Oddfellows and Rebekah’s Hall for an summer night of shopping with your local queerdos!\nWhen: Saturday\, August 12th 2022\, 5-10 pm\nWhere: The Effie Arts Collective (422 Tranquille Road) AND Oddfellow’s & Rebekah’s Hall (423 Tranquille Rd)\nMEET THE MISFITS:\nAves Creations\nBear and bee arts & crafts\nCartoon Lizzy\nChapel of Chains\nCourt Makes\nCrystal creatrix\nDeadly Threadin\nEternal Afterlife Creations\nFlustered Geek\nHamzdidis creations\nHaus of Misfit\nHigh Voltage Habitat\nHrtshpdfruit\nJupiter Bloom Art\nKamloops Pride\nKetchup N Liquor\nKuzina Messer Culinaire\nLadys Stuff & Things\nLiving Dead Metals\nLunalesca Apothecary & Abyssal Emporium\nMango Magpies\nMaria Elisabeth\nNew Nerd Novelties\nSparrow Homemade\nTheysister\nUnicorn Wishes\nQuestions about this event? Hit us up at misfitnightmarket@gmail.com\nMisfit Night Market takes place on the traditional\, unceded\, and unsurrendured territory of the Tk’emlups te Secwépemc First Nation.
URL:https://effieartsco.ca/event/misfit-night-market-pride-was-a-riot/
LOCATION:The Effie\, 422 Tranquille Road\, Kamloops\, British Columbia\, V2B 3G8\, Canada
CATEGORIES:Market
ATTACH;FMTTYPE=image/jpeg:https://effieartsco.ca/wp-content/uploads/2023/07/misfit.jpg
END:VEVENT
BEGIN:VEVENT
DTSTART;TZID=America/Vancouver:20230817T200000
DTEND;TZID=America/Vancouver:20230817T230000
DTSTAMP:20260420T105650
CREATED:20230722T212731Z
LAST-MODIFIED:20230722T212834Z
UID:10000327-1692302400-1692313200@effieartsco.ca
SUMMARY:The Freudian Slips present: Dungeons & Dragons Improv
DESCRIPTION:The Freudian Slips’ new D&D season begins! New Heroes! New Villains! Same fickle dice!\nNo Dungeon & Dragons knowledge required\, but a love of fantasy and comedy is welcomed!\nThe Freudian Slips is the hottest Improvised Comedy Troupe in Kamloops! Bringing monthly improv shows to the city in four distinct improv styles\, no matter what form they take you are guaranteed a night of hilarity. Boasting a new cast for 2023\, expect some new and familiar faces and the same sidesplitting humour you’ve come to know since 2015.\nChimera Members are able to buy TWO tickets at Chimera Member Pricing (a savings of ten bucks!). Chimera Memberships are valid for one year. Don’t have a Chimera membership? Purchase one with your tickets at the checkout to get membership pricing on two tickets.\n\nDoors 7:30pm; Show 8:00pm\nTickets $20 + eventbrite fees\n(No fees if you buy in person at the Effie!)\n\nTICKETS: https://www.eventbrite.ca/e/665776715077
URL:https://effieartsco.ca/event/786/
LOCATION:The Effie\, 422 Tranquille Road\, Kamloops\, British Columbia\, V2B 3G8\, Canada
CATEGORIES:Improv
ATTACH;FMTTYPE=image/jpeg:https://effieartsco.ca/wp-content/uploads/2023/01/The-Freudian-Slips-Dungeons-and-Dragons-Improv.jpg
ORGANIZER;CN="Chimera Theatre":MAILTO:info@chimeratheatre.com ﻿
END:VEVENT
BEGIN:VEVENT
DTSTART;TZID=America/Vancouver:20230818T190000
DTEND;TZID=America/Vancouver:20230818T190000
DTSTAMP:20260420T105650
CREATED:20230725T002906Z
LAST-MODIFIED:20230819T055946Z
UID:10000330-1692385200-1692385200@effieartsco.ca
SUMMARY:CANCELLED - Comedy Night Starring Jacob Samuel and Steve McGowan
DESCRIPTION:CANCELLED – Unfortunately\, due to the wildfire in Kelowna\, Jacob and Steve have been evacuated and are unable to attend tonight. \nSettle into The Effie\, the best kept secret on the Northshore of Kamloops\, and experience stand up the way it is meant to be experienced. \nEARLY SHOW HEADLINER JACOB SAMUEL \nJacob Samuel is a Juno award-winning stand-up comic\, cartoonist\, and writer known for his clever and insightful comedy. His many TV performances have aired nationally in Canada on the CBC\, The Comedy Network\, and Crave. On radio\, Jacob can be heard on Sirius XM and CBC’s “The Debaters.” He has appeared multiple times at the Montreal Just for Laughs and Winnipeg Comedy Festivals. In 2021\, Jacob won the Juno award for “Comedy Album of the Year.”Jacob has also had cartoons published in The New Yorker even though he did terribly in middle school art class. \nEarly Show Doors 630pm Comedy 7pm \nTICKETS: https://www.eventbrite.ca/e/686291505367 \n______________________________________________ \nLATE SHOW HEADLINER STEVE MCGOWAN \nSteve McGowan combines storytelling with crowd work making him a favorite with audiences across Canada. For years\, his hyper and cheeky onstage rage has made him a fantastic comedic presence. Featuring at venues coast to coast\, Steve has also opened for Jon Dore\, Dave Foley\, Rory Scovel\, Chappelle’s Show’s Donell Rawlings\, Iliza Shlesinger\, Ian Bagg\, Dave Coulier\, Tony Rock & more! His debut comedy album released in 2022 called ‘Pleasantly Offensive’ is available on all platforms. \n“You can see how much fun he and the audience are having together. It’s very fun to watch.” – Seinfeld’s Steve Hytner  \n“Steve is either insane or playing it perfectly.” – Full House’s Dave Coulier  \nLate Show Doors 845 Comedy 9pm \nTICKETS: https://www.eventbrite.ca/e/686291505367
URL:https://effieartsco.ca/event/comedy-night-starring-jacob-samuel-and-steve-mcgowan/
LOCATION:The Effie\, 422 Tranquille Road\, Kamloops\, British Columbia\, V2B 3G8\, Canada
CATEGORIES:Comedy
ATTACH;FMTTYPE=image/jpeg:https://effieartsco.ca/wp-content/uploads/2023/07/cancelled.jpg
END:VEVENT
END:VCALENDAR