BEGIN:VCALENDAR
VERSION:2.0
PRODID:-//The Effie - ECPv6.15.20//NONSGML v1.0//EN
CALSCALE:GREGORIAN
METHOD:PUBLISH
X-WR-CALNAME:The Effie
X-ORIGINAL-URL:https://effieartsco.ca
X-WR-CALDESC:Events for The Effie
REFRESH-INTERVAL;VALUE=DURATION:PT1H
X-Robots-Tag:noindex
X-PUBLISHED-TTL:PT1H
BEGIN:VTIMEZONE
TZID:America/Vancouver
BEGIN:DAYLIGHT
TZOFFSETFROM:-0800
TZOFFSETTO:-0700
TZNAME:PDT
DTSTART:20220313T100000
END:DAYLIGHT
BEGIN:STANDARD
TZOFFSETFROM:-0700
TZOFFSETTO:-0800
TZNAME:PST
DTSTART:20221106T090000
END:STANDARD
BEGIN:DAYLIGHT
TZOFFSETFROM:-0800
TZOFFSETTO:-0700
TZNAME:PDT
DTSTART:20230312T100000
END:DAYLIGHT
BEGIN:STANDARD
TZOFFSETFROM:-0700
TZOFFSETTO:-0800
TZNAME:PST
DTSTART:20231105T090000
END:STANDARD
BEGIN:DAYLIGHT
TZOFFSETFROM:-0800
TZOFFSETTO:-0700
TZNAME:PDT
DTSTART:20240310T100000
END:DAYLIGHT
BEGIN:STANDARD
TZOFFSETFROM:-0700
TZOFFSETTO:-0800
TZNAME:PST
DTSTART:20241103T090000
END:STANDARD
END:VTIMEZONE
BEGIN:VEVENT
DTSTART;TZID=America/Vancouver:20230701T190000
DTEND;TZID=America/Vancouver:20230701T190000
DTSTAMP:20260420T141336
CREATED:20230328T065504Z
LAST-MODIFIED:20230620T040842Z
UID:10000304-1688238000-1688238000@effieartsco.ca
SUMMARY:Kamloops Burlesque
DESCRIPTION:This July 1st\, join Kamloops Burlesque as we explore the world of Myths and the realm of Magic! Rosie Bubbles\, The Cream Puffs\, Mona Moore\, Coco-A-Gogo\, Ivy Nyx\, The Laps of Luxury\, The Rainbow Puffs\, Ms Coco Creme\, and Lasha Wild will be hitting the stage.\nMisty Vine will be there to guide you on your journey through these magical realms!\nDress up for our best dressed costume contest and win prizes from our sponsors at The Scarlet Apple\, Exposed Wax Art Studio\, and Studio Micah!\n\n19+ show\n20$ tickets+fees\n\nEARLY SHOW – Doors at 6:30pm\, show at 7pm\nTICKETS:\nhttps://www.eventbrite.ca/e/kamloops-burlesque-presents-myth-and-magic-tickets-661913760877\n\nLATE SHOW – Doors at 9:00pm\, show at 9:30pm\nTICKETS:\nhttps://www.eventbrite.ca/e/kamloops-burlesque-presents-myth-and-magic-tickets-661913811027\n\n\nSponsored by RDC Photography\, Instinct Adornment\, The Scarlet Apple\, Infernol Art Productions\, Studio Micah\, Exposed Wax Art Studio\, and The Book Place!
URL:https://effieartsco.ca/event/kamloops-burlesque/
LOCATION:The Effie\, 422 Tranquille Road\, Kamloops\, British Columbia\, V2B 3G8\, Canada
CATEGORIES:Burlesque
ATTACH;FMTTYPE=image/jpeg:https://effieartsco.ca/wp-content/uploads/2023/03/myth-and-magic.jpg
END:VEVENT
BEGIN:VEVENT
DTSTART;TZID=America/Vancouver:20230729T200000
DTEND;TZID=America/Vancouver:20230729T220000
DTSTAMP:20260420T141336
CREATED:20230521T045633Z
LAST-MODIFIED:20230722T205728Z
UID:10000312-1690660800-1690668000@effieartsco.ca
SUMMARY:The Freudian Slips Improv Presents: Strip n' Sip
DESCRIPTION:The Freudian Slips are good at improv… but are they still good at it when they’re trashed? Find out from the comfort of the VIP table! \nThe Freudian Slips is the hottest Improvised Comedy Troupe in Kamloops! Bringing monthly improv shows to the city in four distinct improv styles\, no matter what form they take you are guaranteed a night of hilarity. Boasting a new cast for 2022\, expect some new and familiar faces and the same sidesplitting humour you’ve come to know since 2015.  \nChimera Members are able to buy TWO tickets at Chimera Member Pricing (a savings of ten bucks!). Chimera Memberships are valid for one year. Don’t have a Chimera membership? Purchase one with your tickets at the checkout to get membership pricing on two tickets. Don’t forget to reserve your table by choosing the table option with your tickets.  \nDoors 7:30pm  \nShow 8pm  \nTickets $20 + fees \nTICKETS:  https://www.eventbrite.ca/e/639712937617 
URL:https://effieartsco.ca/event/the-freudian-slips-improv-presents-strip-n-sip/
LOCATION:The Effie\, 422 Tranquille Road\, Kamloops\, British Columbia\, V2B 3G8\, Canada
CATEGORIES:Improv
ATTACH;FMTTYPE=image/jpeg:https://effieartsco.ca/wp-content/uploads/2023/05/Effie-Presents-Facebook-Cover2.jpg
ORGANIZER;CN="Chimera Theatre":MAILTO:info@chimeratheatre.com ﻿
END:VEVENT
END:VCALENDAR