BEGIN:VCALENDAR
VERSION:2.0
PRODID:-//The Effie - ECPv6.15.20//NONSGML v1.0//EN
CALSCALE:GREGORIAN
METHOD:PUBLISH
X-ORIGINAL-URL:https://effieartsco.ca
X-WR-CALDESC:Events for The Effie
REFRESH-INTERVAL;VALUE=DURATION:PT1H
X-Robots-Tag:noindex
X-PUBLISHED-TTL:PT1H
BEGIN:VTIMEZONE
TZID:America/Vancouver
BEGIN:DAYLIGHT
TZOFFSETFROM:-0800
TZOFFSETTO:-0700
TZNAME:PDT
DTSTART:20220313T100000
END:DAYLIGHT
BEGIN:STANDARD
TZOFFSETFROM:-0700
TZOFFSETTO:-0800
TZNAME:PST
DTSTART:20221106T090000
END:STANDARD
BEGIN:DAYLIGHT
TZOFFSETFROM:-0800
TZOFFSETTO:-0700
TZNAME:PDT
DTSTART:20230312T100000
END:DAYLIGHT
BEGIN:STANDARD
TZOFFSETFROM:-0700
TZOFFSETTO:-0800
TZNAME:PST
DTSTART:20231105T090000
END:STANDARD
BEGIN:DAYLIGHT
TZOFFSETFROM:-0800
TZOFFSETTO:-0700
TZNAME:PDT
DTSTART:20240310T100000
END:DAYLIGHT
BEGIN:STANDARD
TZOFFSETFROM:-0700
TZOFFSETTO:-0800
TZNAME:PST
DTSTART:20241103T090000
END:STANDARD
END:VTIMEZONE
BEGIN:VEVENT
DTSTART;TZID=America/Vancouver:20230601T190000
DTEND;TZID=America/Vancouver:20230601T220000
DTSTAMP:20260420T154955
CREATED:20230328T065601Z
LAST-MODIFIED:20230527T025928Z
UID:10000305-1685646000-1685656800@effieartsco.ca
SUMMARY:Comedy Night Starring Alex Mackenzie
DESCRIPTION:$25 + fees\nDoors 6:30pm\nComedy 7pm\n19+ \nAlex Mackenzie is fresh off of his international coast to coast tour of Australia and is back in Canada ready to make you laugh! When Mackenzie takes the stage you immediately feel like he could be your best friend. With his resting happy face and positive attitude we guarantee you  will leave the show feeling better than when you got there. Don’t miss your chance to see this truly unique world class performer! \nAlex Mackenzie has been described as a happiness cheerleader. “A genuinely funny man with a sincere desire to spread happiness” says Stage Whispers Australia. Alex Mackenzie lives in BC\, but he could live anywhere! In 2019 Mackenzie quit his six-figure job\, sold his house and moved into an RV to chase his stand-up dreams! Now he is in international demand – Mackenzie tours around the world performing in sold out theatres. He’s performed at the Melbourne Comedy Festival\, is the Host of the Hungry for Laughs Comedy Tour and his charisma and clever joke writing have gained him rapid popularity online that’s increasing daily with his videos reaching over 60 million views! He often gets recognized in public and is asked to move his RV. \n“His Charisma and Clever joke writing have made Mackenzie Canada’s fastest rising comic with his jokes being viewed over 60 million times online” – Vancouver Guardian \nTICKET LINK: https://www.eventbrite.ca/e/612082283587
URL:https://effieartsco.ca/event/alex-mackenzie/
LOCATION:The Effie\, 422 Tranquille Road\, Kamloops\, British Columbia\, V2B 3G8\, Canada
CATEGORIES:Comedy
ATTACH;FMTTYPE=image/jpeg:https://effieartsco.ca/wp-content/uploads/2023/03/ATJ-Tour-Kamloops-06-01-23-EventBrite.jpg
END:VEVENT
BEGIN:VEVENT
DTSTART;TZID=America/Vancouver:20230607T200000
DTEND;TZID=America/Vancouver:20230607T220000
DTSTAMP:20260420T154955
CREATED:20230325T214743Z
LAST-MODIFIED:20250508T233611Z
UID:10000023-1686168000-1686175200@effieartsco.ca
SUMMARY:Kamloops Comedy Open Mic
DESCRIPTION:1/$10 General Admission\n\nFree for Performers & Eff Buddies\nDoors 7:30pm\nComedy 8-10pm\n16+\n\nKamloops Comedy Open Mic provides comedians with opportunities to get out in front of a crowd and work on their craft. It is a safe space for comedians (fans may be triggered) to get up and put it all out there.
URL:https://effieartsco.ca/event/kamloops-comedy-open-mic/2023-06-07/
LOCATION:The Effie\, 422 Tranquille Road\, Kamloops\, British Columbia\, V2B 3G8\, Canada
CATEGORIES:Comedy
ATTACH;FMTTYPE=image/jpeg:https://effieartsco.ca/wp-content/uploads/2023/01/Effie-Open-Mic.jpg
END:VEVENT
BEGIN:VEVENT
DTSTART;TZID=America/Vancouver:20230609T200000
DTEND;TZID=America/Vancouver:20230609T233000
DTSTAMP:20260420T154955
CREATED:20230328T065151Z
LAST-MODIFIED:20230517T055642Z
UID:10000301-1686340800-1686353400@effieartsco.ca
SUMMARY:Stubbs and The
DESCRIPTION:Stubbs and The are ever-enigmatic. The evolving nature of their name reflects the organic spontaneity of their sound. Rooted in Rossland\, BC\, this 5-piece first bloomed playing crowd-pleasing covers before transforming into their independent\, theatrical ori. \nFrom head banging to their Italian metal song Cannibali\, or ballroom dancing to Barb’s Waltz from their 10 part Odyssey of Barbara T.\, the crowds can’t help but join their wacky\, whimsical\, wingdings. \nWith Special Guest to be announced! \nAll Ages\nDoors 730pm Show 8pm \n$15 +fees \nTICKETS: https://www.eventbrite.ca/e/637070203127
URL:https://effieartsco.ca/event/stubbs-and-the/
LOCATION:The Effie\, 422 Tranquille Road\, Kamloops\, British Columbia\, V2B 3G8\, Canada
CATEGORIES:Music
ATTACH;FMTTYPE=image/png:https://effieartsco.ca/wp-content/uploads/2023/03/Screenshot-2023-05-16-at-22-50-11-Eventbrite-Edit-Stubbs-and-The-at-The-Effie-Kamloops-e1684302990742.png
END:VEVENT
BEGIN:VEVENT
DTSTART;TZID=America/Vancouver:20230621T200000
DTEND;TZID=America/Vancouver:20230621T220000
DTSTAMP:20260420T154955
CREATED:20230325T214743Z
LAST-MODIFIED:20250508T233611Z
UID:10000025-1687377600-1687384800@effieartsco.ca
SUMMARY:Kamloops Comedy Open Mic
DESCRIPTION:1/$10 General Admission\n\nFree for Performers & Eff Buddies\nDoors 7:30pm\nComedy 8-10pm\n16+\n\nKamloops Comedy Open Mic provides comedians with opportunities to get out in front of a crowd and work on their craft. It is a safe space for comedians (fans may be triggered) to get up and put it all out there.
URL:https://effieartsco.ca/event/kamloops-comedy-open-mic/2023-06-21/
LOCATION:The Effie\, 422 Tranquille Road\, Kamloops\, British Columbia\, V2B 3G8\, Canada
CATEGORIES:Comedy
ATTACH;FMTTYPE=image/jpeg:https://effieartsco.ca/wp-content/uploads/2023/01/Effie-Open-Mic.jpg
END:VEVENT
BEGIN:VEVENT
DTSTART;TZID=America/Vancouver:20230622T200000
DTEND;TZID=America/Vancouver:20230622T220000
DTSTAMP:20260420T154955
CREATED:20230517T060258Z
LAST-MODIFIED:20230517T060321Z
UID:10000311-1687464000-1687471200@effieartsco.ca
SUMMARY:You're Hired Comedy Tour Starring Abbas Wahab
DESCRIPTION:Stand-up comedian and social media sensation\, Abbas Wahab\, hits the road on a Canada-wide tour showcasing his new stand-up hour! \nAbbas Wahab is a prolific comedian and actor. He’s been a staple of Canadian comedy for nearly a decade\, a regular on CBC’s The Debaters\, and has been featured on Just For Laughs and Winnipeg Comedy Festivals. \nYou may know him from his viral online “job interview” series which parodies the hiring process of popular companies and careers. He’s back and ready to kick-off his second nation-wide tour with all new material! \nHosted by comedian Jordan Policicchio (One of Canada’s fastest-rising comedians. In a few short years\, he’s a club regular at Absolute Comedy\, The Corner Comedy Club and Comedy Bar and just got back from opening for Che Durena at the New York Comedy Club. His lightning-quick wit and dry delivery make him obnoxiously relatable\, with fans consistently saying\, “that’s so true.” \nDoors 7:30pm\nComedy 8pm\n$25 +fees \nTICKETS: https://www.eventbrite.ca/e/625940042517 \n 
URL:https://effieartsco.ca/event/youre-hired-comedy-tour-starring-abbas-wahab/
LOCATION:The Effie\, 422 Tranquille Road\, Kamloops\, British Columbia\, V2B 3G8\, Canada
CATEGORIES:Comedy
ATTACH;FMTTYPE=image/png:https://effieartsco.ca/wp-content/uploads/2023/05/Screenshot-2023-05-16-at-22-58-29-Eventbrite-Edit-Youre-Hired-Comedy-Tour-Starring-Abbas-Wahab-at-The-Effie-Kamloops.png
END:VEVENT
BEGIN:VEVENT
DTSTART;TZID=America/Vancouver:20230624T200000
DTEND;TZID=America/Vancouver:20230624T233000
DTSTAMP:20260420T154955
CREATED:20230517T014115Z
LAST-MODIFIED:20230517T045005Z
UID:10000309-1687636800-1687649400@effieartsco.ca
SUMMARY:6Cell Entertainment Presents Cody Lawless
DESCRIPTION:6Cell Entertainment is back in The Effie with the best Hip Hop shows in Kamloops with headliner Cody Lawless. \nCody Lawless is the indie-pop evolution of Mission\, BC singer/songwriter Cody James Henn\, formerly known as KNOWN. After touring North America and garnering over 30 million streams under his KNOWN. project\, Cody has transitioned from his previous sound\, to one that feels truer to his authentic self. \n6Cell Entertainment is a collective of local MCs\, mixers\, beatmakers\, and artists devoted to making a scene in Kamloops.  \nALL AGES\n7pm Doors 8pm Show\n$25 + fees \nTICKETS: https://www.eventbrite.ca/e/635649483717
URL:https://effieartsco.ca/event/6cell-entertainment-presents-cody-lawless/
LOCATION:The Effie\, 422 Tranquille Road\, Kamloops\, British Columbia\, V2B 3G8\, Canada
CATEGORIES:Music
ATTACH;FMTTYPE=image/png:https://effieartsco.ca/wp-content/uploads/2023/05/Screenshot-2023-05-16-at-21-49-16-Yellow-Red-Vintage-Retro-Indie-Music-Band-Music-Concert-Festival-Poster-CodyLawless_ShowPoster_June24.pdf.png
END:VEVENT
BEGIN:VEVENT
DTSTART;TZID=America/Vancouver:20230630T200000
DTEND;TZID=America/Vancouver:20230630T200000
DTSTAMP:20260420T154955
CREATED:20230620T033911Z
LAST-MODIFIED:20230620T035658Z
UID:10000324-1688155200-1688155200@effieartsco.ca
SUMMARY:Almost Canada Day Comedy At The Effie
DESCRIPTION:Join Ty Boissonault\, Kate Belton\, Daragh Turner\, Will Corry and Ernie Ware for a hilarious evening of laughs to kick start your long weekend \nDoors 7:30pm Comedy 8pm 16+event $20 +fees \nTICKETS: \nhttps://www.eventbrite.ca/e/651089284577
URL:https://effieartsco.ca/event/almost-canada-day-comedy-at-the-effie/
LOCATION:The Effie\, 422 Tranquille Road\, Kamloops\, British Columbia\, V2B 3G8\, Canada
CATEGORIES:Comedy
ATTACH;FMTTYPE=image/jpeg:https://effieartsco.ca/wp-content/uploads/2023/06/Website-Banner5.jpg
END:VEVENT
END:VCALENDAR