BEGIN:VCALENDAR
VERSION:2.0
PRODID:-//The Effie - ECPv6.15.20//NONSGML v1.0//EN
CALSCALE:GREGORIAN
METHOD:PUBLISH
X-ORIGINAL-URL:https://effieartsco.ca
X-WR-CALDESC:Events for The Effie
REFRESH-INTERVAL;VALUE=DURATION:PT1H
X-Robots-Tag:noindex
X-PUBLISHED-TTL:PT1H
BEGIN:VTIMEZONE
TZID:America/Vancouver
BEGIN:DAYLIGHT
TZOFFSETFROM:-0800
TZOFFSETTO:-0700
TZNAME:PDT
DTSTART:20230312T100000
END:DAYLIGHT
BEGIN:STANDARD
TZOFFSETFROM:-0700
TZOFFSETTO:-0800
TZNAME:PST
DTSTART:20231105T090000
END:STANDARD
BEGIN:DAYLIGHT
TZOFFSETFROM:-0800
TZOFFSETTO:-0700
TZNAME:PDT
DTSTART:20240310T100000
END:DAYLIGHT
BEGIN:STANDARD
TZOFFSETFROM:-0700
TZOFFSETTO:-0800
TZNAME:PST
DTSTART:20241103T090000
END:STANDARD
BEGIN:DAYLIGHT
TZOFFSETFROM:-0800
TZOFFSETTO:-0700
TZNAME:PDT
DTSTART:20250309T100000
END:DAYLIGHT
BEGIN:STANDARD
TZOFFSETFROM:-0700
TZOFFSETTO:-0800
TZNAME:PST
DTSTART:20251102T090000
END:STANDARD
END:VTIMEZONE
BEGIN:VEVENT
DTSTART;TZID=America/Vancouver:20240713T190000
DTEND;TZID=America/Vancouver:20240713T220000
DTSTAMP:20260420T020133
CREATED:20240704T005458Z
LAST-MODIFIED:20240704T035449Z
UID:10000577-1720897200-1720908000@effieartsco.ca
SUMMARY:Station2Station
DESCRIPTION:TICKET LINK: https://www.eventbrite.ca/e/station2station-tickets-940716387037 \nInspired by 10 David Bowie songs spanning 7 decades\, Station2Station (S2S) is a multimedia\, multidisciplinary spectacle of burlesque\, drag\, and performance art. \nS2S is a space where queer art collides with fascist movements\, where past collides with future\, where real collides with unreal\, and where the wall between performer and audience breaks us down. \nIs there a world where we can live together peacefully? Is it possible to overcome the division that plagues our time? Can we make it so?\nLET’S DANCE!!! \nDoors 6:30 \nShow 7pm \n$15+fees in advance \n$20 at the door \nPG (Adult Themes) \nMinors allowed accompanied by an adult \nTICKET LINK: https://www.eventbrite.ca/e/station2station-tickets-940716387037
URL:https://effieartsco.ca/event/station2station/
LOCATION:The Effie\, 422 Tranquille Road\, Kamloops\, British Columbia\, V2B 3G8\, Canada
CATEGORIES:Theatre
ATTACH;FMTTYPE=image/jpeg:https://effieartsco.ca/wp-content/uploads/2024/07/PlFRVhpj-e1720065240167.jpg
END:VEVENT
END:VCALENDAR