BEGIN:VCALENDAR
VERSION:2.0
PRODID:-//The Effie - ECPv6.15.20//NONSGML v1.0//EN
CALSCALE:GREGORIAN
METHOD:PUBLISH
X-ORIGINAL-URL:https://effieartsco.ca
X-WR-CALDESC:Events for The Effie
REFRESH-INTERVAL;VALUE=DURATION:PT1H
X-Robots-Tag:noindex
X-PUBLISHED-TTL:PT1H
BEGIN:VTIMEZONE
TZID:America/Vancouver
BEGIN:DAYLIGHT
TZOFFSETFROM:-0800
TZOFFSETTO:-0700
TZNAME:PDT
DTSTART:20240310T100000
END:DAYLIGHT
BEGIN:STANDARD
TZOFFSETFROM:-0700
TZOFFSETTO:-0800
TZNAME:PST
DTSTART:20241103T090000
END:STANDARD
BEGIN:DAYLIGHT
TZOFFSETFROM:-0800
TZOFFSETTO:-0700
TZNAME:PDT
DTSTART:20250309T100000
END:DAYLIGHT
BEGIN:STANDARD
TZOFFSETFROM:-0700
TZOFFSETTO:-0800
TZNAME:PST
DTSTART:20251102T090000
END:STANDARD
BEGIN:DAYLIGHT
TZOFFSETFROM:-0800
TZOFFSETTO:-0700
TZNAME:PDT
DTSTART:20260308T100000
END:DAYLIGHT
BEGIN:STANDARD
TZOFFSETFROM:-0700
TZOFFSETTO:-0800
TZNAME:PST
DTSTART:20261101T090000
END:STANDARD
END:VTIMEZONE
BEGIN:VEVENT
DTSTART;TZID=America/Vancouver:20250613T200000
DTEND;TZID=America/Vancouver:20250613T200000
DTSTAMP:20260420T003104
CREATED:20250608T030246Z
LAST-MODIFIED:20250608T030246Z
UID:10001383-1749844800-1749844800@effieartsco.ca
SUMMARY:Kamloops Pride Presents a STOPLIGHT PARTY
DESCRIPTION:TICKETS: https://checkout.square.site/merchant/MLST15T0531HG/checkout/45UBIXWQXTHOFLITCB2BHFM4 \n\nStoplight Party: A Queer Club Experience\n\n\nDate: Friday\, June 13 \nTime: 8:00pm Doors \nTickets: $15 plus fees \n\n\nHelp us celebrate Pride Month in style with killer beats and the infectious energy of The Effie. Don’t forget to grab a glow stick on your way in! \nWhether you identify as 2SLGBTQPIA+ or an ally\, this party is for everyone who believes in equality and inclusivity. Bring your friends! \n​DJ: Olivia Grace Productions \n  \n\nTICKETS: https://checkout.square.site/merchant/MLST15T0531HG/checkout/45UBIXWQXTHOFLITCB2BHFM4
URL:https://effieartsco.ca/event/kamloops-pride-presents-a-stoplight-party/
LOCATION:The Effie\, 422 Tranquille Road\, Kamloops\, British Columbia\, V2B 3G8\, Canada
CATEGORIES:Party
ATTACH;FMTTYPE=image/jpeg:https://effieartsco.ca/wp-content/uploads/2025/06/501616138_1027883636169569_6334065101980354194_n.jpg
END:VEVENT
END:VCALENDAR