BEGIN:VCALENDAR
VERSION:2.0
PRODID:-//The Effie - ECPv6.15.20//NONSGML v1.0//EN
CALSCALE:GREGORIAN
METHOD:PUBLISH
X-ORIGINAL-URL:https://effieartsco.ca
X-WR-CALDESC:Events for The Effie
REFRESH-INTERVAL;VALUE=DURATION:PT1H
X-Robots-Tag:noindex
X-PUBLISHED-TTL:PT1H
BEGIN:VTIMEZONE
TZID:America/Vancouver
BEGIN:DAYLIGHT
TZOFFSETFROM:-0800
TZOFFSETTO:-0700
TZNAME:PDT
DTSTART:20230312T100000
END:DAYLIGHT
BEGIN:STANDARD
TZOFFSETFROM:-0700
TZOFFSETTO:-0800
TZNAME:PST
DTSTART:20231105T090000
END:STANDARD
BEGIN:DAYLIGHT
TZOFFSETFROM:-0800
TZOFFSETTO:-0700
TZNAME:PDT
DTSTART:20240310T100000
END:DAYLIGHT
BEGIN:STANDARD
TZOFFSETFROM:-0700
TZOFFSETTO:-0800
TZNAME:PST
DTSTART:20241103T090000
END:STANDARD
BEGIN:DAYLIGHT
TZOFFSETFROM:-0800
TZOFFSETTO:-0700
TZNAME:PDT
DTSTART:20250309T100000
END:DAYLIGHT
BEGIN:STANDARD
TZOFFSETFROM:-0700
TZOFFSETTO:-0800
TZNAME:PST
DTSTART:20251102T090000
END:STANDARD
END:VTIMEZONE
BEGIN:VEVENT
DTSTART;TZID=America/Vancouver:20240323T190000
DTEND;TZID=America/Vancouver:20240323T220000
DTSTAMP:20260420T131502
CREATED:20240304T054859Z
LAST-MODIFIED:20240304T061115Z
UID:10000532-1711220400-1711231200@effieartsco.ca
SUMMARY:Flowshine with The Houses Where We Grew Up
DESCRIPTION:TICKETS: https://www.eventbrite.ca/e/849939420687 \nFlowshine with The Houses (WWGU) at The Effie – Kamloops\nDoors 630pm\nShow 7- 10pm \nMinors allowed accompained by an Adult\nLicensed Venue \nJoin us for a night of Flowshine with the incredible band The Houses (Where We Grew Up) and special guests Jade the Babe at The Effie Arts Collective in Kamloops! Get ready to groove to their amazing tunes and enjoy a fantastic live music experience. \nFlowshine has spent the last decade carving their own path a little left of centre. Their love of adventure\, experience\, and bringing people together with music has taken them from their home in Calgary to oft overlooked corners of the country. Their openness to experimentation and desire to make something wondrous has left their peers unsure of how to characterize their brand of hooky indie/alternative. Their songs demonstrate strong musicianship\, relatable storytelling\, and often feature musical guests lending their signature to the Flowshine whole. Guitarist and vocalist Jeremiah Erhardt has said\, “We want our music to be fun and emotive; we want people to jump in our canoe and let us guide them down the river\, showing them things they’ve never experienced.” \nThey have been cutting their teeth\, sharing stages with bands like Five Alarm Funk\, The Wooden Sky\, and Chilliwack. They have spent thousands of hours in a van and have performed in an eclectic and extensive list of pubs\, clubs\, campfires\, farm fields\, cafes\, basements\, community centres\, festival stages\, street corners\, and the like; from Dawson City\, Yukon to the heart of Halifax\, NS. \nThe Houses (Where We Grew Up) are timeless like lawn darts\, hopeless like -insert local sports club here- and heavenly like the roof of the Sistine Chapel\, riding out on a horse in a star-spangled rodeo like a rhinestone cowboy. \nWith interests ranging from the 2013 science fiction film Cowboys vs Aliens to Vanilla Ice (cream)\, their sound is described by some as definitely audible. And if there is one thing a cowboy knows\, it’s jazz. \nA drummer who hits the drums like he’s trying to kill all the bugs crawling on his kit and a guitarist who caresses his guitar like a man who’s never experienced the touch of a woman\, these two rad dudes are somehow both cool and rude at the same time. Amazing! \nHolding the title for the “Longest Rock Record by a Kamloops Duo”\, they are simplicity juxtaposed with chaos\, anarchy with balladry\, the quiet and the calamity\, the Rob and the Sean\, The Houses (Where We Grew Up). \nTICKETS: https://www.eventbrite.ca/e/849939420687
URL:https://effieartsco.ca/event/flowshine-with-the-houses-where-we-grew-up/
LOCATION:The Effie\, 422 Tranquille Road\, Kamloops\, British Columbia\, V2B 3G8\, Canada
CATEGORIES:Music
ATTACH;FMTTYPE=image/png:https://effieartsco.ca/wp-content/uploads/2024/03/Website-Banner-2160-x-1080-px.png
END:VEVENT
BEGIN:VEVENT
DTSTART;TZID=America/Vancouver:20240328T190000
DTEND;TZID=America/Vancouver:20240328T220000
DTSTAMP:20260420T131502
CREATED:20240304T062135Z
LAST-MODIFIED:20240304T062410Z
UID:10000533-1711652400-1711663200@effieartsco.ca
SUMMARY:Devon More SKY IS FALLING album release show KAMLOOPS
DESCRIPTION:TICKETS: https://devonmoremusic.com/live/mar28-kamloops \nthoughtful sonic musings & hypnotic live-looped tunes\nSongs\, behind-the-scenes stories\, and surprises!\nJoin me at this intimate concert for my favourite hometown followers to celebrate the release of my album – SKY IS FALLING. \n\n\n7:30pm Showtime \n\n\n7pm Doors \n\n\nStart your Easter long weekend by dropping in to let go of any woes you want to leave behind!  \n\n\nWhat to bring? \nYourself\, a friend (or make one there)\, and any agony you need transmuted by music. The Sky IS Falling\, but I’ll catch you. 🙂 \nADVANCE TICKETS ON SALE NOW!\n$25 in advance. \n$15 in advance for students\, fellow artists\, or broke folk (quantity limited). \n$30 at door. \nTICKETS: https://devonmoremusic.com/live/mar28-kamloops
URL:https://effieartsco.ca/event/devon-more-sky-is-falling-album-release-show-kamloops/
LOCATION:The Effie\, 422 Tranquille Road\, Kamloops\, British Columbia\, V2B 3G8\, Canada
CATEGORIES:Music
ATTACH;FMTTYPE=image/jpeg:https://effieartsco.ca/wp-content/uploads/2024/03/428656943_875729424558126_5620365491689508501_n.jpg
END:VEVENT
END:VCALENDAR