BEGIN:VCALENDAR
VERSION:2.0
PRODID:-//The Effie - ECPv6.15.20//NONSGML v1.0//EN
CALSCALE:GREGORIAN
METHOD:PUBLISH
X-ORIGINAL-URL:https://effieartsco.ca
X-WR-CALDESC:Events for The Effie
REFRESH-INTERVAL;VALUE=DURATION:PT1H
X-Robots-Tag:noindex
X-PUBLISHED-TTL:PT1H
BEGIN:VTIMEZONE
TZID:America/Vancouver
BEGIN:DAYLIGHT
TZOFFSETFROM:-0800
TZOFFSETTO:-0700
TZNAME:PDT
DTSTART:20220313T100000
END:DAYLIGHT
BEGIN:STANDARD
TZOFFSETFROM:-0700
TZOFFSETTO:-0800
TZNAME:PST
DTSTART:20221106T090000
END:STANDARD
BEGIN:DAYLIGHT
TZOFFSETFROM:-0800
TZOFFSETTO:-0700
TZNAME:PDT
DTSTART:20230312T100000
END:DAYLIGHT
BEGIN:STANDARD
TZOFFSETFROM:-0700
TZOFFSETTO:-0800
TZNAME:PST
DTSTART:20231105T090000
END:STANDARD
BEGIN:DAYLIGHT
TZOFFSETFROM:-0800
TZOFFSETTO:-0700
TZNAME:PDT
DTSTART:20240310T100000
END:DAYLIGHT
BEGIN:STANDARD
TZOFFSETFROM:-0700
TZOFFSETTO:-0800
TZNAME:PST
DTSTART:20241103T090000
END:STANDARD
END:VTIMEZONE
BEGIN:VEVENT
DTSTART;TZID=America/Vancouver:20230507T160000
DTEND;TZID=America/Vancouver:20230507T180000
DTSTAMP:20260422T171410
CREATED:20230507T195715Z
LAST-MODIFIED:20230507T195802Z
UID:10000307-1683475200-1683482400@effieartsco.ca
SUMMARY:Sunday Coffee House
DESCRIPTION:Open Mic 4 – 5pm (sign up at 3:30)\nConcert featuring Moranz & Fremlin 5 – 6pm\n\n\n$20 General Admission\n$5 Senior/Student Discount available\nTickets sold at the door
URL:https://effieartsco.ca/event/sunday-coffee-house/
LOCATION:The Effie\, 422 Tranquille Road\, Kamloops\, British Columbia\, V2B 3G8\, Canada
CATEGORIES:Music
ATTACH;FMTTYPE=image/jpeg:https://effieartsco.ca/wp-content/uploads/2023/05/coffee-house-e1683489423305.jpg
END:VEVENT
BEGIN:VEVENT
DTSTART;TZID=America/Vancouver:20230511T190000
DTEND;TZID=America/Vancouver:20230511T190000
DTSTAMP:20260422T171410
CREATED:20230326T234009Z
LAST-MODIFIED:20230326T234550Z
UID:10000280-1683831600-1683831600@effieartsco.ca
SUMMARY:SÉAN McCANN SINGS THE GREAT BIG SONG BOOK (SOLD OUT)
DESCRIPTION:SOLD OUT\n\nDoors 6:30 Music 7:00pm\nAll-Ages Licensed Event \n  \n\n2023 marks the XXX anniversary of one of Canada’s favourite bands and founding member Séan McCann will be celebrating the legend & the legacy right across the country. Singalong with “The Shantyman” as he sails us back in time through hilarious stories and foot stomping traditional favourites to the brighter bays of his native Newfoundland. This is the only “tribute show” you need to see this decade and a nostalgic tip of the hat to the shared history of a truly iconic Canadian band.
URL:https://effieartsco.ca/event/sean-mccann-sings-the-great-big-song-book-sold-out/
LOCATION:The Effie\, 422 Tranquille Road\, Kamloops\, British Columbia\, V2B 3G8\, Canada
CATEGORIES:Music
ATTACH;FMTTYPE=image/jpeg:https://effieartsco.ca/wp-content/uploads/2023/03/Website-Banner.jpg
END:VEVENT
BEGIN:VEVENT
DTSTART;TZID=America/Vancouver:20230519T203000
DTEND;TZID=America/Vancouver:20230519T233000
DTSTAMP:20260422T171410
CREATED:20230422T055507Z
LAST-MODIFIED:20230517T061145Z
UID:10000306-1684528200-1684539000@effieartsco.ca
SUMMARY:SPENDO & THE VIDOS LIVE AT THE EFFIE
DESCRIPTION:Two of Vancouver’s most popular upcoming bands SPENDO & THE VIDOS team up for a diverse night of rock n roll  \nDOORS 7PM \nTOMMY CARSON 730 \nTHE VIDOS 830 \nSPENDO 945 \nSPENDO\nBased out of Vancouver BC\, Spendo is made up of five like-hearted\, experienced multi-instrumentalists. Sharing a love for modern & classic rock\, they exude a 1970’s California vibe\, drawing inspiration from and paying respect to the music of that timeless era. \nIn 2022\, Spendo ventured into “The Great Unknown”\, turning heads with their well-received single “Fighter\,” followed recently by their second single “Easy to Lie”\, both of which were recorded with legendary Canadian producer Danny Craig (Default\, One Bad Son) who also produced their second EP “The Great Unknown” released March 11th 2023. \nThe band’s powerful live performance has led them to many sold out hometown shows. They’ve also landed on some big stages\, rubbing elbows with Canadian Rock Royalty (PRISM\, 54-40\, and Daniel Wesley). They were also crowned “Best In Vancouver” 2022. These five fine gentlemen have been itching to show the world what they’re capable of\, and their long and fruitful journey is only just beginning. \n“I believe they have what it takes to get to the next level. They are great people\, they have a kick ass show and I believe they’re going places.” -Mike Fraser AC/DC\, AEROSMITH \n“If you are looking for a band that rocks hard – That plays laid back funky grooves as well as heavy blues based grooves – with killer harmonies-\, this is the band for you !! The world is in need of a band like Spendo !!!” -Danny Miranda BLUE OYSTER CULT \nTHE VIDOS\nThe Vidos (rhymes with “Speedos”) are three gringos from British Columbia\, Canada with an affinity for pop hooks\, creative drumming\, and stacked harmonies — and fuzz on all of ‘em. They started making music together in high school\, cracking the Top 40 in Canadian Active Rock with their songs “Car Trouble” and “Perfect Stranger”. \nAlongside longtime producer Danny Craig\, The Vidos have arrived at a sound playfully described as “sludge pop” and look forward to releasing a collection of brand new material fitting that description in 2023. \nPrior to March 2020\, the boys had toured the country nine times in the span of 3 and a half years\, including a “hellish” 7-month stint living on their tour bus in Toronto in an effort to demolish their comfort zone and perform on a nightly basis. Known for their witty lyrics and onstage banter\, The Vidos have gradually cultivated their live show into an immersive\, genre-bending\, fourth-wall-shattering performance and have become one of Canada’s most promising and unpredictable groups in the process. \nTheir debut record “Right in the Kisser!” is out everywhere now! \nTICKETS:  https://www.eventbrite.com/e/spendo-the-vidos-live-at-the-effie-arts-collective-tickets-612563693497
URL:https://effieartsco.ca/event/spendo-the-vidos-live-at-the-effie/
LOCATION:The Effie\, 422 Tranquille Road\, Kamloops\, British Columbia\, V2B 3G8\, Canada
CATEGORIES:Music
ATTACH;FMTTYPE=image/jpeg:https://effieartsco.ca/wp-content/uploads/2023/04/IMG_7262.jpeg
END:VEVENT
BEGIN:VEVENT
DTSTART;TZID=America/Vancouver:20230526T200000
DTEND;TZID=America/Vancouver:20230526T233000
DTSTAMP:20260422T171410
CREATED:20230517T054747Z
LAST-MODIFIED:20230517T060507Z
UID:10000310-1685131200-1685143800@effieartsco.ca
SUMMARY:Nomad with Padova and Burn It All
DESCRIPTION:NOMAD comes to Kamloops to rock with local thrashers PADOVA and metalheads BURN IT ALL \nALL AGES METAL SHOW\nDOORS 7:30pm SHOW 8:00pm \n$15+fees \nTICKETS:  https://www.eventbrite.ca/e/634498511127
URL:https://effieartsco.ca/event/nomad-with-padova-and-burn-it-all/
LOCATION:The Effie\, 422 Tranquille Road\, Kamloops\, British Columbia\, V2B 3G8\, Canada
CATEGORIES:Music
ATTACH;FMTTYPE=image/jpeg:https://effieartsco.ca/wp-content/uploads/2023/05/Eventbrite-2160-x-1080-px.jpg
END:VEVENT
END:VCALENDAR