BEGIN:VCALENDAR
VERSION:2.0
PRODID:-//The Effie - ECPv6.15.20//NONSGML v1.0//EN
CALSCALE:GREGORIAN
METHOD:PUBLISH
X-ORIGINAL-URL:https://effieartsco.ca
X-WR-CALDESC:Events for The Effie
REFRESH-INTERVAL;VALUE=DURATION:PT1H
X-Robots-Tag:noindex
X-PUBLISHED-TTL:PT1H
BEGIN:VTIMEZONE
TZID:America/Vancouver
BEGIN:DAYLIGHT
TZOFFSETFROM:-0800
TZOFFSETTO:-0700
TZNAME:PDT
DTSTART:20240310T100000
END:DAYLIGHT
BEGIN:STANDARD
TZOFFSETFROM:-0700
TZOFFSETTO:-0800
TZNAME:PST
DTSTART:20241103T090000
END:STANDARD
BEGIN:DAYLIGHT
TZOFFSETFROM:-0800
TZOFFSETTO:-0700
TZNAME:PDT
DTSTART:20250309T100000
END:DAYLIGHT
BEGIN:STANDARD
TZOFFSETFROM:-0700
TZOFFSETTO:-0800
TZNAME:PST
DTSTART:20251102T090000
END:STANDARD
BEGIN:DAYLIGHT
TZOFFSETFROM:-0800
TZOFFSETTO:-0700
TZNAME:PDT
DTSTART:20260308T100000
END:DAYLIGHT
BEGIN:STANDARD
TZOFFSETFROM:-0700
TZOFFSETTO:-0800
TZNAME:PST
DTSTART:20261101T090000
END:STANDARD
END:VTIMEZONE
BEGIN:VEVENT
DTSTART;TZID=America/Vancouver:20251023T190000
DTEND;TZID=America/Vancouver:20251023T220000
DTSTAMP:20260420T045351
CREATED:20251002T032634Z
LAST-MODIFIED:20251007T053258Z
UID:10001430-1761246000-1761256800@effieartsco.ca
SUMMARY:Chimera Theatre Presents The Freudian Slips DnD Improv
DESCRIPTION:TICKETS: https://app.ticketowl.io/aCS6dbYjvdJ0dlx3/event/aLHv-dIdrQozb3xR \nMinors Allowed Accompanied by an Adult \nNo Dungeon & Dragons knowledge required\, but a love of fantasy and comedy is welcomed!\nThe Slips will be performing an improvised adventure with our giant 20 sided die and master behind the screen. What will adventure contain? Who will be the hero? Find out with the rest of us!\nThe Freudian Slips are the hottest Improvised Comedy Troupe in Kamloops! Bringing monthly improv shows to the city in four distinct improv styles\, no matter what form they take you are guaranteed a night of hilarity. Expect some new and familiar faces and the same side-splitting humour you’ve come to know since 2015.\nChimera Members are able to buy TWO tickets at Chimera Member Pricing (a savings of ten bucks!). Chimera Memberships are valid for one year. Don’t have a Chimera membership? Purchase one with your tickets at the checkout to get membership pricing on two tickets.\n422 Tranquille Rd\, Kamloops\nDoors 6:30pm; Show 7:00pm \nTICKETS: https://app.ticketowl.io/aCS6dbYjvdJ0dlx3/event/aLHv-dIdrQozb3xR
URL:https://effieartsco.ca/event/chimera-theatre-presents-the-freudian-slips-dnd-improv-3/
LOCATION:The Effie\, 422 Tranquille Road\, Kamloops\, British Columbia\, V2B 3G8\, Canada
CATEGORIES:Improv
ATTACH;FMTTYPE=image/png:https://effieartsco.ca/wp-content/uploads/2025/06/Effie-Presents-Facebook-Cover6.png
END:VEVENT
END:VCALENDAR