BEGIN:VCALENDAR
VERSION:2.0
PRODID:-//The Effie - ECPv6.15.20//NONSGML v1.0//EN
CALSCALE:GREGORIAN
METHOD:PUBLISH
X-WR-CALNAME:The Effie
X-ORIGINAL-URL:https://effieartsco.ca
X-WR-CALDESC:Events for The Effie
REFRESH-INTERVAL;VALUE=DURATION:PT1H
X-Robots-Tag:noindex
X-PUBLISHED-TTL:PT1H
BEGIN:VTIMEZONE
TZID:America/Vancouver
BEGIN:DAYLIGHT
TZOFFSETFROM:-0800
TZOFFSETTO:-0700
TZNAME:PDT
DTSTART:20240310T100000
END:DAYLIGHT
BEGIN:STANDARD
TZOFFSETFROM:-0700
TZOFFSETTO:-0800
TZNAME:PST
DTSTART:20241103T090000
END:STANDARD
BEGIN:DAYLIGHT
TZOFFSETFROM:-0800
TZOFFSETTO:-0700
TZNAME:PDT
DTSTART:20250309T100000
END:DAYLIGHT
BEGIN:STANDARD
TZOFFSETFROM:-0700
TZOFFSETTO:-0800
TZNAME:PST
DTSTART:20251102T090000
END:STANDARD
BEGIN:DAYLIGHT
TZOFFSETFROM:-0800
TZOFFSETTO:-0700
TZNAME:PDT
DTSTART:20260308T100000
END:DAYLIGHT
BEGIN:STANDARD
TZOFFSETFROM:-0700
TZOFFSETTO:-0800
TZNAME:PST
DTSTART:20261101T090000
END:STANDARD
END:VTIMEZONE
BEGIN:VEVENT
DTSTART;TZID=America/Vancouver:20250607T190000
DTEND;TZID=America/Vancouver:20250607T220000
DTSTAMP:20260420T124106
CREATED:20250601T235934Z
LAST-MODIFIED:20250601T235934Z
UID:10001381-1749322800-1749333600@effieartsco.ca
SUMMARY:Chimera Theatre's The Freudian Slips presenting TOO DAMN HOT IMPROV
DESCRIPTION:TICKETS: https://app.ticketowl.io/aCS6dbYjvdJ0dlx3/event/aDy0A9lx-sIGXxlq \nDoors 6:30pm Show 7:00pm Minors Allowed Accompanied by an Adult \nKamloops Top Improv Troupe is kicking off the summer and already it’s Too Damn Hot! Featuring short improv skits and games (remember Whose Line Is It Anyway?) with the audience’s suggestions\, Use your Chimera Membership to save money on tickets! There is a 15 minute intermission.
URL:https://effieartsco.ca/event/chimera-theatres-the-freudian-slips-presenting-too-damn-hot-improv/
LOCATION:The Effie\, 422 Tranquille Road\, Kamloops\, British Columbia\, V2B 3G8\, Canada
CATEGORIES:Improv
ATTACH;FMTTYPE=image/jpeg:https://effieartsco.ca/wp-content/uploads/2025/06/f-A8qFk1.jpg
END:VEVENT
END:VCALENDAR