BEGIN:VCALENDAR
VERSION:2.0
PRODID:-//The Effie - ECPv6.15.20//NONSGML v1.0//EN
CALSCALE:GREGORIAN
METHOD:PUBLISH
X-WR-CALNAME:The Effie
X-ORIGINAL-URL:https://effieartsco.ca
X-WR-CALDESC:Events for The Effie
REFRESH-INTERVAL;VALUE=DURATION:PT1H
X-Robots-Tag:noindex
X-PUBLISHED-TTL:PT1H
BEGIN:VTIMEZONE
TZID:America/Vancouver
BEGIN:DAYLIGHT
TZOFFSETFROM:-0800
TZOFFSETTO:-0700
TZNAME:PDT
DTSTART:20240310T100000
END:DAYLIGHT
BEGIN:STANDARD
TZOFFSETFROM:-0700
TZOFFSETTO:-0800
TZNAME:PST
DTSTART:20241103T090000
END:STANDARD
BEGIN:DAYLIGHT
TZOFFSETFROM:-0800
TZOFFSETTO:-0700
TZNAME:PDT
DTSTART:20250309T100000
END:DAYLIGHT
BEGIN:STANDARD
TZOFFSETFROM:-0700
TZOFFSETTO:-0800
TZNAME:PST
DTSTART:20251102T090000
END:STANDARD
BEGIN:DAYLIGHT
TZOFFSETFROM:-0800
TZOFFSETTO:-0700
TZNAME:PDT
DTSTART:20260308T100000
END:DAYLIGHT
BEGIN:STANDARD
TZOFFSETFROM:-0700
TZOFFSETTO:-0800
TZNAME:PST
DTSTART:20261101T090000
END:STANDARD
END:VTIMEZONE
BEGIN:VEVENT
DTSTART;TZID=America/Vancouver:20250502T190000
DTEND;TZID=America/Vancouver:20250502T220000
DTSTAMP:20260420T173039
CREATED:20250426T064051Z
LAST-MODIFIED:20250426T064051Z
UID:10001256-1746212400-1746223200@effieartsco.ca
SUMMARY:Freudian Slips Short Form Improv
DESCRIPTION:Tickets: https://www.eventbrite.ca/e/1339394016559 \nKamloops Favourite Improv Troupe is back with their regular Short Form Improv show! Full of short games and long laughs! Bring your ideas and see them come to life! \nMinors allowed accompanied by an adult. \nDoors 6:30pm Show 7:00pm
URL:https://effieartsco.ca/event/freudian-slips-short-form-improv/
LOCATION:The Effie\, 422 Tranquille Road\, Kamloops\, British Columbia\, V2B 3G8\, Canada
CATEGORIES:Improv
ATTACH;FMTTYPE=image/png:https://effieartsco.ca/wp-content/uploads/2025/04/14333187_953018648139803_6418635407161751138_n.png
ORGANIZER;CN="Chimera Theatre":MAILTO:info@chimeratheatre.com ﻿
END:VEVENT
END:VCALENDAR