BEGIN:VCALENDAR
VERSION:2.0
PRODID:-//The Effie - ECPv6.15.20//NONSGML v1.0//EN
CALSCALE:GREGORIAN
METHOD:PUBLISH
X-ORIGINAL-URL:https://effieartsco.ca
X-WR-CALDESC:Events for The Effie
REFRESH-INTERVAL;VALUE=DURATION:PT1H
X-Robots-Tag:noindex
X-PUBLISHED-TTL:PT1H
BEGIN:VTIMEZONE
TZID:America/Vancouver
BEGIN:DAYLIGHT
TZOFFSETFROM:-0800
TZOFFSETTO:-0700
TZNAME:PDT
DTSTART:20240310T100000
END:DAYLIGHT
BEGIN:STANDARD
TZOFFSETFROM:-0700
TZOFFSETTO:-0800
TZNAME:PST
DTSTART:20241103T090000
END:STANDARD
BEGIN:DAYLIGHT
TZOFFSETFROM:-0800
TZOFFSETTO:-0700
TZNAME:PDT
DTSTART:20250309T100000
END:DAYLIGHT
BEGIN:STANDARD
TZOFFSETFROM:-0700
TZOFFSETTO:-0800
TZNAME:PST
DTSTART:20251102T090000
END:STANDARD
BEGIN:DAYLIGHT
TZOFFSETFROM:-0800
TZOFFSETTO:-0700
TZNAME:PDT
DTSTART:20260308T100000
END:DAYLIGHT
BEGIN:STANDARD
TZOFFSETFROM:-0700
TZOFFSETTO:-0800
TZNAME:PST
DTSTART:20261101T090000
END:STANDARD
END:VTIMEZONE
BEGIN:VEVENT
DTSTART;TZID=America/Vancouver:20250307T190000
DTEND;TZID=America/Vancouver:20250307T220000
DTSTAMP:20260420T204427
CREATED:20250303T045332Z
LAST-MODIFIED:20250303T045332Z
UID:10001243-1741374000-1741384800@effieartsco.ca
SUMMARY:Freudian Slips Vampire Short Form Improv
DESCRIPTION:TICKETS: https://www.eventbrite.ca/e/1256232307649 \nJoin the Freudian Slips for a night of Short Form Improv featuring – Vampires! Wear your goth garb and get ready to guffaw!\nYou can also watch the Slips from the comfort of the VIP table!\nChimera Theatre Society members can reserve a table at no additional cost!\nDoors open at 6:30pm\, and the show begins at 7:00!\nThere is a 15 minute intermission \nTICKETS: https://www.eventbrite.ca/e/1256232307649
URL:https://effieartsco.ca/event/freudian-slips-vampire-short-form-improv/
LOCATION:The Effie\, 422 Tranquille Road\, Kamloops\, British Columbia\, V2B 3G8\, Canada
CATEGORIES:Improv
ATTACH;FMTTYPE=image/jpeg:https://effieartsco.ca/wp-content/uploads/2025/03/480767555_1192117112760213_1971591746669044905_n.jpg
END:VEVENT
END:VCALENDAR