BEGIN:VCALENDAR
VERSION:2.0
PRODID:-//The Effie - ECPv6.15.20//NONSGML v1.0//EN
CALSCALE:GREGORIAN
METHOD:PUBLISH
X-WR-CALNAME:The Effie
X-ORIGINAL-URL:https://effieartsco.ca
X-WR-CALDESC:Events for The Effie
REFRESH-INTERVAL;VALUE=DURATION:PT1H
X-Robots-Tag:noindex
X-PUBLISHED-TTL:PT1H
BEGIN:VTIMEZONE
TZID:America/Vancouver
BEGIN:DAYLIGHT
TZOFFSETFROM:-0800
TZOFFSETTO:-0700
TZNAME:PDT
DTSTART:20230312T100000
END:DAYLIGHT
BEGIN:STANDARD
TZOFFSETFROM:-0700
TZOFFSETTO:-0800
TZNAME:PST
DTSTART:20231105T090000
END:STANDARD
BEGIN:DAYLIGHT
TZOFFSETFROM:-0800
TZOFFSETTO:-0700
TZNAME:PDT
DTSTART:20240310T100000
END:DAYLIGHT
BEGIN:STANDARD
TZOFFSETFROM:-0700
TZOFFSETTO:-0800
TZNAME:PST
DTSTART:20241103T090000
END:STANDARD
BEGIN:DAYLIGHT
TZOFFSETFROM:-0800
TZOFFSETTO:-0700
TZNAME:PDT
DTSTART:20250309T100000
END:DAYLIGHT
BEGIN:STANDARD
TZOFFSETFROM:-0700
TZOFFSETTO:-0800
TZNAME:PST
DTSTART:20251102T090000
END:STANDARD
END:VTIMEZONE
BEGIN:VEVENT
DTSTART;TZID=America/Vancouver:20240601T200000
DTEND;TZID=America/Vancouver:20240601T200000
DTSTAMP:20260421T203223
CREATED:20240509T044805Z
LAST-MODIFIED:20240528T235827Z
UID:10000569-1717272000-1717272000@effieartsco.ca
SUMMARY:Freudian Slips
DESCRIPTION:TICKETS: https://www.eventbrite.ca/e/the-freudian-slips-improv-presents-viking-spon-tag-tickets-914792116847\n\n\n\n  \nThe Freudian Slips’ journey through time continues! Join the us in your finest Viking attire for a game of Spoon Tag! \nLet us take you on a series of short-form improv adventures\, with a Viking theme\, all while trying not to be the last person holding the spoon. \nIt’s a lot to hold onto at once! Which is why we brought a spoon. \nYou can also watch the Slips spoon each other from the comfort of the VIP table! \nChimera Theatre Society members can reserve a table at no additional cost! \nDoors open at 7:30pm\, and the show begins at 8:00! \nPlease be advised\, the show is estimated to end at 10pm\, and patrons under 19 must leave the venue promptly at 10:00. \n\nGeneral Admission $25 +fees\n\n\n\n\n\n\n\n\nCA$27.96\nincl. CA$2.96 Eventbrite Fee\n\n\n\n\n\n\nChimera Member Pricing $15 +fees\n\n\n\n\n\n\n\n\n\n\n\nCA$17.31\nincl. CA$2.31  Eventbrite Fee\n\n\n\n 
URL:https://effieartsco.ca/event/freudian-slips/
LOCATION:The Effie\, 422 Tranquille Road\, Kamloops\, British Columbia\, V2B 3G8\, Canada
CATEGORIES:Improv
ATTACH;FMTTYPE=image/jpeg:https://effieartsco.ca/wp-content/uploads/2023/03/Website-Banner4.jpg
END:VEVENT
END:VCALENDAR