BEGIN:VCALENDAR
VERSION:2.0
PRODID:-//The Effie - ECPv6.15.20//NONSGML v1.0//EN
CALSCALE:GREGORIAN
METHOD:PUBLISH
X-WR-CALNAME:The Effie
X-ORIGINAL-URL:https://effieartsco.ca
X-WR-CALDESC:Events for The Effie
REFRESH-INTERVAL;VALUE=DURATION:PT1H
X-Robots-Tag:noindex
X-PUBLISHED-TTL:PT1H
BEGIN:VTIMEZONE
TZID:America/Vancouver
BEGIN:DAYLIGHT
TZOFFSETFROM:-0800
TZOFFSETTO:-0700
TZNAME:PDT
DTSTART:20230312T100000
END:DAYLIGHT
BEGIN:STANDARD
TZOFFSETFROM:-0700
TZOFFSETTO:-0800
TZNAME:PST
DTSTART:20231105T090000
END:STANDARD
BEGIN:DAYLIGHT
TZOFFSETFROM:-0800
TZOFFSETTO:-0700
TZNAME:PDT
DTSTART:20240310T100000
END:DAYLIGHT
BEGIN:STANDARD
TZOFFSETFROM:-0700
TZOFFSETTO:-0800
TZNAME:PST
DTSTART:20241103T090000
END:STANDARD
BEGIN:DAYLIGHT
TZOFFSETFROM:-0800
TZOFFSETTO:-0700
TZNAME:PDT
DTSTART:20250309T100000
END:DAYLIGHT
BEGIN:STANDARD
TZOFFSETFROM:-0700
TZOFFSETTO:-0800
TZNAME:PST
DTSTART:20251102T090000
END:STANDARD
END:VTIMEZONE
BEGIN:VEVENT
DTSTART;TZID=America/Vancouver:20241102T200000
DTEND;TZID=America/Vancouver:20241102T200000
DTSTAMP:20260421T092305
CREATED:20241101T013732Z
LAST-MODIFIED:20241101T013732Z
UID:10001139-1730577600-1730577600@effieartsco.ca
SUMMARY:Halloween Hangover Improv
DESCRIPTION:Join the Freudian Slips for a sugar-crash special. We’ll be performing a half-and-half improv show\, with short form jocular games in the first half and a longer-form story-based hyphenated-words improv in the second half.\nMore than that! We’re doing something very special for those of you that are improv-curious: Pay-What-You-Think tickets!\nIn a Kamloops first (I think?) we’ll be doing a show that you can come see and then tell us what you thought with variable ticket pricing. We hope this can make it more economically accessible to laugh along with us\, and idk sometimes I see like a movie and I think “wow that wasn’t worth $20 and two hours” and I hate that feeling.
URL:https://effieartsco.ca/event/halloween-hangover-improv/
LOCATION:The Effie\, 422 Tranquille Road\, Kamloops\, British Columbia\, V2B 3G8\, Canada
CATEGORIES:Improv
ATTACH;FMTTYPE=image/jpeg:https://effieartsco.ca/wp-content/uploads/2024/10/464787332_1099663965338862_5616982367667868714_n.jpg
END:VEVENT
BEGIN:VEVENT
DTSTART;TZID=America/Vancouver:20241121T200000
DTEND;TZID=America/Vancouver:20241121T200000
DTSTAMP:20260421T092305
CREATED:20231105T031846Z
LAST-MODIFIED:20241117T033803Z
UID:10000385-1732219200-1732219200@effieartsco.ca
SUMMARY:EVENT POSTPONED TIL DECEMBER 19TH
DESCRIPTION:EVENT POSTPONED TIL DECEMBER 19TH \n\n\nNo Dungeon & Dragons knowledge required\, but a love of fantasy and comedy is welcomed! \nThe Slips will be performing an improvised adventure with our giant 20 sided die and master behind the screen. What will adventure contain? Who will be the hero? Find out with the rest of us! \nThe Freudian Slips are the hottest Improvised Comedy Troupe in Kamloops! Bringing monthly improv shows to the city in four distinct improv styles\, no matter what form they take you are guaranteed a night of hilarity. Expect some new and familiar faces and the same side-splitting humour you’ve come to know since 2015. \nChimera Members are able to buy TWO tickets at Chimera Member Pricing (a savings of ten bucks!). Chimera Memberships are valid for one year. Don’t have a Chimera membership? Purchase one with your tickets at the checkout to get membership pricing on two tickets. \n422 Tranquille Rd\, Kamloops \nDoors 7:30pm; Show 8:00pm \nTickets $25 + eventbrite fees ( No fees if you buy in person at the Effie!) \nEVENT POSTPONED TIL DECEMBER 19TH
URL:https://effieartsco.ca/event/the-freudian-slips-dungeons-and-dragons-improv-12/
LOCATION:The Effie\, 422 Tranquille Road\, Kamloops\, British Columbia\, V2B 3G8\, Canada
CATEGORIES:Improv
ATTACH;FMTTYPE=image/jpeg:https://effieartsco.ca/wp-content/uploads/2023/01/The-Freudian-Slips-Dungeons-and-Dragons-Improv.jpg
ORGANIZER;CN="Chimera Theatre":MAILTO:info@chimeratheatre.com ﻿
END:VEVENT
END:VCALENDAR