BEGIN:VCALENDAR
VERSION:2.0
PRODID:-//The Effie - ECPv6.15.20//NONSGML v1.0//EN
CALSCALE:GREGORIAN
METHOD:PUBLISH
X-ORIGINAL-URL:https://effieartsco.ca
X-WR-CALDESC:Events for The Effie
REFRESH-INTERVAL;VALUE=DURATION:PT1H
X-Robots-Tag:noindex
X-PUBLISHED-TTL:PT1H
BEGIN:VTIMEZONE
TZID:America/Vancouver
BEGIN:DAYLIGHT
TZOFFSETFROM:-0800
TZOFFSETTO:-0700
TZNAME:PDT
DTSTART:20220313T100000
END:DAYLIGHT
BEGIN:STANDARD
TZOFFSETFROM:-0700
TZOFFSETTO:-0800
TZNAME:PST
DTSTART:20221106T090000
END:STANDARD
BEGIN:DAYLIGHT
TZOFFSETFROM:-0800
TZOFFSETTO:-0700
TZNAME:PDT
DTSTART:20230312T100000
END:DAYLIGHT
BEGIN:STANDARD
TZOFFSETFROM:-0700
TZOFFSETTO:-0800
TZNAME:PST
DTSTART:20231105T090000
END:STANDARD
BEGIN:DAYLIGHT
TZOFFSETFROM:-0800
TZOFFSETTO:-0700
TZNAME:PDT
DTSTART:20240310T100000
END:DAYLIGHT
BEGIN:STANDARD
TZOFFSETFROM:-0700
TZOFFSETTO:-0800
TZNAME:PST
DTSTART:20241103T090000
END:STANDARD
END:VTIMEZONE
BEGIN:VEVENT
DTSTART;TZID=America/Vancouver:20231104T200000
DTEND;TZID=America/Vancouver:20231104T230000
DTSTAMP:20260422T124139
CREATED:20231024T210832Z
LAST-MODIFIED:20231024T210917Z
UID:10000371-1699128000-1699138800@effieartsco.ca
SUMMARY:The Freudian Slips Improv presents: The Last Day of Pompeii
DESCRIPTION:TICKETS: https://www.eventbrite.ca/e/740229144297 \nThe Freudian Slips’ journey through time continues with the destruction of Pompeii and Herculaneum.\nWhat\, too soon?\n\nLet us take you on a series of short-form improv adventures\, themed around the eruption of Mount Vesuvius\, which means the third show of our history-themed season will be a game of The Floor is Lava!\nYou can watch the Slips scramble for survival in the face of an apocalyptic disaster from the comfort of the VIP table.\nChimera Theatre members can reserve a table at no additional cost!\n\nGeneral Admission $25 + eventbrite fees\nChimera Member Pricing $15 +eventbrite fees\nTICKETS: https://www.eventbrite.ca/e/740229144297\n(No fees on tickets purchased in person at The Effie)\nDoors open at 7:30pm\, and the show begins at 8:00!\nThis show is recommended for ages 16+\nPlease be advised\, alcohol will not be served at this event.
URL:https://effieartsco.ca/event/the-freudian-slips-improv-presents-the-last-day-of-pompeii/
LOCATION:The Effie\, 422 Tranquille Road\, Kamloops\, British Columbia\, V2B 3G8\, Canada
CATEGORIES:Improv
ATTACH;FMTTYPE=image/jpeg:https://effieartsco.ca/wp-content/uploads/2023/10/fs-last-day-of-pomeii.jpg
ORGANIZER;CN="Chimera Theatre":MAILTO:info@chimeratheatre.com ﻿
END:VEVENT
BEGIN:VEVENT
DTSTART;TZID=America/Vancouver:20231116T200000
DTEND;TZID=America/Vancouver:20231116T230000
DTSTAMP:20260422T124139
CREATED:20231024T211904Z
LAST-MODIFIED:20231028T014332Z
UID:10000372-1700164800-1700175600@effieartsco.ca
SUMMARY:The Freudian Slips present: Dungeons & Dragons Improv
DESCRIPTION:The Freudian Slips’ new D&D season continues in episode 4! \nTICKETS: https://www.eventbrite.ca/e/743782723147 \nNo Dungeon & Dragons knowledge required\, but a love of fantasy and comedy is welcomed! \nChimera Theatre’s Annual General Meeting will be held at 6:00pm and is open to all members\, and people interested in becoming members! \nThe Freudian Slips is the hottest Improvised Comedy Troupe in Kamloops! Bringing monthly improv shows to the city in four distinct improv styles\, no matter what form they take you are guaranteed a night of hilarity. Boasting a new cast for 2022\, expect some new and familiar faces and the same side-splitting humour you’ve come to know since 2015. \nChimera Members are able to buy TWO tickets at Chimera Member Pricing (a savings of ten bucks!). Chimera Memberships are valid for one year. Don’t have a Chimera membership? Purchase one with your tickets at the checkout to get membership pricing on two tickets. \n422 Tranquille Rd\, Kamloops \nDoors 7:30pm; Show 8:00pm \nTickets $25 + eventbrite fees (No fees if you buy in person at the Effie!) \nTICKETS: https://www.eventbrite.ca/e/743782723147
URL:https://effieartsco.ca/event/the-freudian-slips-present-dungeons-dragons-improv-2/
LOCATION:The Effie\, 422 Tranquille Road\, Kamloops\, British Columbia\, V2B 3G8\, Canada
CATEGORIES:Improv
ATTACH;FMTTYPE=image/jpeg:https://effieartsco.ca/wp-content/uploads/2023/01/The-Freudian-Slips-Dungeons-and-Dragons-Improv.jpg
ORGANIZER;CN="Chimera Theatre":MAILTO:info@chimeratheatre.com ﻿
END:VEVENT
END:VCALENDAR