BEGIN:VCALENDAR
VERSION:2.0
PRODID:-//The Effie - ECPv6.15.20//NONSGML v1.0//EN
CALSCALE:GREGORIAN
METHOD:PUBLISH
X-ORIGINAL-URL:https://effieartsco.ca
X-WR-CALDESC:Events for The Effie
REFRESH-INTERVAL;VALUE=DURATION:PT1H
X-Robots-Tag:noindex
X-PUBLISHED-TTL:PT1H
BEGIN:VTIMEZONE
TZID:America/Vancouver
BEGIN:DAYLIGHT
TZOFFSETFROM:-0800
TZOFFSETTO:-0700
TZNAME:PDT
DTSTART:20250309T100000
END:DAYLIGHT
BEGIN:STANDARD
TZOFFSETFROM:-0700
TZOFFSETTO:-0800
TZNAME:PST
DTSTART:20251102T090000
END:STANDARD
BEGIN:DAYLIGHT
TZOFFSETFROM:-0800
TZOFFSETTO:-0700
TZNAME:PDT
DTSTART:20260308T100000
END:DAYLIGHT
BEGIN:STANDARD
TZOFFSETFROM:-0700
TZOFFSETTO:-0800
TZNAME:PST
DTSTART:20261101T090000
END:STANDARD
BEGIN:DAYLIGHT
TZOFFSETFROM:-0800
TZOFFSETTO:-0700
TZNAME:PDT
DTSTART:20270314T100000
END:DAYLIGHT
BEGIN:STANDARD
TZOFFSETFROM:-0700
TZOFFSETTO:-0800
TZNAME:PST
DTSTART:20271107T090000
END:STANDARD
END:VTIMEZONE
BEGIN:VEVENT
DTSTART;TZID=America/Vancouver:20260328T200000
DTEND;TZID=America/Vancouver:20260328T200000
DTSTAMP:20260420T180541
CREATED:20260208T042730Z
LAST-MODIFIED:20260208T043316Z
UID:10001515-1774728000-1774728000@effieartsco.ca
SUMMARY:Hard To Kill Comedy presents The Death Proof Tour Live at The Effie
DESCRIPTION:Forged in the hot smoke of the Okanagan Valley\, hardened by bad rooms and worse ideas\, a desperate thirst for laughs is what keeps them going.Hard to Kill is a three man comedy crew on the run from the Reaper.Andrew Crone\, Jordan Strauss and Kyle P. Ferris have been Stand-up comedians for over a decade with collectively thousands of performances! They’ve left audiences in stitches all over the Country and are hitting the road this spring to do it again with The Death Proof Tour.They’re not chasing fame\, just laughs and a brief delay of the inevitable.Hard to Kill: The Death Proof Tour will be running through a town near you. \nTICKETS: https://www.eventbrite.com/e/hard-to-kill-comedy-presents-the-death-proof-tour-tickets-1982250527689 \nDoors 7pm Comedy 8pm
URL:https://effieartsco.ca/event/hard-to-kill-comedy-presents-the-death-proof-tour-live-at-the-effie/
LOCATION:The Effie\, 422 Tranquille Road\, Kamloops\, British Columbia\, V2B 3G8\, Canada
CATEGORIES:Comedy
ATTACH;FMTTYPE=image/jpeg:https://effieartsco.ca/wp-content/uploads/2026/02/D-KAMLOOPS-scaled-e1770525126634.jpg
END:VEVENT
BEGIN:VEVENT
DTSTART;TZID=America/Vancouver:20260401T200000
DTEND;TZID=America/Vancouver:20260401T220000
DTSTAMP:20260420T180541
CREATED:20260102T211008Z
LAST-MODIFIED:20260120T022226Z
UID:10001473-1775073600-1775080800@effieartsco.ca
SUMMARY:Open Mic Comedy
DESCRIPTION:Kamloops Comedy Society presents Open Mic Comedy on some Wednesdays (schedule varies) Do you have what it takes to be a comedian? Throw your hat in the ring and tell us a couple jokes or funny stories. Everyone is welcome.\n$10 at the door (Free for performers and Eff Buddies)\nDoors open at 7:30 and the show starts at 8pm
URL:https://effieartsco.ca/event/open-mic-comedy-2/2026-04-01/
LOCATION:The Effie\, 422 Tranquille Road\, Kamloops\, British Columbia\, V2B 3G8\, Canada
CATEGORIES:Comedy
ATTACH;FMTTYPE=image/jpeg:https://effieartsco.ca/wp-content/uploads/2026/01/Effie-Presents-Facebook-Cover42.jpg
END:VEVENT
BEGIN:VEVENT
DTSTART;TZID=America/Vancouver:20260415T200000
DTEND;TZID=America/Vancouver:20260415T220000
DTSTAMP:20260420T180541
CREATED:20260102T211008Z
LAST-MODIFIED:20260120T022226Z
UID:10001474-1776283200-1776290400@effieartsco.ca
SUMMARY:Open Mic Comedy
DESCRIPTION:Kamloops Comedy Society presents Open Mic Comedy on some Wednesdays (schedule varies) Do you have what it takes to be a comedian? Throw your hat in the ring and tell us a couple jokes or funny stories. Everyone is welcome.\n$10 at the door (Free for performers and Eff Buddies)\nDoors open at 7:30 and the show starts at 8pm
URL:https://effieartsco.ca/event/open-mic-comedy-2/2026-04-15/
LOCATION:The Effie\, 422 Tranquille Road\, Kamloops\, British Columbia\, V2B 3G8\, Canada
CATEGORIES:Comedy
ATTACH;FMTTYPE=image/jpeg:https://effieartsco.ca/wp-content/uploads/2026/01/Effie-Presents-Facebook-Cover42.jpg
END:VEVENT
END:VCALENDAR