BEGIN:VCALENDAR
VERSION:2.0
PRODID:-//The Effie - ECPv6.15.20//NONSGML v1.0//EN
CALSCALE:GREGORIAN
METHOD:PUBLISH
X-WR-CALNAME:The Effie
X-ORIGINAL-URL:https://effieartsco.ca
X-WR-CALDESC:Events for The Effie
REFRESH-INTERVAL;VALUE=DURATION:PT1H
X-Robots-Tag:noindex
X-PUBLISHED-TTL:PT1H
BEGIN:VTIMEZONE
TZID:America/Vancouver
BEGIN:DAYLIGHT
TZOFFSETFROM:-0800
TZOFFSETTO:-0700
TZNAME:PDT
DTSTART:20240310T100000
END:DAYLIGHT
BEGIN:STANDARD
TZOFFSETFROM:-0700
TZOFFSETTO:-0800
TZNAME:PST
DTSTART:20241103T090000
END:STANDARD
BEGIN:DAYLIGHT
TZOFFSETFROM:-0800
TZOFFSETTO:-0700
TZNAME:PDT
DTSTART:20250309T100000
END:DAYLIGHT
BEGIN:STANDARD
TZOFFSETFROM:-0700
TZOFFSETTO:-0800
TZNAME:PST
DTSTART:20251102T090000
END:STANDARD
BEGIN:DAYLIGHT
TZOFFSETFROM:-0800
TZOFFSETTO:-0700
TZNAME:PDT
DTSTART:20260308T100000
END:DAYLIGHT
BEGIN:STANDARD
TZOFFSETFROM:-0700
TZOFFSETTO:-0800
TZNAME:PST
DTSTART:20261101T090000
END:STANDARD
END:VTIMEZONE
BEGIN:VEVENT
DTSTART;TZID=America/Vancouver:20250117T200000
DTEND;TZID=America/Vancouver:20250117T200000
DTSTAMP:20260420T073415
CREATED:20241216T025327Z
LAST-MODIFIED:20241216T031306Z
UID:10001219-1737144000-1737144000@effieartsco.ca
SUMMARY:Sick n Twisted Comedy
DESCRIPTION:TICKETS: https://www.eventbrite.ca/e/sick-n-twisted-comedy-tickets-1115124490369 \nA night of hilarious\, uncensored stand up comedy where nothing is off limits.\nPerforming some of their darkest material\, five comedians are bringing some severely demented humour to the stage for an audience of people with equally sick n twisted minds. \nWith credits ranging from Sirius XM\, Just For Laughs Northwest\, and CBC Radio\, these comedians combined have performed at every major comedy venue in Western Canada.\nJoin Cody Wood\, Jamie Charest\, Josh Ashton\, Andrew Crone\, and Reggie Reynolds for an unforgettable night of shock comedy\, with tons of fun and big laughs.\nThis 19+ show is not suitable for those easily offended. \nDoors 7:30 Comedy 8pm \n$25+fees \nTICKETS: https://www.eventbrite.ca/e/sick-n-twisted-comedy-tickets-1115124490369
URL:https://effieartsco.ca/event/sick-n-twisted-comedy/
LOCATION:The Effie\, 422 Tranquille Road\, Kamloops\, British Columbia\, V2B 3G8\, Canada
CATEGORIES:Comedy
ATTACH;FMTTYPE=image/jpeg:https://effieartsco.ca/wp-content/uploads/2024/12/2axdSy55-e1734317919358.jpg
END:VEVENT
END:VCALENDAR