BEGIN:VCALENDAR
VERSION:2.0
PRODID:-//The Effie - ECPv6.15.20//NONSGML v1.0//EN
CALSCALE:GREGORIAN
METHOD:PUBLISH
X-ORIGINAL-URL:https://effieartsco.ca
X-WR-CALDESC:Events for The Effie
REFRESH-INTERVAL;VALUE=DURATION:PT1H
X-Robots-Tag:noindex
X-PUBLISHED-TTL:PT1H
BEGIN:VTIMEZONE
TZID:America/Vancouver
BEGIN:DAYLIGHT
TZOFFSETFROM:-0800
TZOFFSETTO:-0700
TZNAME:PDT
DTSTART:20230312T100000
END:DAYLIGHT
BEGIN:STANDARD
TZOFFSETFROM:-0700
TZOFFSETTO:-0800
TZNAME:PST
DTSTART:20231105T090000
END:STANDARD
BEGIN:DAYLIGHT
TZOFFSETFROM:-0800
TZOFFSETTO:-0700
TZNAME:PDT
DTSTART:20240310T100000
END:DAYLIGHT
BEGIN:STANDARD
TZOFFSETFROM:-0700
TZOFFSETTO:-0800
TZNAME:PST
DTSTART:20241103T090000
END:STANDARD
BEGIN:DAYLIGHT
TZOFFSETFROM:-0800
TZOFFSETTO:-0700
TZNAME:PDT
DTSTART:20250309T100000
END:DAYLIGHT
BEGIN:STANDARD
TZOFFSETFROM:-0700
TZOFFSETTO:-0800
TZNAME:PST
DTSTART:20251102T090000
END:STANDARD
END:VTIMEZONE
BEGIN:VEVENT
DTSTART;TZID=America/Vancouver:20241129T190000
DTEND;TZID=America/Vancouver:20241129T190000
DTSTAMP:20260420T092655
CREATED:20241101T023328Z
LAST-MODIFIED:20241101T023328Z
UID:10001142-1732906800-1732906800@effieartsco.ca
SUMMARY:Abbas Wahab LIVE! in Kamloops | Big Mic Energy Tour
DESCRIPTION:Catch Viral Comedian Abbas Wahab on his US/Canada Big Mic Energy Tour in Kamloops\, BC at The Effie!\n\n\nKAMLOOPS 🔥 Get Ready for a BANGER! \nTICKETS: https://www.eventbrite.ca/e/abbas-wahab-live-in-kamloops-big-mic-energy-tour-tickets-1000941461857 \nCatch viral headliner Abbas Wahab on his US/Canada Big Mic Energy Tour! \nAbbas Wahab is a Canadian comedian and actor. He’s been featured on Just For Laughs and Edinburgh Fringe festivals\, and is best known most recently for his role as SWAT officer in M.Night Shyamalan’s Trap. Wahab has also appeared in TV shows\, such as The Boys\, What We Do In The Shadows\, and Star Trek: Strange New Worlds. He has garnered a loyal following of over 120k fans on Instagram and 200k on TikTok. Abbas is best known for his viral Job Interview and Auto Marketing series\, which parody the behind-the-scenes hiring and advertising of major brands. His comedic style has been described as electrifying and sharp\, with grounded storytelling. Don’t miss him on the road! \nCheck out Abbas Wahab on Instagram and TikTok > @abbaswahab \nFeaturing Jordan Policicchio is a hilarious Canadian comedian\, actor and podcast host whose been featured at Just For Laughs 42 and the Haymaker Comedy Festival. His silly charm and quick wit make him incredibly fun to watch as he takes you through his annoyance of himself and others around him. You’ve seen him in over 10 commercials for brands like McDonalds\, Door Dash\, RBC\, and more. He’s a nationally touring stand up who is working out of Toronto. Jordan is regularly featured at Absolute Comedy\, The Corner Comedy Club and is featured as part of the Yuk Yuk’s rising stars roster. \n\n\nIt’s going DOWN Friday\, November 29th at The Effie Arts Collective! \nDon’t Miss it!🔥 \nShows 7:00pm & 9:30pm – Doors open 30 minutes before showtime. \nFor Seating Please arrive no later than 6:45pm and 9:15pm\, respectively. \n#standupcomedy \nTICKETS: https://www.eventbrite.ca/e/abbas-wahab-live-in-kamloops-big-mic-energy-tour-tickets-1000941461857
URL:https://effieartsco.ca/event/abbas-wahab-live-in-kamloops-big-mic-energy-tour/
LOCATION:The Effie\, 422 Tranquille Road\, Kamloops\, British Columbia\, V2B 3G8\, Canada
CATEGORIES:Comedy
ATTACH;FMTTYPE=image/jpeg:https://effieartsco.ca/wp-content/uploads/2024/10/https___cdn.evbuc_.com_images_870715359_218568493043_1_original.jpg
END:VEVENT
END:VCALENDAR