BEGIN:VCALENDAR
VERSION:2.0
PRODID:-//The Effie - ECPv6.15.20//NONSGML v1.0//EN
CALSCALE:GREGORIAN
METHOD:PUBLISH
X-ORIGINAL-URL:https://effieartsco.ca
X-WR-CALDESC:Events for The Effie
REFRESH-INTERVAL;VALUE=DURATION:PT1H
X-Robots-Tag:noindex
X-PUBLISHED-TTL:PT1H
BEGIN:VTIMEZONE
TZID:America/Vancouver
BEGIN:DAYLIGHT
TZOFFSETFROM:-0800
TZOFFSETTO:-0700
TZNAME:PDT
DTSTART:20230312T100000
END:DAYLIGHT
BEGIN:STANDARD
TZOFFSETFROM:-0700
TZOFFSETTO:-0800
TZNAME:PST
DTSTART:20231105T090000
END:STANDARD
BEGIN:DAYLIGHT
TZOFFSETFROM:-0800
TZOFFSETTO:-0700
TZNAME:PDT
DTSTART:20240310T100000
END:DAYLIGHT
BEGIN:STANDARD
TZOFFSETFROM:-0700
TZOFFSETTO:-0800
TZNAME:PST
DTSTART:20241103T090000
END:STANDARD
BEGIN:DAYLIGHT
TZOFFSETFROM:-0800
TZOFFSETTO:-0700
TZNAME:PDT
DTSTART:20250309T100000
END:DAYLIGHT
BEGIN:STANDARD
TZOFFSETFROM:-0700
TZOFFSETTO:-0800
TZNAME:PST
DTSTART:20251102T090000
END:STANDARD
END:VTIMEZONE
BEGIN:VEVENT
DTSTART;TZID=America/Vancouver:20241116T190000
DTEND;TZID=America/Vancouver:20241116T190000
DTSTAMP:20260420T141925
CREATED:20241101T024404Z
LAST-MODIFIED:20241101T024505Z
UID:10001143-1731783600-1731783600@effieartsco.ca
SUMMARY:Welcome to Stim City: Mental Health Comedy Show!
DESCRIPTION:TICKETS: https://www.eventbrite.ca/e/welcome-to-stim-city-mental-health-comedy-show-tickets-1070255676539 \nWelcome to Stim City: Mental Health Comedy Show! Get ready to laugh your way to better mental health at this hilarious event taking place at The Effie. Join us for a night of side-splitting comedy that tackles the ups and downs of mental health in a fun and relatable way. Our talented comedians will have you in stitches while spreading awareness and breaking stigmas. Don’t miss out on this unique blend of humor and mental health advocacy. \nAdam Jacobson is known for his high energy and higher autism. Adam Jacobson has wowed audiences across North America with his sardonic wit and energetic performances\, telling his story of living with autism and being different in a way that only he can. Adam has performed at the Nanaimo and Vancouver Fringe festivals\, The World Series of Comedy\, JFL NorthWest\, a finalist in House of Comedy’s Funniest Person with a dayjob and has won three roast battle championships. \nTICKETS: https://www.eventbrite.ca/e/welcome-to-stim-city-mental-health-comedy-show-tickets-1070255676539
URL:https://effieartsco.ca/event/welcome-to-stim-city-mental-health-comedy-show/
LOCATION:The Effie\, 422 Tranquille Road\, Kamloops\, British Columbia\, V2B 3G8\, Canada
CATEGORIES:Comedy
ATTACH;FMTTYPE=image/jpeg:https://effieartsco.ca/wp-content/uploads/2024/10/IMG_20241026_140955_751.jpg
END:VEVENT
END:VCALENDAR