BEGIN:VCALENDAR
VERSION:2.0
PRODID:-//The Effie - ECPv6.15.20//NONSGML v1.0//EN
CALSCALE:GREGORIAN
METHOD:PUBLISH
X-WR-CALNAME:The Effie
X-ORIGINAL-URL:https://effieartsco.ca
X-WR-CALDESC:Events for The Effie
REFRESH-INTERVAL;VALUE=DURATION:PT1H
X-Robots-Tag:noindex
X-PUBLISHED-TTL:PT1H
BEGIN:VTIMEZONE
TZID:America/Vancouver
BEGIN:DAYLIGHT
TZOFFSETFROM:-0800
TZOFFSETTO:-0700
TZNAME:PDT
DTSTART:20230312T100000
END:DAYLIGHT
BEGIN:STANDARD
TZOFFSETFROM:-0700
TZOFFSETTO:-0800
TZNAME:PST
DTSTART:20231105T090000
END:STANDARD
BEGIN:DAYLIGHT
TZOFFSETFROM:-0800
TZOFFSETTO:-0700
TZNAME:PDT
DTSTART:20240310T100000
END:DAYLIGHT
BEGIN:STANDARD
TZOFFSETFROM:-0700
TZOFFSETTO:-0800
TZNAME:PST
DTSTART:20241103T090000
END:STANDARD
BEGIN:DAYLIGHT
TZOFFSETFROM:-0800
TZOFFSETTO:-0700
TZNAME:PDT
DTSTART:20250309T100000
END:DAYLIGHT
BEGIN:STANDARD
TZOFFSETFROM:-0700
TZOFFSETTO:-0800
TZNAME:PST
DTSTART:20251102T090000
END:STANDARD
END:VTIMEZONE
BEGIN:VEVENT
DTSTART;TZID=America/Vancouver:20240925T200000
DTEND;TZID=America/Vancouver:20240925T200000
DTSTAMP:20260420T222440
CREATED:20240811T041016Z
LAST-MODIFIED:20240811T044155Z
UID:10001120-1727294400-1727294400@effieartsco.ca
SUMMARY:DIVERSITY HIRES CANADIAN COMEDY TOUR
DESCRIPTION:TICKETS: https://www.eventbrite.ca/e/986282656977\n\nLive Stand Up show starring comedians Noor Kidwai\, Andrew Oporto\, and Bonggun Kim.  As seen on Just For Laughs\, Canada’s Got Talent\, Sirius XM\, CBC\, Funny or Die and also in their viral sketches like the ones below.\n\nDoors 7:30 Comedy 8pm\n$20+fees\nTICKETS: https://www.eventbrite.ca/e/986282656977\n\n\n\nhttps://www.instagram.com/reel/CoaMl6sp1ZH/?igsh=MWVrZmVjZjhkaGQ0eQ==
URL:https://effieartsco.ca/event/diversity-hires-canadian-comedy-tour/
LOCATION:The Effie\, 422 Tranquille Road\, Kamloops\, British Columbia\, V2B 3G8\, Canada
CATEGORIES:Comedy
ATTACH;FMTTYPE=image/jpeg:https://effieartsco.ca/wp-content/uploads/2024/08/image_1236502911.jpg
END:VEVENT
END:VCALENDAR