BEGIN:VCALENDAR
VERSION:2.0
PRODID:-//The Effie - ECPv6.15.20//NONSGML v1.0//EN
CALSCALE:GREGORIAN
METHOD:PUBLISH
X-WR-CALNAME:The Effie
X-ORIGINAL-URL:https://effieartsco.ca
X-WR-CALDESC:Events for The Effie
REFRESH-INTERVAL;VALUE=DURATION:PT1H
X-Robots-Tag:noindex
X-PUBLISHED-TTL:PT1H
BEGIN:VTIMEZONE
TZID:America/Vancouver
BEGIN:DAYLIGHT
TZOFFSETFROM:-0800
TZOFFSETTO:-0700
TZNAME:PDT
DTSTART:20230312T100000
END:DAYLIGHT
BEGIN:STANDARD
TZOFFSETFROM:-0700
TZOFFSETTO:-0800
TZNAME:PST
DTSTART:20231105T090000
END:STANDARD
BEGIN:DAYLIGHT
TZOFFSETFROM:-0800
TZOFFSETTO:-0700
TZNAME:PDT
DTSTART:20240310T100000
END:DAYLIGHT
BEGIN:STANDARD
TZOFFSETFROM:-0700
TZOFFSETTO:-0800
TZNAME:PST
DTSTART:20241103T090000
END:STANDARD
BEGIN:DAYLIGHT
TZOFFSETFROM:-0800
TZOFFSETTO:-0700
TZNAME:PDT
DTSTART:20250309T100000
END:DAYLIGHT
BEGIN:STANDARD
TZOFFSETFROM:-0700
TZOFFSETTO:-0800
TZNAME:PST
DTSTART:20251102T090000
END:STANDARD
END:VTIMEZONE
BEGIN:VEVENT
DTSTART;TZID=America/Vancouver:20240315T200000
DTEND;TZID=America/Vancouver:20240315T200000
DTSTAMP:20260421T135219
CREATED:20240216T040649Z
LAST-MODIFIED:20240216T051802Z
UID:10000530-1710532800-1710532800@effieartsco.ca
SUMMARY:Stand Up Comedy Starring Jamie Charest
DESCRIPTION:Doors 7:30 Comedy 8pm \n$20+fees \nTICKETS:  https://www.eventbrite.ca/e/841288786407 \nJamie Charest has performed at every major comedy club in Western Canada. His self observational stand up comedy has been featured on CBC Radio\, and he has made several T.V. and movie appearances. He has shared the stage with Tom Green\, Tom Segura and Steve O from Jackass. \nTICKETS: https://www.eventbrite.ca/e/841288786407 \nDoors 7:30 Comedy 8pm \n$20+fees
URL:https://effieartsco.ca/event/stand-up-comedy-starring-jamie-charest/
LOCATION:The Effie\, 422 Tranquille Road\, Kamloops\, British Columbia\, V2B 3G8\, Canada
CATEGORIES:Comedy
ATTACH;FMTTYPE=image/png:https://effieartsco.ca/wp-content/uploads/2024/02/423766444_1786499318483176_3741708449390257836_n.png
END:VEVENT
END:VCALENDAR