BEGIN:VCALENDAR
VERSION:2.0
PRODID:-//The Effie - ECPv6.15.20//NONSGML v1.0//EN
CALSCALE:GREGORIAN
METHOD:PUBLISH
X-ORIGINAL-URL:https://effieartsco.ca
X-WR-CALDESC:Events for The Effie
REFRESH-INTERVAL;VALUE=DURATION:PT1H
X-Robots-Tag:noindex
X-PUBLISHED-TTL:PT1H
BEGIN:VTIMEZONE
TZID:America/Vancouver
BEGIN:DAYLIGHT
TZOFFSETFROM:-0800
TZOFFSETTO:-0700
TZNAME:PDT
DTSTART:20230312T100000
END:DAYLIGHT
BEGIN:STANDARD
TZOFFSETFROM:-0700
TZOFFSETTO:-0800
TZNAME:PST
DTSTART:20231105T090000
END:STANDARD
BEGIN:DAYLIGHT
TZOFFSETFROM:-0800
TZOFFSETTO:-0700
TZNAME:PDT
DTSTART:20240310T100000
END:DAYLIGHT
BEGIN:STANDARD
TZOFFSETFROM:-0700
TZOFFSETTO:-0800
TZNAME:PST
DTSTART:20241103T090000
END:STANDARD
BEGIN:DAYLIGHT
TZOFFSETFROM:-0800
TZOFFSETTO:-0700
TZNAME:PDT
DTSTART:20250309T100000
END:DAYLIGHT
BEGIN:STANDARD
TZOFFSETFROM:-0700
TZOFFSETTO:-0800
TZNAME:PST
DTSTART:20251102T090000
END:STANDARD
END:VTIMEZONE
BEGIN:VEVENT
DTSTART;TZID=America/Vancouver:20240216T200000
DTEND;TZID=America/Vancouver:20240216T200000
DTSTAMP:20260421T153031
CREATED:20240108T055022Z
LAST-MODIFIED:20240108T055320Z
UID:10000442-1708113600-1708113600@effieartsco.ca
SUMMARY:WCW Comedy Tour w/ Jared Nathan
DESCRIPTION:Kamloops\, let’s get our laugh on! \nTICKETS: https://www.eventbrite.ca/e/wcw-comedy-tour-w-jared-nathan-kamloops-tickets-790719101117 \nDoors 7:30 Comedy 8pm \nThe hilarious Jared Nathan is coming out West for a comedy a show you do not wanna miss! \nThat’s right ‘Kill Tony’ legend\, Jared Nathan will be in Kamloops Family Day Long Weekend Friday\, February 16th. \nFor those who don’t know\, Jared Nathan\, is a comedian with ‘special needs‘ based out of Toronto\, Ontario – who is now one of North America’s rising comics attributed to his numerous appearances on the world famous\, Kill Tony Show\, recorded live in Austin\, Texas. \nJared’s meteoric rise to fame began when he took the comedy world by storm on the Kill Tony show. His razor-sharp wit\, infectious charm\, and fearless approach to comedy have won over audiences from globally. \nHaving already shared the stage with comedy heavyweights like Joe Rogan and Tony Hinchcliffe\, Jared Nathan is now bringing his comedy across the country. \n\n\nFEATURE ACT: HIMANSU PATEL \nOriginally from Montreal\, Himansu Patel has been performing stand up comedy for the last six years and thoroughly enjoys making all types of audiences laugh. \nNoted as the ‘class clown’ earning him “Funniest” in his High School Yearbook \, Himansu discovered his love for comedy when he worked for Just for Laughs during its festival season\, and finally decided to give it a try by enrolling in Second City’s Stand Up Comedy program in 2017. \nWith a personal and observational style of comedy – Himansu shares his funny takes from being a single Dad\, relationships\, working a corporate job\, to growing up in an Indian household. \nCurrently\, Himansu performs and produces monthly shows all over Toronto\, tours the country\, and has worked at reputable comedy clubs such as the Comedyworks and Comedy Nest in Montreal to the renowned Broadway Comedy Club in New York City. \nInstagram & TikTok: @himansucomedy \nDoors 7:30 Comedy 8pm \nTICKETS: https://www.eventbrite.ca/e/wcw-comedy-tour-w-jared-nathan-kamloops-tickets-790719101117
URL:https://effieartsco.ca/event/wcw-comedy-tour-w-jared-nathan/
LOCATION:The Effie\, 422 Tranquille Road\, Kamloops\, British Columbia\, V2B 3G8\, Canada
CATEGORIES:Comedy
ATTACH;FMTTYPE=image/jpeg:https://effieartsco.ca/wp-content/uploads/2024/01/416880847_337741232352914_7197481171010817651_n-e1704692693406.jpg
END:VEVENT
END:VCALENDAR