BEGIN:VCALENDAR
VERSION:2.0
PRODID:-//The Effie - ECPv6.15.20//NONSGML v1.0//EN
CALSCALE:GREGORIAN
METHOD:PUBLISH
X-WR-CALNAME:The Effie
X-ORIGINAL-URL:https://effieartsco.ca
X-WR-CALDESC:Events for The Effie
REFRESH-INTERVAL;VALUE=DURATION:PT1H
X-Robots-Tag:noindex
X-PUBLISHED-TTL:PT1H
BEGIN:VTIMEZONE
TZID:America/Vancouver
BEGIN:DAYLIGHT
TZOFFSETFROM:-0800
TZOFFSETTO:-0700
TZNAME:PDT
DTSTART:20230312T100000
END:DAYLIGHT
BEGIN:STANDARD
TZOFFSETFROM:-0700
TZOFFSETTO:-0800
TZNAME:PST
DTSTART:20231105T090000
END:STANDARD
BEGIN:DAYLIGHT
TZOFFSETFROM:-0800
TZOFFSETTO:-0700
TZNAME:PDT
DTSTART:20240310T100000
END:DAYLIGHT
BEGIN:STANDARD
TZOFFSETFROM:-0700
TZOFFSETTO:-0800
TZNAME:PST
DTSTART:20241103T090000
END:STANDARD
BEGIN:DAYLIGHT
TZOFFSETFROM:-0800
TZOFFSETTO:-0700
TZNAME:PDT
DTSTART:20250309T100000
END:DAYLIGHT
BEGIN:STANDARD
TZOFFSETFROM:-0700
TZOFFSETTO:-0800
TZNAME:PST
DTSTART:20251102T090000
END:STANDARD
END:VTIMEZONE
BEGIN:VEVENT
DTSTART;TZID=America/Vancouver:20240209T200000
DTEND;TZID=America/Vancouver:20240209T200000
DTSTAMP:20260421T152800
CREATED:20240106T054417Z
LAST-MODIFIED:20240108T015718Z
UID:10000441-1707508800-1707508800@effieartsco.ca
SUMMARY:Stand Up Comedy at The Effie Starring Andrew Crone
DESCRIPTION:TICKETS:https://www.eventbrite.ca/e/792237903897 \nDoors 7:30 Comedy 8pm Tickets: $15 + fees \nAndrew Crone was named Okanagan’s hardest comedy act to follow for good reason. His cutting comedic wit is unparalleled and unrelenting.\nDespite having to contend with anxiety and depression\, Andrew finds his happy place on stage where he is most comfortable being ruthless and ridiculous together with the crowd and his material.\nHe is truly a fan favourite with bold original jokes that will leave you breathless.\nCrone has toured his way across Western Canada\, alongside some of the biggest touring acts in the country. He has performed at Just For Laughs Northwest\, the Grindstone Comedy Festival\, Drew’s KamComedyFest\, and the Okanagan Comedy Festival. And is a 6 time Kelowna Comedy award winner!\nAudiences always leave wanting more of Andrew Crone’s audacious and unrepentant comedy.\nCrone has just released his first comedy album\, “Happy Place” and is available now! https://fanlink.to/andrewcronehappyplace\n\nTICKETS:https://www.eventbrite.ca/e/792237903897\n\nDoors open at 7:30! Show starts at 8pm
URL:https://effieartsco.ca/event/stand-up-comedy-at-the-effie-starring-andrew-crone/
LOCATION:The Effie\, 422 Tranquille Road\, Kamloops\, British Columbia\, V2B 3G8\, Canada
CATEGORIES:Comedy
ATTACH;FMTTYPE=image/png:https://effieartsco.ca/wp-content/uploads/2024/01/413277060_596838105951637_6733841969451917347_n.png
END:VEVENT
END:VCALENDAR