BEGIN:VCALENDAR
VERSION:2.0
PRODID:-//The Effie - ECPv6.15.20//NONSGML v1.0//EN
CALSCALE:GREGORIAN
METHOD:PUBLISH
X-WR-CALNAME:The Effie
X-ORIGINAL-URL:https://effieartsco.ca
X-WR-CALDESC:Events for The Effie
REFRESH-INTERVAL;VALUE=DURATION:PT1H
X-Robots-Tag:noindex
X-PUBLISHED-TTL:PT1H
BEGIN:VTIMEZONE
TZID:America/Vancouver
BEGIN:DAYLIGHT
TZOFFSETFROM:-0800
TZOFFSETTO:-0700
TZNAME:PDT
DTSTART:20240310T100000
END:DAYLIGHT
BEGIN:STANDARD
TZOFFSETFROM:-0700
TZOFFSETTO:-0800
TZNAME:PST
DTSTART:20241103T090000
END:STANDARD
BEGIN:DAYLIGHT
TZOFFSETFROM:-0800
TZOFFSETTO:-0700
TZNAME:PDT
DTSTART:20250309T100000
END:DAYLIGHT
BEGIN:STANDARD
TZOFFSETFROM:-0700
TZOFFSETTO:-0800
TZNAME:PST
DTSTART:20251102T090000
END:STANDARD
BEGIN:DAYLIGHT
TZOFFSETFROM:-0800
TZOFFSETTO:-0700
TZNAME:PDT
DTSTART:20260308T100000
END:DAYLIGHT
BEGIN:STANDARD
TZOFFSETFROM:-0700
TZOFFSETTO:-0800
TZNAME:PST
DTSTART:20261101T090000
END:STANDARD
END:VTIMEZONE
BEGIN:VEVENT
DTSTART;TZID=America/Vancouver:20250403T190000
DTEND;TZID=America/Vancouver:20250403T220000
DTSTAMP:20260420T015337
CREATED:20250215T053618Z
LAST-MODIFIED:20250215T054919Z
UID:10001239-1743706800-1743717600@effieartsco.ca
SUMMARY:Bealby Point Live at The Effie Arts Collective!
DESCRIPTION:Kamloops!! We are finally making our return after last years flat tire debacle….We are very excited to see you all soon! \n\n\n\n\n\nBealby Point Live at The Effie Arts Collective! \nTICKETS: https://www.eventbrite.ca/e/bealby-point-live-at-the-effie-arts-collective-tickets-1233888968119 \nWe are so excited to finally be returning to Kamloops!! Last time out we had an unfortunate flat tire which forced us to miss our Kamloops show… But we are SO back and out for redemption! We cant wait to see you all very soon!! \n\nIn a world full of micro-influencers\, digital grifters\, and spon-con hucksters\, Vancouver quartet Bealby Point offers a simple promise: what you see is what you get. Formed in 2018\, the indie rockers have built a sterling reputation thanks to their polished live performances and intricate\, approachable songwriting. Drawing inspiration from alt-rock icons including The Strokes\, Weezer\, Young The Giant\, and Red Hot Chili Peppers\, the boys’ signature sound centers on big hooks\, big solos\, and even bigger grooves. While the path forward has been at times rocky\, with the four members struggling to navigate the realities of working-class creative life in one of the world’s most expensive cities\, the challenges have only brought them closer together. Brotherly love is the basis for everything Bealby Point does\, and their recent   sessions are no exception. Produced by their trusted sound engineer JJ Heath\, the band’s new material was recorded at the small but stylish studio\, Phony Records. Situated across the inlet from where they grew up riding bikes and sneaking beers\, the new material\, recorded in early 2024\, bridges the gap between fantasy and nostalgia\, with Armstrong offering a cinematic perspective on the passing of time. Indeed\, songs like “Fairytale” and “Better Off Eventually” find Bealby Point basking in a summer sunset\, but also increasingly aware of the long shadow that it casts. Since 2022\, the band has built a devoted following in the Greater Vancouver Area\, playing sold-out shows at several well-known venues including The Fox Cabaret (April 2022\, March 2023)\, Fortune Sound Club (August 2022)\, The Rickshaw Theatre (April 2023)\, and The Pearl (September 2023). They have also taken their show on the road in 2024\, playing 9 shows on their self booked and promoted Western Canadian “What’s the Point” Tour including a showcase at NXNE in Toronto\, and have opened for exciting acts including\, The Jins\, and MONOWHALES. As of July 2024\, they have amassed 1\,207\,422 streams on Spotify. With their foundation firmly entrenched in their home province\, the band will embark on the next chapter of its career by touring Western Canada for the second time in March 2025. Along the way\, they will visit their namesake\, just north of Nelson\, B.C.\, to draw inspiration for future material. With a renewed sense of purpose\, Bealby Point wants nothing more than to sit back and enjoy the ride. To chase down a dream on that not-so-distant horizon. They hope you will join them\n\n\nMinors allowed accompanied by an adult until 10pm \nTICKETS: https://www.eventbrite.ca/e/bealby-point-live-at-the-effie-arts-collective-tickets-1233888968119
URL:https://effieartsco.ca/event/bealby-point-live-at-the-effie-arts-collective/
LOCATION:The Effie\, 422 Tranquille Road\, Kamloops\, British Columbia\, V2B 3G8\, Canada
CATEGORIES:Comedy
ATTACH;FMTTYPE=image/jpeg:https://effieartsco.ca/wp-content/uploads/2025/02/bealbypoint.jpg
END:VEVENT
BEGIN:VEVENT
DTSTART;TZID=America/Vancouver:20250409T200000
DTEND;TZID=America/Vancouver:20250409T220000
DTSTAMP:20260420T015337
CREATED:20230325T214743Z
LAST-MODIFIED:20250508T233611Z
UID:10000119-1744228800-1744236000@effieartsco.ca
SUMMARY:Kamloops Comedy Open Mic
DESCRIPTION:1/$10 General Admission\n\nFree for Performers & Eff Buddies\nDoors 7:30pm\nComedy 8-10pm\n16+\n\nKamloops Comedy Open Mic provides comedians with opportunities to get out in front of a crowd and work on their craft. It is a safe space for comedians (fans may be triggered) to get up and put it all out there.
URL:https://effieartsco.ca/event/kamloops-comedy-open-mic/2025-04-09/
LOCATION:The Effie\, 422 Tranquille Road\, Kamloops\, British Columbia\, V2B 3G8\, Canada
CATEGORIES:Comedy
ATTACH;FMTTYPE=image/jpeg:https://effieartsco.ca/wp-content/uploads/2023/01/Effie-Open-Mic.jpg
END:VEVENT
BEGIN:VEVENT
DTSTART;TZID=America/Vancouver:20250423T200000
DTEND;TZID=America/Vancouver:20250423T220000
DTSTAMP:20260420T015337
CREATED:20230325T214743Z
LAST-MODIFIED:20250508T233611Z
UID:10000121-1745438400-1745445600@effieartsco.ca
SUMMARY:Kamloops Comedy Open Mic
DESCRIPTION:1/$10 General Admission\n\nFree for Performers & Eff Buddies\nDoors 7:30pm\nComedy 8-10pm\n16+\n\nKamloops Comedy Open Mic provides comedians with opportunities to get out in front of a crowd and work on their craft. It is a safe space for comedians (fans may be triggered) to get up and put it all out there.
URL:https://effieartsco.ca/event/kamloops-comedy-open-mic/2025-04-23/
LOCATION:The Effie\, 422 Tranquille Road\, Kamloops\, British Columbia\, V2B 3G8\, Canada
CATEGORIES:Comedy
ATTACH;FMTTYPE=image/jpeg:https://effieartsco.ca/wp-content/uploads/2023/01/Effie-Open-Mic.jpg
END:VEVENT
END:VCALENDAR