BEGIN:VCALENDAR
VERSION:2.0
PRODID:-//The Effie - ECPv6.15.20//NONSGML v1.0//EN
CALSCALE:GREGORIAN
METHOD:PUBLISH
X-ORIGINAL-URL:https://effieartsco.ca
X-WR-CALDESC:Events for The Effie
REFRESH-INTERVAL;VALUE=DURATION:PT1H
X-Robots-Tag:noindex
X-PUBLISHED-TTL:PT1H
BEGIN:VTIMEZONE
TZID:America/Vancouver
BEGIN:DAYLIGHT
TZOFFSETFROM:-0800
TZOFFSETTO:-0700
TZNAME:PDT
DTSTART:20240310T100000
END:DAYLIGHT
BEGIN:STANDARD
TZOFFSETFROM:-0700
TZOFFSETTO:-0800
TZNAME:PST
DTSTART:20241103T090000
END:STANDARD
BEGIN:DAYLIGHT
TZOFFSETFROM:-0800
TZOFFSETTO:-0700
TZNAME:PDT
DTSTART:20250309T100000
END:DAYLIGHT
BEGIN:STANDARD
TZOFFSETFROM:-0700
TZOFFSETTO:-0800
TZNAME:PST
DTSTART:20251102T090000
END:STANDARD
BEGIN:DAYLIGHT
TZOFFSETFROM:-0800
TZOFFSETTO:-0700
TZNAME:PDT
DTSTART:20260308T100000
END:DAYLIGHT
BEGIN:STANDARD
TZOFFSETFROM:-0700
TZOFFSETTO:-0800
TZNAME:PST
DTSTART:20261101T090000
END:STANDARD
END:VTIMEZONE
BEGIN:VEVENT
DTSTART;TZID=America/Vancouver:20250305T200000
DTEND;TZID=America/Vancouver:20250305T220000
DTSTAMP:20260420T031250
CREATED:20250215T232211Z
LAST-MODIFIED:20250215T232211Z
UID:10001240-1741204800-1741212000@effieartsco.ca
SUMMARY:HOT FLASH COMEDY
DESCRIPTION:Comedians Syd Bosel and Helen Schneiderman are celebrating International Women’s day by touring their “Hot Flash” Stand-Up Comedy show. The Effie is their first stop\, of a 7-city tour of BC. Bring your friends (and your pantyliners)\, to have a fun night out with an all Women line-up of hilarious comics. \nDoors 7:30 Comedy 8pm \nTickets $25 \nLicensed event \n16+ \nTICKETS: https://www.eventbrite.ca/e/1243638168239 \n  \nHelen Schneiderman \nHelen Schneiderman got into stand-up comedy a few years ago as a way to get off her couch. Now she’s so busy performing\, her couch misses her. Helen’s comedy draws from her varied life experiences and trips around the globe. She’s not afraid to share — the good\, the bad and the ugly — and audiences love her sincere and relatable style. Helen has performed all across the lower mainland and Vancouver Island. She was runner-up in the 2019 BC Funniest New Female Comic contest\, and was the opening comic for the 2020 “I Am Woman Hear Me Laff” tour and 2022 Chutzpah Festival. Helen’s favourite review: “I really liked the pretty one with the weird accent.” \nSyd Bosel \nSyd Bosel is a stand-up comedian and comedic storyteller. \n“That Older Lady was Really Funny”(Gen X audience member\, Victoria\, BC) and“My wife laughed so hard\, she peed a little” (A loving husband whispering into my ear\, Vancouver\, BC) \nSyd Bosel\, is a Nationally touring headliner who spills your life out onto the stage as she shares her tales of “adult” children\, surviving breast cancer\, menopause\, and other glories of nature. \nSyd did her comedy training\, and cut her comedy teeth in Vancouver\, BC and recently moved to Comox\, BC. https://www.sydbosel.com/ \nSyd’s Credentials\n2024; Syd placed first in Yuk Yuk’s Western Canada’s\, “THE YUK OFF”. \n2023; She was voted “Best of the Fest” for the Nanaimo Fringe Festival. \n2022; Got 4 Yeses in “Canada’s Got Talent”. \n2022; placed 2nd (out of 65 comics) in the “Funniest Person with a Day Job” competition. \n2019; Was a finalist in the “Great Canadian Yuk Off”. \n2018; Voted Fan Favourite and winner of BC’s Funniest New Female Comic \nAilish Evans \nAilish entered the Kamloops comedy scene in the summer of 2022 and has not been kicked out yet. Their humor mainly revolves around the way they view the world and the inner thoughts that they suppress until they hit the stage \nErika Berg \nErika is an angsty nepobaby with a knack for self deprecating quips n’ bits! She calls Kamloops her home\, living comfortably (and legally) in her friend’s basement with a former street dog that’s way prettier than her. She stumbled upon the Kamloops comedy scene about a year ago\, and it’s been the weirdest and best decision she’s ever made. \n  \nTICKETS: https://www.eventbrite.ca/e/1243638168239
URL:https://effieartsco.ca/event/hot-flash-comedy/
LOCATION:The Effie\, 422 Tranquille Road\, Kamloops\, British Columbia\, V2B 3G8\, Canada
CATEGORIES:Comedy
ATTACH;FMTTYPE=image/jpeg:https://effieartsco.ca/wp-content/uploads/2025/02/IMG_7544-scaled.jpeg
END:VEVENT
BEGIN:VEVENT
DTSTART;TZID=America/Vancouver:20250312T200000
DTEND;TZID=America/Vancouver:20250312T220000
DTSTAMP:20260420T031250
CREATED:20230325T214743Z
LAST-MODIFIED:20250508T233611Z
UID:10000115-1741809600-1741816800@effieartsco.ca
SUMMARY:Kamloops Comedy Open Mic
DESCRIPTION:1/$10 General Admission\n\nFree for Performers & Eff Buddies\nDoors 7:30pm\nComedy 8-10pm\n16+\n\nKamloops Comedy Open Mic provides comedians with opportunities to get out in front of a crowd and work on their craft. It is a safe space for comedians (fans may be triggered) to get up and put it all out there.
URL:https://effieartsco.ca/event/kamloops-comedy-open-mic/2025-03-12/
LOCATION:The Effie\, 422 Tranquille Road\, Kamloops\, British Columbia\, V2B 3G8\, Canada
CATEGORIES:Comedy
ATTACH;FMTTYPE=image/jpeg:https://effieartsco.ca/wp-content/uploads/2023/01/Effie-Open-Mic.jpg
END:VEVENT
BEGIN:VEVENT
DTSTART;TZID=America/Vancouver:20250326T200000
DTEND;TZID=America/Vancouver:20250326T220000
DTSTAMP:20260420T031250
CREATED:20230325T214743Z
LAST-MODIFIED:20250508T233611Z
UID:10000117-1743019200-1743026400@effieartsco.ca
SUMMARY:Kamloops Comedy Open Mic
DESCRIPTION:1/$10 General Admission\n\nFree for Performers & Eff Buddies\nDoors 7:30pm\nComedy 8-10pm\n16+\n\nKamloops Comedy Open Mic provides comedians with opportunities to get out in front of a crowd and work on their craft. It is a safe space for comedians (fans may be triggered) to get up and put it all out there.
URL:https://effieartsco.ca/event/kamloops-comedy-open-mic/2025-03-26/
LOCATION:The Effie\, 422 Tranquille Road\, Kamloops\, British Columbia\, V2B 3G8\, Canada
CATEGORIES:Comedy
ATTACH;FMTTYPE=image/jpeg:https://effieartsco.ca/wp-content/uploads/2023/01/Effie-Open-Mic.jpg
END:VEVENT
BEGIN:VEVENT
DTSTART;TZID=America/Vancouver:20250329T190000
DTEND;TZID=America/Vancouver:20250329T230000
DTSTAMP:20260420T031250
CREATED:20250316T042415Z
LAST-MODIFIED:20250316T042526Z
UID:10001244-1743274800-1743289200@effieartsco.ca
SUMMARY:Be Seein' Ya Comedy Tour
DESCRIPTION:7:00 Show: Minors Allowed Accompanied By An Adult (Parental Advisory Warning)            9:30 Show: 19+ \n$35 Advance Tickets: https://www.jumpcomedy.com/e/be-seein-ya-comedy-tour-kamloops \nThe Be Seein’ Ya Comedy Tour is coming back to Kamloops! Following a massive theatre show in 2024 we’re back at The Effie in 2025 with some of the top comedians and rising stars from Canada\, touring across Beautiful British Columbia. With appearances on Just For Laughs\, The Debaters\, CBC\, Canada’s Got Talent\, SiriusXM\, and millions of views online\, this will be a show not to be missed! \nFEATURING: RYAN WILLIAMS\, OLA DADA\, DARCY BOON COLLINS\, SEAN McDONNELL \n7:00 Show: Minors Allowed Accompanied By An Adult (Parental Advisory Warning)            9:30 Show: 19+ \n$35 Advance Tickets: https://www.jumpcomedy.com/e/be-seein-ya-comedy-tour-kamloops
URL:https://effieartsco.ca/event/be-seein-ya-comedy-tour/
LOCATION:The Effie\, 422 Tranquille Road\, Kamloops\, British Columbia\, V2B 3G8\, Canada
CATEGORIES:Comedy
ATTACH;FMTTYPE=image/png:https://effieartsco.ca/wp-content/uploads/2025/03/Kamloops-be-seein-ya-2025.png
END:VEVENT
END:VCALENDAR