BEGIN:VCALENDAR
VERSION:2.0
PRODID:-//The Effie - ECPv6.15.20//NONSGML v1.0//EN
CALSCALE:GREGORIAN
METHOD:PUBLISH
X-WR-CALNAME:The Effie
X-ORIGINAL-URL:https://effieartsco.ca
X-WR-CALDESC:Events for The Effie
REFRESH-INTERVAL;VALUE=DURATION:PT1H
X-Robots-Tag:noindex
X-PUBLISHED-TTL:PT1H
BEGIN:VTIMEZONE
TZID:America/Vancouver
BEGIN:DAYLIGHT
TZOFFSETFROM:-0800
TZOFFSETTO:-0700
TZNAME:PDT
DTSTART:20230312T100000
END:DAYLIGHT
BEGIN:STANDARD
TZOFFSETFROM:-0700
TZOFFSETTO:-0800
TZNAME:PST
DTSTART:20231105T090000
END:STANDARD
BEGIN:DAYLIGHT
TZOFFSETFROM:-0800
TZOFFSETTO:-0700
TZNAME:PDT
DTSTART:20240310T100000
END:DAYLIGHT
BEGIN:STANDARD
TZOFFSETFROM:-0700
TZOFFSETTO:-0800
TZNAME:PST
DTSTART:20241103T090000
END:STANDARD
BEGIN:DAYLIGHT
TZOFFSETFROM:-0800
TZOFFSETTO:-0700
TZNAME:PDT
DTSTART:20250309T100000
END:DAYLIGHT
BEGIN:STANDARD
TZOFFSETFROM:-0700
TZOFFSETTO:-0800
TZNAME:PST
DTSTART:20251102T090000
END:STANDARD
END:VTIMEZONE
BEGIN:VEVENT
DTSTART;TZID=America/Vancouver:20241009T200000
DTEND;TZID=America/Vancouver:20241009T220000
DTSTAMP:20260420T141327
CREATED:20230325T214743Z
LAST-MODIFIED:20250508T233611Z
UID:10000093-1728504000-1728511200@effieartsco.ca
SUMMARY:Kamloops Comedy Open Mic
DESCRIPTION:1/$10 General Admission\n\nFree for Performers & Eff Buddies\nDoors 7:30pm\nComedy 8-10pm\n16+\n\nKamloops Comedy Open Mic provides comedians with opportunities to get out in front of a crowd and work on their craft. It is a safe space for comedians (fans may be triggered) to get up and put it all out there.
URL:https://effieartsco.ca/event/kamloops-comedy-open-mic/2024-10-09/
LOCATION:The Effie\, 422 Tranquille Road\, Kamloops\, British Columbia\, V2B 3G8\, Canada
CATEGORIES:Comedy
ATTACH;FMTTYPE=image/jpeg:https://effieartsco.ca/wp-content/uploads/2023/01/Effie-Open-Mic.jpg
END:VEVENT
BEGIN:VEVENT
DTSTART;TZID=America/Vancouver:20241010T200000
DTEND;TZID=America/Vancouver:20241010T220000
DTSTAMP:20260420T141327
CREATED:20240808T042453Z
LAST-MODIFIED:20240808T042454Z
UID:10001119-1728590400-1728597600@effieartsco.ca
SUMMARY:The Bad Decisions Comedy Tour
DESCRIPTION:TICKETS: https://www.eventbrite.ca/e/the-bad-decisions-comedy-tour-kamloops-bc-tickets-970204998267 \nGet ready for a night of non-stop laughter as some of the funniest comedians\, who have been featured on Canada’s Got Talent\, Amazon Prime\, Apple TV\, APTN\, and The Winnipeg Comedy Festival\, take the stage at The Effie Arts Collective \nJoin us for an unforgettable evening filled with hilarious stories\, quick wit\, and a few bad decisions! These comedians have wowed audiences across the country and now they’re bringing their unique brand of humor to Kamloops. Whether you’re a fan of stand-up comedy or just looking for a fun night out\, this is an event you don’t want to miss! \nTickets: 🎟️ (Good Decision): $40 for a pair (until Oct 2nd)\n🎟️ General Admission: $25 per ticket \nMark your calendars\, grab your tickets\, and get ready to laugh until it hurts! See you at The Effie for The Bad Decisions Comedy Tour! \nTICKETS: https://www.eventbrite.ca/e/the-bad-decisions-comedy-tour-kamloops-bc-tickets-970204998267
URL:https://effieartsco.ca/event/the-bad-decisions-comedy-tour/
LOCATION:The Effie\, 422 Tranquille Road\, Kamloops\, British Columbia\, V2B 3G8\, Canada
CATEGORIES:Comedy
ATTACH;FMTTYPE=image/jpeg:https://effieartsco.ca/wp-content/uploads/2024/08/hI7oZDvX-e1723091080460.jpg
END:VEVENT
BEGIN:VEVENT
DTSTART;TZID=America/Vancouver:20241016T190000
DTEND;TZID=America/Vancouver:20241016T190000
DTSTAMP:20260420T141327
CREATED:20231105T040612Z
LAST-MODIFIED:20240316T213959Z
UID:10000400-1729105200-1729105200@effieartsco.ca
SUMMARY:DREW'S KAMCOMEDYFEST
DESCRIPTION:THE EFFIE EXPERIENCE FESTIVAL PASS IS NOW AVAILABLE: https://www.eventbrite.ca/e/the-effie-experience-festival-pass-drews-kamcomedyfest-tickets-864384065007 \nThe Wednesday Night Comedy Open Mic \nDoors 7:30\, Comedy 8pm
URL:https://effieartsco.ca/event/drews-kamcomedyfest-2/
LOCATION:The Effie\, 422 Tranquille Road\, Kamloops\, British Columbia\, V2B 3G8\, Canada
CATEGORIES:Comedy
ATTACH;FMTTYPE=image/png:https://effieartsco.ca/wp-content/uploads/2023/11/DKCF_Logo.png
END:VEVENT
BEGIN:VEVENT
DTSTART;TZID=America/Vancouver:20241018T190000
DTEND;TZID=America/Vancouver:20241018T190000
DTSTAMP:20260420T141327
CREATED:20231105T041254Z
LAST-MODIFIED:20240316T213739Z
UID:10000405-1729278000-1729278000@effieartsco.ca
SUMMARY:DREW'S KAMCOMEDYFEST
DESCRIPTION:THE EFFIE EXPERIENCE FESTIVAL PASS IS NOW AVAILABLE: https://www.eventbrite.ca/e/the-effie-experience-festival-pass-drews-kamcomedyfest-tickets-864384065007 \nThe Friday Night Comedy Doubleheader \nEarly Show – Doors 6:30\, Comedy 7pm \nLate Show – Doors 8:45\, Comedy 9pm
URL:https://effieartsco.ca/event/drews-kamcomedyfest-3/
LOCATION:The Effie\, 422 Tranquille Road\, Kamloops\, British Columbia\, V2B 3G8\, Canada
CATEGORIES:Comedy
ATTACH;FMTTYPE=image/png:https://effieartsco.ca/wp-content/uploads/2023/11/DKCF_Logo.png
END:VEVENT
BEGIN:VEVENT
DTSTART;TZID=America/Vancouver:20241019T190000
DTEND;TZID=America/Vancouver:20241019T190000
DTSTAMP:20260420T141327
CREATED:20231105T041401Z
LAST-MODIFIED:20240316T213522Z
UID:10000406-1729364400-1729364400@effieartsco.ca
SUMMARY:DREW'S KAMCOMEDYFEST
DESCRIPTION:THE EFFIE EXPERIENCE FESTIVAL PASS IS NOW AVAILABLE: https://www.eventbrite.ca/e/the-effie-experience-festival-pass-drews-kamcomedyfest-tickets-864384065007 \nThe Saturday Night Comedy Doubleheader \nEarly Show – Doors 6:30\, Comedy 7pm \nLate Show – Doors 8:45\, Comedy 9pm
URL:https://effieartsco.ca/event/drews-kamcomedyfest-4/
LOCATION:The Effie\, 422 Tranquille Road\, Kamloops\, British Columbia\, V2B 3G8\, Canada
CATEGORIES:Comedy
ATTACH;FMTTYPE=image/png:https://effieartsco.ca/wp-content/uploads/2023/11/DKCF_Logo.png
END:VEVENT
BEGIN:VEVENT
DTSTART;TZID=America/Vancouver:20241023T200000
DTEND;TZID=America/Vancouver:20241023T220000
DTSTAMP:20260420T141327
CREATED:20230325T214743Z
LAST-MODIFIED:20250508T233611Z
UID:10000095-1729713600-1729720800@effieartsco.ca
SUMMARY:Kamloops Comedy Open Mic
DESCRIPTION:1/$10 General Admission\n\nFree for Performers & Eff Buddies\nDoors 7:30pm\nComedy 8-10pm\n16+\n\nKamloops Comedy Open Mic provides comedians with opportunities to get out in front of a crowd and work on their craft. It is a safe space for comedians (fans may be triggered) to get up and put it all out there.
URL:https://effieartsco.ca/event/kamloops-comedy-open-mic/2024-10-23/
LOCATION:The Effie\, 422 Tranquille Road\, Kamloops\, British Columbia\, V2B 3G8\, Canada
CATEGORIES:Comedy
ATTACH;FMTTYPE=image/jpeg:https://effieartsco.ca/wp-content/uploads/2023/01/Effie-Open-Mic.jpg
END:VEVENT
END:VCALENDAR