BEGIN:VCALENDAR
VERSION:2.0
PRODID:-//The Effie - ECPv6.15.20//NONSGML v1.0//EN
CALSCALE:GREGORIAN
METHOD:PUBLISH
X-WR-CALNAME:The Effie
X-ORIGINAL-URL:https://effieartsco.ca
X-WR-CALDESC:Events for The Effie
REFRESH-INTERVAL;VALUE=DURATION:PT1H
X-Robots-Tag:noindex
X-PUBLISHED-TTL:PT1H
BEGIN:VTIMEZONE
TZID:America/Vancouver
BEGIN:DAYLIGHT
TZOFFSETFROM:-0800
TZOFFSETTO:-0700
TZNAME:PDT
DTSTART:20230312T100000
END:DAYLIGHT
BEGIN:STANDARD
TZOFFSETFROM:-0700
TZOFFSETTO:-0800
TZNAME:PST
DTSTART:20231105T090000
END:STANDARD
BEGIN:DAYLIGHT
TZOFFSETFROM:-0800
TZOFFSETTO:-0700
TZNAME:PDT
DTSTART:20240310T100000
END:DAYLIGHT
BEGIN:STANDARD
TZOFFSETFROM:-0700
TZOFFSETTO:-0800
TZNAME:PST
DTSTART:20241103T090000
END:STANDARD
BEGIN:DAYLIGHT
TZOFFSETFROM:-0800
TZOFFSETTO:-0700
TZNAME:PDT
DTSTART:20250309T100000
END:DAYLIGHT
BEGIN:STANDARD
TZOFFSETFROM:-0700
TZOFFSETTO:-0800
TZNAME:PST
DTSTART:20251102T090000
END:STANDARD
END:VTIMEZONE
BEGIN:VEVENT
DTSTART;TZID=America/Vancouver:20240508T200000
DTEND;TZID=America/Vancouver:20240508T220000
DTSTAMP:20260421T092256
CREATED:20230325T214743Z
LAST-MODIFIED:20250508T233611Z
UID:10000071-1715198400-1715205600@effieartsco.ca
SUMMARY:Kamloops Comedy Open Mic
DESCRIPTION:1/$10 General Admission\n\nFree for Performers & Eff Buddies\nDoors 7:30pm\nComedy 8-10pm\n16+\n\nKamloops Comedy Open Mic provides comedians with opportunities to get out in front of a crowd and work on their craft. It is a safe space for comedians (fans may be triggered) to get up and put it all out there.
URL:https://effieartsco.ca/event/kamloops-comedy-open-mic/2024-05-08/
LOCATION:The Effie\, 422 Tranquille Road\, Kamloops\, British Columbia\, V2B 3G8\, Canada
CATEGORIES:Comedy
ATTACH;FMTTYPE=image/jpeg:https://effieartsco.ca/wp-content/uploads/2023/01/Effie-Open-Mic.jpg
END:VEVENT
BEGIN:VEVENT
DTSTART;TZID=America/Vancouver:20240515T200000
DTEND;TZID=America/Vancouver:20240515T200000
DTSTAMP:20260421T092256
CREATED:20240509T040021Z
LAST-MODIFIED:20240509T040021Z
UID:10000547-1715803200-1715803200@effieartsco.ca
SUMMARY:
DESCRIPTION:TICKETS: https://www.eventbrite.ca/e/randii-andii-going-deep-tour-tickets-883912284437 \nDoors: 7:30 Comedy: 8pm \n$20 + eventbrite fees \nShe will have your favourite song so twisted you will never hear it the same again. Leaving you laughing out loud and screaming for more! \nRandii Andii is a musical comedian\, known for her provocative parody songs and show stopping costumes. She grew up on Vancouver Island\, B.C. and began performing in 2005 \, and was touring the world by 2012. She has toured the United States and Canada\, performed in international festivals\, had an entertainment residency at Temptations Resort\, in Cancun Mexico\, she spent 4 years working for Carnival Cruise Lines as part of the Punchliner Comedy Club. Randii Andii released an album in 2012\, ‘Randii Andii – In Your Face’. She has performed on stages from 2 to 10\,000 people. Randii Andii likes to combine many different art forms into her show to take you on a journey that gets more twisted with every song\, A 60 min musical comedy extravaganza that is sure to tickle your funny bone. \nFeaturing: Hector Rivas\, a stand-up comedian from Venezuela based in Vancouver. Since he was a child\, his dream was to be an astronaut. That didn’t work out for him\, because Houston isn’t in Venezuela. With his dreams crushed\, Hector became a hospital clown\, improv actor\, and stand-up comedian in the Venezuelan capital\, Caracas. When Hector was 24\, he travelled to Canada to do comedy in the city of Vancouver. Hector’s unique take on the world combined with his high- octane physical style of comedy means that he’s been a big hit on the Canadian comedy scene. \nTICKETS: https://www.eventbrite.ca/e/randii-andii-going-deep-tour-tickets-883912284437 \nDoors: 7:30 Comedy: 8pm \n$20 + eventbrite fees
URL:https://effieartsco.ca/event/1239/
LOCATION:The Effie\, 422 Tranquille Road\, Kamloops\, British Columbia\, V2B 3G8\, Canada
CATEGORIES:Comedy
ATTACH;FMTTYPE=image/jpeg:https://effieartsco.ca/wp-content/uploads/2024/05/437919260_740718164877866_8583747488744955394_n-e1715227210881.jpg
END:VEVENT
BEGIN:VEVENT
DTSTART;TZID=America/Vancouver:20240517T200000
DTEND;TZID=America/Vancouver:20240517T200000
DTSTAMP:20260421T092256
CREATED:20240509T043010Z
LAST-MODIFIED:20240509T043010Z
UID:10000567-1715976000-1715976000@effieartsco.ca
SUMMARY:Roast Battle featuring Joey Commisso at The Effie
DESCRIPTION:Kamloops comics go head to head in a Roast Battle featuring a headlining set by Joey Commisso \nTICKETS: https://www.eventbrite.ca/e/roast-battle-featuring-joey-commisso-at-the-effie-kamloops-tickets-891435055247 \nDoors 7:30 Comedy 8pm \n$20 + eventbrite fees \n$25 at the door \n19+ \nLanguage Advisory \nKamloops comedians come together for the first official Roast Battle. No holds barred\, this show will cut deep but bring huge laughs to see who is the Roast Champion. \nFeaturing Special Guest Headliner Joey Commisso. With a comedic style that transcends boundaries\, Joey promises an unforgettable performance that resonates with audiences of all backgrounds. Hailed internationally for his sharp wit and flawless delivery\, Joey’s comedic genius has graced stages across Canada\, the USA\, and Europe\, including prestigious events like the JFL Vancouver festival and Standup NBC. \n  \nTICKETS: https://www.eventbrite.ca/e/roast-battle-featuring-joey-commisso-at-the-effie-kamloops-tickets-891435055247 \nDoors 7:30 Comedy 8pm \n$20 + eventbrite fees \n$25 at the door \n19+ \nLanguage Advisory
URL:https://effieartsco.ca/event/roast-battle-featuring-joey-commisso-at-the-effie/
LOCATION:The Effie\, 422 Tranquille Road\, Kamloops\, British Columbia\, V2B 3G8\, Canada
CATEGORIES:Comedy
ATTACH;FMTTYPE=image/jpeg:https://effieartsco.ca/wp-content/uploads/2024/05/https___cdn.evbuc_.com_images_752891099_696679102743_1_original.jpg
END:VEVENT
BEGIN:VEVENT
DTSTART;TZID=America/Vancouver:20240522T200000
DTEND;TZID=America/Vancouver:20240522T220000
DTSTAMP:20260421T092256
CREATED:20230325T214743Z
LAST-MODIFIED:20250508T233611Z
UID:10000073-1716408000-1716415200@effieartsco.ca
SUMMARY:Kamloops Comedy Open Mic
DESCRIPTION:1/$10 General Admission\n\nFree for Performers & Eff Buddies\nDoors 7:30pm\nComedy 8-10pm\n16+\n\nKamloops Comedy Open Mic provides comedians with opportunities to get out in front of a crowd and work on their craft. It is a safe space for comedians (fans may be triggered) to get up and put it all out there.
URL:https://effieartsco.ca/event/kamloops-comedy-open-mic/2024-05-22/
LOCATION:The Effie\, 422 Tranquille Road\, Kamloops\, British Columbia\, V2B 3G8\, Canada
CATEGORIES:Comedy
ATTACH;FMTTYPE=image/jpeg:https://effieartsco.ca/wp-content/uploads/2023/01/Effie-Open-Mic.jpg
END:VEVENT
END:VCALENDAR