BEGIN:VCALENDAR
VERSION:2.0
PRODID:-//The Effie - ECPv6.15.20//NONSGML v1.0//EN
CALSCALE:GREGORIAN
METHOD:PUBLISH
X-WR-CALNAME:The Effie
X-ORIGINAL-URL:https://effieartsco.ca
X-WR-CALDESC:Events for The Effie
REFRESH-INTERVAL;VALUE=DURATION:PT1H
X-Robots-Tag:noindex
X-PUBLISHED-TTL:PT1H
BEGIN:VTIMEZONE
TZID:America/Vancouver
BEGIN:DAYLIGHT
TZOFFSETFROM:-0800
TZOFFSETTO:-0700
TZNAME:PDT
DTSTART:20230312T100000
END:DAYLIGHT
BEGIN:STANDARD
TZOFFSETFROM:-0700
TZOFFSETTO:-0800
TZNAME:PST
DTSTART:20231105T090000
END:STANDARD
BEGIN:DAYLIGHT
TZOFFSETFROM:-0800
TZOFFSETTO:-0700
TZNAME:PDT
DTSTART:20240310T100000
END:DAYLIGHT
BEGIN:STANDARD
TZOFFSETFROM:-0700
TZOFFSETTO:-0800
TZNAME:PST
DTSTART:20241103T090000
END:STANDARD
BEGIN:DAYLIGHT
TZOFFSETFROM:-0800
TZOFFSETTO:-0700
TZNAME:PDT
DTSTART:20250309T100000
END:DAYLIGHT
BEGIN:STANDARD
TZOFFSETFROM:-0700
TZOFFSETTO:-0800
TZNAME:PST
DTSTART:20251102T090000
END:STANDARD
END:VTIMEZONE
BEGIN:VEVENT
DTSTART;TZID=America/Vancouver:20240405T190000
DTEND;TZID=America/Vancouver:20240405T190000
DTSTAMP:20260421T105701
CREATED:20240324T025354Z
LAST-MODIFIED:20240405T235149Z
UID:10000538-1712343600-1712343600@effieartsco.ca
SUMMARY:Hell On Wheelz Presents "What The Effie" Stand Up Comedy Show
DESCRIPTION:TICKETS: https://www.eventbrite.com/e/hell-on-wheelz-presents-what-the-effie-stand-up-comedy-early-show-tickets-860621822037 \n$20 + eventbrite fees \nDoors 6:30\, Comedy 7pm \nRyan Lachance\, Chris Gaskin and their good friend Jesse D are coming your way with their show of epic proportions “Hell on Wheelz” \nAll three of these comedians have lived through the sunshine and the rain of this journey we call life and have come through the other side with one piece of knowledge they can agree on: Laughter is THE best medicine. We believe in the power of laughter to heal and create unity within ourselves and our communities which is why one of the goals of this show is to include as many up-and-coming talents as we can along the way! \nAlso\, we know the value of never taking ourselves too seriously. Whether it’s the unique perspective of Ryan Lachance bringing the able bodied into his world for even just a moment\, the lavishly outrageous storytelling of Chris Griffin which will have you at the tip of your seat to find out what’s waiting just around the corner of his next epic\, or the subtle yet terrifying inside thoughts of Jesse D\, there is truly something for all to leave smiling about after this show. You can miss out if you want but its your funeral! \n\n\nRyan Lachance is a professional stand-up comedian from White Rock\, British Columbia\, who is a hilarious storyteller and seasoned performer with over 25 years of stage experience. \nIncorporating his unique perspective as a comic living with quad-spastic cerebral palsy\, Ryan shares intensely personal anecdotes from his family life growing up in Alberta and BC. He interweaves the everyday joys and serious challenges he has faced while masterfully spinning it all into a hilariously entertaining\, totally unique and memorable performance. \nRyan has established himself as a mainstay of the Vancouver Comedy Scene\, headlining local shows and touring throughout Canada. Ryan served as a feature performer at the Vancouver Fringe Festival\, headlined at House of Comedy\, performed at the Halifax comedy festival in 2023\, and is a regular headline and feature act at Yuk Yuk’s\, House of Comedy\, and Just for Laughs. Even more recently\, Ryan collaborated on the Just for Laughs Best of the West comedy album compilation! \n\n\n\n\nJESSE D \nJesse DeWispelaere is a 31-year-old father of four beautiful children. He was born and raised on Vancouver Island. After fighting a decade and a half’s battle with addiction he found one thing that ultimately made a difference in his life\, the life of his loved ones\, and the society he grew up in… art. Through his facets of stand-up comedy\, music\, and poetry he has learned that there truly is no problem that a laugh\, a poem\, and some rhythm can’t help you carry! Some of Jesse’s most recent accomplishments are performing as an opener at yuk yuks\, and the Nanaimo Fringe Festival. After just awakening to his calling\, he has found that he truly is the poet who didn’t know it. \nTICKETS: https://www.eventbrite.com/e/hell-on-wheelz-presents-what-the-effie-stand-up-comedy-early-show-tickets-860621822037 \n$20 + eventbrite fees \nDoors 6:30\, Comedy 7pm
URL:https://effieartsco.ca/event/hell-on-wheelz-presents-what-the-effie-stand-up-comedy-show/
LOCATION:The Effie\, 422 Tranquille Road\, Kamloops\, British Columbia\, V2B 3G8\, Canada
CATEGORIES:Comedy
ATTACH;FMTTYPE=image/jpeg:https://effieartsco.ca/wp-content/uploads/2024/03/433564004_724365733179776_4886535601190326423_n.jpg
END:VEVENT
BEGIN:VEVENT
DTSTART;TZID=America/Vancouver:20240410T200000
DTEND;TZID=America/Vancouver:20240410T220000
DTSTAMP:20260421T105701
CREATED:20230325T214743Z
LAST-MODIFIED:20250508T233611Z
UID:10000067-1712779200-1712786400@effieartsco.ca
SUMMARY:Kamloops Comedy Open Mic
DESCRIPTION:1/$10 General Admission\n\nFree for Performers & Eff Buddies\nDoors 7:30pm\nComedy 8-10pm\n16+\n\nKamloops Comedy Open Mic provides comedians with opportunities to get out in front of a crowd and work on their craft. It is a safe space for comedians (fans may be triggered) to get up and put it all out there.
URL:https://effieartsco.ca/event/kamloops-comedy-open-mic/2024-04-10/
LOCATION:The Effie\, 422 Tranquille Road\, Kamloops\, British Columbia\, V2B 3G8\, Canada
CATEGORIES:Comedy
ATTACH;FMTTYPE=image/jpeg:https://effieartsco.ca/wp-content/uploads/2023/01/Effie-Open-Mic.jpg
END:VEVENT
BEGIN:VEVENT
DTSTART;TZID=America/Vancouver:20240419T200000
DTEND;TZID=America/Vancouver:20240419T200000
DTSTAMP:20260421T105701
CREATED:20240305T085216Z
LAST-MODIFIED:20240316T175135Z
UID:10000537-1713556800-1713556800@effieartsco.ca
SUMMARY:Stand Up Comedy at The Effie Starring Jordan Strauss
DESCRIPTION:TICKETS: https://www.eventbrite.com/e/856793290797 \nDoors 7:30\, Comedy 8pm \nIntroducing Jordan Strauss\, a comedic virtuoso hailing from the heart of British Columbia\, Canada. With a career spanning eight uproarious years\, Jordan has emerged as a luminary in the world of stand-up comedy. Jordan’s unique comedic voice is a kaleidoscope of absurdity\, where everyday stories are spun into comedic gold through the lens of the utterly bizarre. Having shared the stage with some of Canada’s comedy elite\, including Jon Dore and Sean Mjumder\, Jordan always impresses with a style that’s been described as a delightful cocktail of cleverness and absurdity. Jordan Strauss is the comedian you won’t want to miss! \nDoors 7:30\, Comedy 8pm \nTICKETS: https://www.eventbrite.com/e/856793290797
URL:https://effieartsco.ca/event/stand-up-comedy-at-the-effie-starring-jordan-strauss/
LOCATION:The Effie\, 422 Tranquille Road\, Kamloops\, British Columbia\, V2B 3G8\, Canada
CATEGORIES:Comedy
ATTACH;FMTTYPE=image/jpeg:https://effieartsco.ca/wp-content/uploads/2024/03/3F9433FB-B62B-42B9-BDDC-B2877D2F96F4.jpeg
END:VEVENT
BEGIN:VEVENT
DTSTART;TZID=America/Vancouver:20240424T200000
DTEND;TZID=America/Vancouver:20240424T220000
DTSTAMP:20260421T105701
CREATED:20230325T214743Z
LAST-MODIFIED:20250508T233611Z
UID:10000069-1713988800-1713996000@effieartsco.ca
SUMMARY:Kamloops Comedy Open Mic
DESCRIPTION:1/$10 General Admission\n\nFree for Performers & Eff Buddies\nDoors 7:30pm\nComedy 8-10pm\n16+\n\nKamloops Comedy Open Mic provides comedians with opportunities to get out in front of a crowd and work on their craft. It is a safe space for comedians (fans may be triggered) to get up and put it all out there.
URL:https://effieartsco.ca/event/kamloops-comedy-open-mic/2024-04-24/
LOCATION:The Effie\, 422 Tranquille Road\, Kamloops\, British Columbia\, V2B 3G8\, Canada
CATEGORIES:Comedy
ATTACH;FMTTYPE=image/jpeg:https://effieartsco.ca/wp-content/uploads/2023/01/Effie-Open-Mic.jpg
END:VEVENT
END:VCALENDAR