BEGIN:VCALENDAR
VERSION:2.0
PRODID:-//The Effie - ECPv6.15.20//NONSGML v1.0//EN
CALSCALE:GREGORIAN
METHOD:PUBLISH
X-WR-CALNAME:The Effie
X-ORIGINAL-URL:https://effieartsco.ca
X-WR-CALDESC:Events for The Effie
REFRESH-INTERVAL;VALUE=DURATION:PT1H
X-Robots-Tag:noindex
X-PUBLISHED-TTL:PT1H
BEGIN:VTIMEZONE
TZID:America/Vancouver
BEGIN:DAYLIGHT
TZOFFSETFROM:-0800
TZOFFSETTO:-0700
TZNAME:PDT
DTSTART:20230312T100000
END:DAYLIGHT
BEGIN:STANDARD
TZOFFSETFROM:-0700
TZOFFSETTO:-0800
TZNAME:PST
DTSTART:20231105T090000
END:STANDARD
BEGIN:DAYLIGHT
TZOFFSETFROM:-0800
TZOFFSETTO:-0700
TZNAME:PDT
DTSTART:20240310T100000
END:DAYLIGHT
BEGIN:STANDARD
TZOFFSETFROM:-0700
TZOFFSETTO:-0800
TZNAME:PST
DTSTART:20241103T090000
END:STANDARD
BEGIN:DAYLIGHT
TZOFFSETFROM:-0800
TZOFFSETTO:-0700
TZNAME:PDT
DTSTART:20250309T100000
END:DAYLIGHT
BEGIN:STANDARD
TZOFFSETFROM:-0700
TZOFFSETTO:-0800
TZNAME:PST
DTSTART:20251102T090000
END:STANDARD
END:VTIMEZONE
BEGIN:VEVENT
DTSTART;TZID=America/Vancouver:20240313T200000
DTEND;TZID=America/Vancouver:20240313T220000
DTSTAMP:20260421T122448
CREATED:20230325T214743Z
LAST-MODIFIED:20250508T233611Z
UID:10000063-1710360000-1710367200@effieartsco.ca
SUMMARY:Kamloops Comedy Open Mic
DESCRIPTION:1/$10 General Admission\n\nFree for Performers & Eff Buddies\nDoors 7:30pm\nComedy 8-10pm\n16+\n\nKamloops Comedy Open Mic provides comedians with opportunities to get out in front of a crowd and work on their craft. It is a safe space for comedians (fans may be triggered) to get up and put it all out there.
URL:https://effieartsco.ca/event/kamloops-comedy-open-mic/2024-03-13/
LOCATION:The Effie\, 422 Tranquille Road\, Kamloops\, British Columbia\, V2B 3G8\, Canada
CATEGORIES:Comedy
ATTACH;FMTTYPE=image/jpeg:https://effieartsco.ca/wp-content/uploads/2023/01/Effie-Open-Mic.jpg
END:VEVENT
BEGIN:VEVENT
DTSTART;TZID=America/Vancouver:20240315T200000
DTEND;TZID=America/Vancouver:20240315T200000
DTSTAMP:20260421T122448
CREATED:20240216T040649Z
LAST-MODIFIED:20240216T051802Z
UID:10000530-1710532800-1710532800@effieartsco.ca
SUMMARY:Stand Up Comedy Starring Jamie Charest
DESCRIPTION:Doors 7:30 Comedy 8pm \n$20+fees \nTICKETS:  https://www.eventbrite.ca/e/841288786407 \nJamie Charest has performed at every major comedy club in Western Canada. His self observational stand up comedy has been featured on CBC Radio\, and he has made several T.V. and movie appearances. He has shared the stage with Tom Green\, Tom Segura and Steve O from Jackass. \nTICKETS: https://www.eventbrite.ca/e/841288786407 \nDoors 7:30 Comedy 8pm \n$20+fees
URL:https://effieartsco.ca/event/stand-up-comedy-starring-jamie-charest/
LOCATION:The Effie\, 422 Tranquille Road\, Kamloops\, British Columbia\, V2B 3G8\, Canada
CATEGORIES:Comedy
ATTACH;FMTTYPE=image/png:https://effieartsco.ca/wp-content/uploads/2024/02/423766444_1786499318483176_3741708449390257836_n.png
END:VEVENT
BEGIN:VEVENT
DTSTART;TZID=America/Vancouver:20240322T190000
DTEND;TZID=America/Vancouver:20240322T190000
DTSTAMP:20260421T122448
CREATED:20240118T223404Z
LAST-MODIFIED:20240125T004932Z
UID:10000443-1711134000-1711134000@effieartsco.ca
SUMMARY:Comedy Fundraiser for The LOOP Starring Big Daddy Tazz
DESCRIPTION:$20 +fees \nTICKETS: https://www.eventbrite.ca/e/809678398887 \nEARLY SHOW: Doors 6:30 Comedy 7pm \nLATE SHOW: Doors 8:45 Comedy 9PM \nCome together as a community to laugh and raise money for The LOOP!\n \nThe LOOP is a Community Resource & Drop in Centre in its fifth year of operations providing meals\, clothing\, advocacy and supports to Kamloops Homeless and others living in poverty with mental\, physical and substance use challenges.\n \nBig Daddy Tazz turns mundane events into side-splitting\nstories! He is the act that has no act. His quick wit\,\nimprov style\, crowd interaction\, clean show and\namazing stage presence bring audiences to their knees\nin laughter and to their feet with applause and\nadulation\, with no two shows being the same.\nHis amazing stand-up comedy shows have been\nfeatured on Just for Laughs\, the CBC Winnipeg Comedy\nFestival\, CBC’s “The Debaters” and the Comedy\nNetwork. Tazz once set a record for the longest standup\ncomedy show at 8 ½ hours as a fundraiser for one of\nthe many charities he supports.\nAfter thirty years of denying he had the mental illnesses\nthat were controlling his life\, Tazz realized that being a\nmanic-depressive\, attention deficit\, socially-anxious\,\nobsessive-compulsive dyslexic could either destroy or\nenhance his life: the choice was his. Today\, audiences\nare happy to join him on his rapid cycle ride down the\nroad to recovery that has led him from the psych ward\nat the Calgary Foothills Hospital to speaking\nengagements across North America.\nWhether it’s a corporate event or charity fundraiser\,\ncomedy show or keynote seminar\, Tazz will make you\nlaugh until you cry and then laugh some more\, it’s the\nbi-polar way.\n“It was so nice to have an evening where everyone\ncould laugh and no one felt uncomfortable. Tazz proves\nthat you can get laughs without being foul or offensive”\nCBC’s Winnipeg Comedy Festival \nTICKETS: https://www.eventbrite.ca/e/809678398887
URL:https://effieartsco.ca/event/comedy-fundraiser-for-the-loop-starring-big-daddy-tazz/
LOCATION:The Effie\, 422 Tranquille Road\, Kamloops\, British Columbia\, V2B 3G8\, Canada
CATEGORIES:Comedy
ATTACH;FMTTYPE=image/jpeg:https://effieartsco.ca/wp-content/uploads/2024/01/Website-Banner-2160-x-1080-px4.jpg
END:VEVENT
BEGIN:VEVENT
DTSTART;TZID=America/Vancouver:20240327T200000
DTEND;TZID=America/Vancouver:20240327T220000
DTSTAMP:20260421T122448
CREATED:20230325T214743Z
LAST-MODIFIED:20250508T233611Z
UID:10000065-1711569600-1711576800@effieartsco.ca
SUMMARY:Kamloops Comedy Open Mic
DESCRIPTION:1/$10 General Admission\n\nFree for Performers & Eff Buddies\nDoors 7:30pm\nComedy 8-10pm\n16+\n\nKamloops Comedy Open Mic provides comedians with opportunities to get out in front of a crowd and work on their craft. It is a safe space for comedians (fans may be triggered) to get up and put it all out there.
URL:https://effieartsco.ca/event/kamloops-comedy-open-mic/2024-03-27/
LOCATION:The Effie\, 422 Tranquille Road\, Kamloops\, British Columbia\, V2B 3G8\, Canada
CATEGORIES:Comedy
ATTACH;FMTTYPE=image/jpeg:https://effieartsco.ca/wp-content/uploads/2023/01/Effie-Open-Mic.jpg
END:VEVENT
END:VCALENDAR