BEGIN:VCALENDAR
VERSION:2.0
PRODID:-//The Effie - ECPv6.15.20//NONSGML v1.0//EN
CALSCALE:GREGORIAN
METHOD:PUBLISH
X-ORIGINAL-URL:https://effieartsco.ca
X-WR-CALDESC:Events for The Effie
REFRESH-INTERVAL;VALUE=DURATION:PT1H
X-Robots-Tag:noindex
X-PUBLISHED-TTL:PT1H
BEGIN:VTIMEZONE
TZID:America/Vancouver
BEGIN:DAYLIGHT
TZOFFSETFROM:-0800
TZOFFSETTO:-0700
TZNAME:PDT
DTSTART:20220313T100000
END:DAYLIGHT
BEGIN:STANDARD
TZOFFSETFROM:-0700
TZOFFSETTO:-0800
TZNAME:PST
DTSTART:20221106T090000
END:STANDARD
BEGIN:DAYLIGHT
TZOFFSETFROM:-0800
TZOFFSETTO:-0700
TZNAME:PDT
DTSTART:20230312T100000
END:DAYLIGHT
BEGIN:STANDARD
TZOFFSETFROM:-0700
TZOFFSETTO:-0800
TZNAME:PST
DTSTART:20231105T090000
END:STANDARD
BEGIN:DAYLIGHT
TZOFFSETFROM:-0800
TZOFFSETTO:-0700
TZNAME:PDT
DTSTART:20240310T100000
END:DAYLIGHT
BEGIN:STANDARD
TZOFFSETFROM:-0700
TZOFFSETTO:-0800
TZNAME:PST
DTSTART:20241103T090000
END:STANDARD
END:VTIMEZONE
BEGIN:VEVENT
DTSTART;TZID=America/Vancouver:20230510T190000
DTEND;TZID=America/Vancouver:20230510T210000
DTSTAMP:20260422T165656
CREATED:20230422T053532Z
LAST-MODIFIED:20230422T053848Z
UID:10000019-1683745200-1683752400@effieartsco.ca
SUMMARY:Chemo to Comedy - A Special Kamloops Comedy Open Mic
DESCRIPTION:Doors 6:30 Comedy 7pm 16+ Licensed Event $20+fees\n\n\n\n\n\n\n\n\nJackpot Comedy is thrilled to welcome headliner\,\nKATHLEEN MCGEE!\n\nDid you have that babysitter who was the first person to explain what a bikini wax was? She was the one who always snuck into your mom’s scotch\, gave you a nip\, then had a screaming fight with her boyfriend on your land line\, warned you off all men\, then the boyfriend showed up and they spent the rest of the night making out on your couch.\nNo? You do now.\nKathleen has been seen at Just for Laughs on The Nasty Girls Show\, JFL Northwest Nasty Show\, in SiriusXM Top Comic\, Winnipeg Comedy Festival\, CBC Debaters\, CBC Television\, and the Oddblock Comedy Festival. She has been a returning guest on Stop Podcasting Yourself\, Ari Shaffir’s Skeptic Tank\, and can be heard regularly on Sirius XM Radio. Kathleen also co-hosts her own popular podcast Dead Baby Bear with fellow comedian Sean Lecomber. She has worked with some of the biggest names in comedy including Russell Peters\, Hannibal Burress\, Dave Foley\, and Ari Shaffir.\nThis girl’s unapologetic and dark sense of humor will have you talking long after the show is over.\n\n\n\n\n\n\nHot off his new album recording; “The funny thing about cancer”\, we are joined by featuring act\,\nJORDAN STRAUSS!\n\nStrauss has been a staple in the Okanagan comedy scene for the better part of a decade and is known for his clever writing and charismatic delivery style. A fan favorite and a prolific writer\, you’re always going to be hearing fresh\, hilarious material from this comedian on the rise.Equipped with a charming sense of absurdity\, Jordan Strauss is a perfect cocktail of outrageous and clever. Jordan has performed with some of the biggest acts in the country\, and with a 1st place win at the 2018 Calgary Funnyfest Talent Search\, as well as a break out performance at Just for Laughs NorthWest\, this young comedian is bound to fill your night with laughter and tears…the good kind.\n\n\n\n\nTICKETS:  https://www.eventbrite.ca/e/622773982747
URL:https://effieartsco.ca/event/kamloops-comedy-open-mic-3/
LOCATION:The Effie\, 422 Tranquille Road\, Kamloops\, British Columbia\, V2B 3G8\, Canada
CATEGORIES:Comedy
ATTACH;FMTTYPE=image/jpeg:https://effieartsco.ca/wp-content/uploads/2023/03/Website-Banner3.jpg
END:VEVENT
BEGIN:VEVENT
DTSTART;TZID=America/Vancouver:20230510T200000
DTEND;TZID=America/Vancouver:20230510T220000
DTSTAMP:20260422T165656
CREATED:20230325T214743Z
LAST-MODIFIED:20250508T233611Z
UID:10000314-1683748800-1683756000@effieartsco.ca
SUMMARY:Kamloops Comedy Open Mic
DESCRIPTION:1/$10 General Admission\n\nFree for Performers & Eff Buddies\nDoors 7:30pm\nComedy 8-10pm\n16+\n\nKamloops Comedy Open Mic provides comedians with opportunities to get out in front of a crowd and work on their craft. It is a safe space for comedians (fans may be triggered) to get up and put it all out there.
URL:https://effieartsco.ca/event/kamloops-comedy-open-mic/2023-05-10/
LOCATION:The Effie\, 422 Tranquille Road\, Kamloops\, British Columbia\, V2B 3G8\, Canada
CATEGORIES:Comedy
ATTACH;FMTTYPE=image/jpeg:https://effieartsco.ca/wp-content/uploads/2023/01/Effie-Open-Mic.jpg
END:VEVENT
BEGIN:VEVENT
DTSTART;TZID=America/Vancouver:20230520T200000
DTEND;TZID=America/Vancouver:20230520T230000
DTSTAMP:20260422T165656
CREATED:20230328T065345Z
LAST-MODIFIED:20230404T043313Z
UID:10000302-1684612800-1684623600@effieartsco.ca
SUMMARY:DIY Comedy
DESCRIPTION:$20 + fees\nDoors 7:30pm\nComedy 8pm\n19+ Licensed Event \nFresh off his appearance in Canada’s Got Talent (CTV)\, Scott Porteous (Herbert Henries) is on tour with friends\, Frank Russo (Sudbury LOL Festival) and Mike Payne (Cottage Country Comedy Festival).\nThis stand-up comedy trio is a guaranteed laugh\, whether it’s with them\, at them or around them. \nSCOTT PORTEOUS AKA HERBERT HENRIES \nONE MAN\, MULTIPLE ACTS \nScott Porteous – Scott is one of Canada’s youngest comedy veterans. He’s not even 40 and has already been performing stand-up comedy for nearly 20 years. Some of Scott’s accolades include performing at The Winnipeg Comedy Festival\, The World Series of Comedy in Las Vegas and most recently had his alter-ego featured on Canada’s Got Talent. Scott’s style of comedy is quick\, and quirky\, with a hybrid of intelligent and just plain dumb jokes. Scott is very awkward but in a charming way… he thinks.\nHerbert Henries – Mr. Henries is the one-and-only “Comedy Dangerist” in the world! Most likely because he also invented “Comedy Dangerism”. To put it simply\, Herbert performs “Acts of Danger” while telling jokes. Herbert has been in and around comedy for less than a year and has already left his mark on Canadian Comedy. Herbert recently performed in front of the judges at Canada’s Got Talent and was told by Howie Mandel that he is “Winnipeg’s greatest comedy export”. Whether it be by his unique “dangerist-stunts”\, his jokes or his awkward yet endearing personality\, Herbert Henries is the definition of the phrase “one of a kind” \nFRANK RUSSO \nFROM CONCEPT to ABSURDITY \nFrank Russo – Frank has the unique ability to take the mundane and drag it into the absurd. Having performed in comedy clubs and indie shows across Canada for over 9 years\, Frank uses his charm\, quick wit and intelligent humour to connect with audiences from all walks of life. Now based in Calgary\, Frank has previously produced and hosted weekly comedy shows in Toronto and Halifax\, performed in festivals including Sudbury Laugh Out Loud festival\, The World Series of Comedy\, The Thunder Bay Comedy Festival\, and was a featured act in The Human Condition Cross-Canada Comedy Tour in 2019. \nMIKE PAYNE \nANOTHER SILLY MAN-CHILD \nMike Payne – Mike has been a key-player in the Toronto Comedy Scene for 6 years and has toured most of North America and Edinburgh (Scotland). Mike has worked with Yuk Yuks\, Absolute Comedy\,\nRick Bronson’s The Comic Strip and runs his acclaimed monthly show; The Stand-Up Show with Mike Payne at the world famous Comedy Bar. Mike has worked with acts including Rick Mercer\, Jeremy Hotz\, Ali Siddiq\, Simon Rakoff\, Martha Chaves\, Casey Corbin\, Cedric Newman and Aaron Berg. Mike has also appeared in festivals including The Cottage Country Comedy Festival\, The Dirty Bird Comedy Festival\, The Brantford Comedy Festival and was a winner of the Gemini Comedy Festival along side Al Val.\nMike is most commonly recognised from Burger King’s Impossible Whopper commercial (National Campaign\, 2021) as the “that’s pretty good” guy. \nTICKETS: \nhttps://www.eventbrite.ca/e/diy-comedy-tour-starring-scott-porteous-frank-russo-mike-pay-tickets-607992831927
URL:https://effieartsco.ca/event/diy-comedy/
LOCATION:The Effie\, 422 Tranquille Road\, Kamloops\, British Columbia\, V2B 3G8\, Canada
CATEGORIES:Comedy
ATTACH;FMTTYPE=image/jpeg:https://effieartsco.ca/wp-content/uploads/2023/03/Website-Banner-2.jpg
END:VEVENT
BEGIN:VEVENT
DTSTART;TZID=America/Vancouver:20230524T200000
DTEND;TZID=America/Vancouver:20230524T220000
DTSTAMP:20260422T165656
CREATED:20230325T214743Z
LAST-MODIFIED:20250508T233611Z
UID:10000021-1684958400-1684965600@effieartsco.ca
SUMMARY:Kamloops Comedy Open Mic
DESCRIPTION:1/$10 General Admission\n\nFree for Performers & Eff Buddies\nDoors 7:30pm\nComedy 8-10pm\n16+\n\nKamloops Comedy Open Mic provides comedians with opportunities to get out in front of a crowd and work on their craft. It is a safe space for comedians (fans may be triggered) to get up and put it all out there.
URL:https://effieartsco.ca/event/kamloops-comedy-open-mic/2023-05-24/
LOCATION:The Effie\, 422 Tranquille Road\, Kamloops\, British Columbia\, V2B 3G8\, Canada
CATEGORIES:Comedy
ATTACH;FMTTYPE=image/jpeg:https://effieartsco.ca/wp-content/uploads/2023/01/Effie-Open-Mic.jpg
END:VEVENT
BEGIN:VEVENT
DTSTART;TZID=America/Vancouver:20230525T190000
DTEND;TZID=America/Vancouver:20230525T220000
DTSTAMP:20260422T165656
CREATED:20230517T013012Z
LAST-MODIFIED:20230517T013150Z
UID:10000308-1685041200-1685052000@effieartsco.ca
SUMMARY:We Used To Date! Comedy Show
DESCRIPTION:Join Kate Belton and Matt Baker in a comedy show loosely based on breakups\, relationships and love. The last show sold out and was one of the best comedy shows this year! \nAs seen at JFL Northwest and heard on CBC’s Laugh Out Loud\, Kate and Matt are two of the Interior’s best comedians. \nDoors 6:30 Comedy 7pm\n19+ Licensed event\n$20 + fees \nTICKETS: https://www.eventbrite.ca/e/632756370337
URL:https://effieartsco.ca/event/we-used-to-date-comedy-show-2/
LOCATION:The Effie\, 422 Tranquille Road\, Kamloops\, British Columbia\, V2B 3G8\, Canada
CATEGORIES:Comedy
ATTACH;FMTTYPE=image/png:https://effieartsco.ca/wp-content/uploads/2023/05/Screenshot-2023-05-16-at-18-29-01-Eventbrite-Edit-We-Used-To-Date-Comedy-Show-Kamloops-e1684287212611.png
END:VEVENT
END:VCALENDAR