BEGIN:VCALENDAR
VERSION:2.0
PRODID:-//The Effie - ECPv6.15.20//NONSGML v1.0//EN
CALSCALE:GREGORIAN
METHOD:PUBLISH
X-ORIGINAL-URL:https://effieartsco.ca
X-WR-CALDESC:Events for The Effie
REFRESH-INTERVAL;VALUE=DURATION:PT1H
X-Robots-Tag:noindex
X-PUBLISHED-TTL:PT1H
BEGIN:VTIMEZONE
TZID:America/Vancouver
BEGIN:DAYLIGHT
TZOFFSETFROM:-0800
TZOFFSETTO:-0700
TZNAME:PDT
DTSTART:20220313T100000
END:DAYLIGHT
BEGIN:STANDARD
TZOFFSETFROM:-0700
TZOFFSETTO:-0800
TZNAME:PST
DTSTART:20221106T090000
END:STANDARD
BEGIN:DAYLIGHT
TZOFFSETFROM:-0800
TZOFFSETTO:-0700
TZNAME:PDT
DTSTART:20230312T100000
END:DAYLIGHT
BEGIN:STANDARD
TZOFFSETFROM:-0700
TZOFFSETTO:-0800
TZNAME:PST
DTSTART:20231105T090000
END:STANDARD
BEGIN:DAYLIGHT
TZOFFSETFROM:-0800
TZOFFSETTO:-0700
TZNAME:PDT
DTSTART:20240310T100000
END:DAYLIGHT
BEGIN:STANDARD
TZOFFSETFROM:-0700
TZOFFSETTO:-0800
TZNAME:PST
DTSTART:20241103T090000
END:STANDARD
END:VTIMEZONE
BEGIN:VEVENT
DTSTART;TZID=America/Vancouver:20230405T200000
DTEND;TZID=America/Vancouver:20230405T220000
DTSTAMP:20260422T232047
CREATED:20230402T211828Z
LAST-MODIFIED:20230402T212428Z
UID:10000014-1680724800-1680732000@effieartsco.ca
SUMMARY:Kamloops Comedy Open Mic
DESCRIPTION:$10 General Admission\n\nFree for Performers & Eff Buddies\nDoors 7:30pm\nComedy 8-10pm\n16+ Licensed Event \n\n\nBonnie Esson is a Kelowna based stand up comedian who has performed extensively throughout British Columbia since beginning this strange career in 2018. Her comedy focuses on the terrifying and annoying world of modern dating and the absurdity of human relationships. In addition to this she loves to point out the absurd and strange in every day life.\nPrior to taking the plunge into stand up\, Bonnie performed with the Okanagan’s premier improv group\, Monkey With a Button\, as well as spending a good 3 years doing critically acclaimed theatrical productions (mainly so she could show off how well she can do accents).\n\n\nKamloops Comedy Open Mic provides comedians with opportunities to get out in front of a crowd and work on their craft. It is a safe space for comedians (fans may be triggered) to get up and put it all out there. \n\n\nTICKETS:\n\n\nhttps://www.eventbrite.ca/e/bonnie-esson-headlines-the-kamloops-comedy-open-mic-tickets-606773234077
URL:https://effieartsco.ca/event/kamloops-comedy-open-mic-2/
LOCATION:The Effie\, 422 Tranquille Road\, Kamloops\, British Columbia\, V2B 3G8\, Canada
CATEGORIES:Comedy
ATTACH;FMTTYPE=image/jpeg:https://effieartsco.ca/wp-content/uploads/2023/03/bonnie-esson.jpg
END:VEVENT
BEGIN:VEVENT
DTSTART;TZID=America/Vancouver:20230406T190000
DTEND;TZID=America/Vancouver:20230406T210000
DTSTAMP:20260422T232047
CREATED:20230327T043535Z
LAST-MODIFIED:20230327T043609Z
UID:10000282-1680807600-1680814800@effieartsco.ca
SUMMARY:We Used To Date! Comedy Show
DESCRIPTION:Doors 6:30 Comedy 7pm\n19+ Licensed event\n$20+fees \nJoin Kate Belton and Matt Baker in a comedy show loosely based on breakups\, relationships and love. \nAs seen at JFL Northwest and heard on CBC’s Laugh Out Loud\, Kate and Matt are two of the Interior’s best comedians. \nTICKETS: \nhttps://www.eventbrite.ca/e/574035675157
URL:https://effieartsco.ca/event/we-used-to-date-comedy-show/
LOCATION:The Effie\, 422 Tranquille Road\, Kamloops\, British Columbia\, V2B 3G8\, Canada
CATEGORIES:Comedy
ATTACH;FMTTYPE=image/jpeg:https://effieartsco.ca/wp-content/uploads/2023/03/kate-belton-matt-baker.jpg
END:VEVENT
BEGIN:VEVENT
DTSTART;TZID=America/Vancouver:20230412T200000
DTEND;TZID=America/Vancouver:20230412T220000
DTSTAMP:20260422T232048
CREATED:20230325T214743Z
LAST-MODIFIED:20250508T233611Z
UID:10000015-1681329600-1681336800@effieartsco.ca
SUMMARY:Kamloops Comedy Open Mic
DESCRIPTION:1/$10 General Admission\n\nFree for Performers & Eff Buddies\nDoors 7:30pm\nComedy 8-10pm\n16+\n\nKamloops Comedy Open Mic provides comedians with opportunities to get out in front of a crowd and work on their craft. It is a safe space for comedians (fans may be triggered) to get up and put it all out there.
URL:https://effieartsco.ca/event/kamloops-comedy-open-mic/2023-04-12/
LOCATION:The Effie\, 422 Tranquille Road\, Kamloops\, British Columbia\, V2B 3G8\, Canada
CATEGORIES:Comedy
ATTACH;FMTTYPE=image/jpeg:https://effieartsco.ca/wp-content/uploads/2023/01/Effie-Open-Mic.jpg
END:VEVENT
BEGIN:VEVENT
DTSTART;TZID=America/Vancouver:20230422T200000
DTEND;TZID=America/Vancouver:20230422T230000
DTSTAMP:20260422T232048
CREATED:20230326T220422Z
LAST-MODIFIED:20230326T220438Z
UID:10000277-1682193600-1682204400@effieartsco.ca
SUMMARY:Show Me Your... Ogopogo - Comedy Night at the Effie
DESCRIPTION:Doors 7:30pm Show 8:00 pm\n19+ Licensed Event\nTickets $20 \nComedy Night at the Effie starring Johnny DiVito\, Andrew Crone\, Jackie Agnew\, and Ty Boissoneault! \nTICKETS: \nhttps://www.eventbrite.ca/e/599764109597
URL:https://effieartsco.ca/event/show-me-your-ogopogo-comedy-night-at-the-effie/
LOCATION:The Effie\, 422 Tranquille Road\, Kamloops\, British Columbia\, V2B 3G8\, Canada
CATEGORIES:Comedy
ATTACH;FMTTYPE=image/jpeg:https://effieartsco.ca/wp-content/uploads/2023/03/live-Stand-up-e1679868253689.jpg
END:VEVENT
BEGIN:VEVENT
DTSTART;TZID=America/Vancouver:20230423T193000
DTEND;TZID=America/Vancouver:20230423T223000
DTSTAMP:20260422T232048
CREATED:20230328T044835Z
LAST-MODIFIED:20230328T053837Z
UID:10000283-1682278200-1682289000@effieartsco.ca
SUMMARY:Comedy Night Starring Lori Ferguson with Ben Bauce
DESCRIPTION:Doors 7:00pm\nComedy 7:30pm\n19+ Licensed Event\n$15 + fees\n\nLori Ferguson is a 35 year comedy veteran! She has her own comedy special on CTV and The Comedy Network. Lori has recently recorded an album for Just For Laughs and has just put out her own comedy album titled\, “ANTIQUE VAG!” Her down to Earth style makes her a club favorite!\nBen Bauce is a Calgary boy who spent the last 13 years calling Saskatoon\, Saskatchewan home. This redneck/city-boy/hippy has a blue-collar upbringing\, a huge family and a teenage daughter that are the inspiration and motivation for his recent comedic escapades.\nEntertaining audiences from Flin Flon to Nanaimo (and most spots in-between) Ben’s love for comedy and laughter has him putting on the miles to make you smile\n\nTICKETS:\n\nhttps://www.eventbrite.ca/e/601069774877
URL:https://effieartsco.ca/event/comedy-night-starring-lori-ferguson-with-ben-bauce/
LOCATION:The Effie\, 422 Tranquille Road\, Kamloops\, British Columbia\, V2B 3G8\, Canada
CATEGORIES:Comedy
ATTACH;FMTTYPE=image/jpeg:https://effieartsco.ca/wp-content/uploads/2023/03/Ben-Bauce.jpg
END:VEVENT
BEGIN:VEVENT
DTSTART;TZID=America/Vancouver:20230426T200000
DTEND;TZID=America/Vancouver:20230426T220000
DTSTAMP:20260422T232048
CREATED:20230325T214743Z
LAST-MODIFIED:20250508T233611Z
UID:10000017-1682539200-1682546400@effieartsco.ca
SUMMARY:Kamloops Comedy Open Mic
DESCRIPTION:1/$10 General Admission\n\nFree for Performers & Eff Buddies\nDoors 7:30pm\nComedy 8-10pm\n16+\n\nKamloops Comedy Open Mic provides comedians with opportunities to get out in front of a crowd and work on their craft. It is a safe space for comedians (fans may be triggered) to get up and put it all out there.
URL:https://effieartsco.ca/event/kamloops-comedy-open-mic/2023-04-26/
LOCATION:The Effie\, 422 Tranquille Road\, Kamloops\, British Columbia\, V2B 3G8\, Canada
CATEGORIES:Comedy
ATTACH;FMTTYPE=image/jpeg:https://effieartsco.ca/wp-content/uploads/2023/01/Effie-Open-Mic.jpg
END:VEVENT
END:VCALENDAR