BEGIN:VCALENDAR
VERSION:2.0
PRODID:-//The Effie - ECPv6.15.20//NONSGML v1.0//EN
CALSCALE:GREGORIAN
METHOD:PUBLISH
X-WR-CALNAME:The Effie
X-ORIGINAL-URL:https://effieartsco.ca
X-WR-CALDESC:Events for The Effie
REFRESH-INTERVAL;VALUE=DURATION:PT1H
X-Robots-Tag:noindex
X-PUBLISHED-TTL:PT1H
BEGIN:VTIMEZONE
TZID:America/Vancouver
BEGIN:DAYLIGHT
TZOFFSETFROM:-0800
TZOFFSETTO:-0700
TZNAME:PDT
DTSTART:20240310T100000
END:DAYLIGHT
BEGIN:STANDARD
TZOFFSETFROM:-0700
TZOFFSETTO:-0800
TZNAME:PST
DTSTART:20241103T090000
END:STANDARD
BEGIN:DAYLIGHT
TZOFFSETFROM:-0800
TZOFFSETTO:-0700
TZNAME:PDT
DTSTART:20250309T100000
END:DAYLIGHT
BEGIN:STANDARD
TZOFFSETFROM:-0700
TZOFFSETTO:-0800
TZNAME:PST
DTSTART:20251102T090000
END:STANDARD
BEGIN:DAYLIGHT
TZOFFSETFROM:-0800
TZOFFSETTO:-0700
TZNAME:PDT
DTSTART:20260308T100000
END:DAYLIGHT
BEGIN:STANDARD
TZOFFSETFROM:-0700
TZOFFSETTO:-0800
TZNAME:PST
DTSTART:20261101T090000
END:STANDARD
END:VTIMEZONE
BEGIN:VEVENT
DTSTART;TZID=America/Vancouver:20251213T190000
DTEND;TZID=America/Vancouver:20251213T203000
DTSTAMP:20260419T145936
CREATED:20251206T043753Z
LAST-MODIFIED:20251206T044025Z
UID:10001451-1765652400-1765657800@effieartsco.ca
SUMMARY:Kamloops Burlesque presents Snowflakes and Showtunes - EARLY SHOW
DESCRIPTION:Join us in fundraising for The Loops as we celebrate the spirit of the stage with Snowflakes & Showtunes – a winter burlesque musical show!\n\n\n\nIt’s that time of year again! Time for Kamloops Burlesque’s annual fundraiser show! \n‘Tis the season for sparkle! Snowflakes & Showtunes is a joyful winter burlesque revue celebrating iconic musicals with a frosty twist. Expect big numbers\, big laughs\, big hearts\, and just enough holiday magic to make your December shine. \nJoin us Saturday\, Dec 13 at The Effie Arts Collective in raising funds to support a partnership program between the Kamloops Sexual Assault Counselling Centre (KSACC) and The Loops Sex Workers Association (SWA) working to support sex worker rights and advocacy. \nOur huge lineup of local talent includes\, Ivy Nyx\, Rosie Bubbles\, The Cream Puffs\, Coco-A-Gogo\, Dahlia Divine\, The Laps of Luxury\, Mx Angell Flame\, The Rainbow Puffs\, Humphrey Cockburn\, and Dixon Berries! \nDress up and join our best dressed contest to win a sexy prize from our sponsors at Exposed Wax Arts\, Studio Micah\, and Bigfoot Tattoos! \nJoin us at The Effie Arts Collective at 422 Tranquille Rd on Saturday Dec 21\, for an incredible time in support of an incredible cause! \n19+ show \nEarly Show – Doors at 6:30pm\, show at 7pm \n20$ tickets\, available on Eventbrite. \nTICKET LINK: https://www.eventbrite.ca/e/kamloops-burlesque-presents-snowflakes-and-showtunes-early-show-tickets-1976636904190 \nSponsored by Studio Micah\, Exposed Wax Arts\, The Book Place\, Infernol Arts\, and Bigfoot Tattoos
URL:https://effieartsco.ca/event/kamloops-burlesque-presents-snowflakes-and-showtunes-early-show/
LOCATION:The Effie\, 422 Tranquille Road\, Kamloops\, British Columbia\, V2B 3G8\, Canada
CATEGORIES:Burlesque
ATTACH;FMTTYPE=image/jpeg:https://effieartsco.ca/wp-content/uploads/2025/12/IMG_9755.jpeg
END:VEVENT
BEGIN:VEVENT
DTSTART;TZID=America/Vancouver:20251213T213000
DTEND;TZID=America/Vancouver:20251213T223000
DTSTAMP:20260419T145936
CREATED:20251206T044739Z
LAST-MODIFIED:20251206T044836Z
UID:10001452-1765661400-1765665000@effieartsco.ca
SUMMARY:Kamloops Burlesque presents Snowflakes and Showtunes - LATE SHOW
DESCRIPTION:Join us in fundraising for The Loops as we celebrate the spirit of the stage with Snowflakes & Showtunes – a winter burlesque musical show!\n\n \n\n\nIt’s that time of year again! Time for Kamloops Burlesque’s annual fundraiser show! \n‘Tis the season for sparkle! Snowflakes & Showtunes is a joyful winter burlesque revue celebrating iconic musicals with a frosty twist. Expect big numbers\, big laughs\, big hearts\, and just enough holiday magic to make your December shine. \nJoin us Saturday\, Dec 13 at The Effie Arts Collective in raising funds to support a partnership program between the Kamloops Sexual Assault Counselling Centre (KSACC) and The Loops Sex Workers Association (SWA) working to support sex worker rights and advocacy. \nOur huge lineup of local talent includes\, Ivy Nyx\, Rosie Bubbles\, The Cream Puffs\, Coco-A-Gogo\, Dahlia Divine\, The Laps of Luxury\, Mx Angell Flame\, The Rainbow Puffs\, Humphrey Cockburn\, and Dixon Berries! \nDress up and join our best dressed contest to win a sexy prize from our sponsors at Exposed Wax Arts\, Studio Micah\, and Bigfoot Tattoos! \nJoin us at The Effie Arts Collective at 422 Tranquille Rd on Saturday Dec 21\, for an incredible time in support of an incredible cause! \n19+ \nLate Show – Doors at 9:00pm\, show at 9:30pm \n20$ tickets\, available on Eventbrite. \n\n\n  \nTICKET LINK: https://www.eventbrite.ca/e/kamloops-burlesque-presents-snowflakes-and-showtunes-late-show-tickets-1976638908184 \nSponsored by Studio Micah\, Exposed Wax Arts\, The Book Place\, Infernol Arts\, and Bigfoot Tattoos
URL:https://effieartsco.ca/event/kamloops-burlesque-presents-snowflakes-and-showtunes-late-show/
LOCATION:British Columbia
CATEGORIES:Burlesque
ATTACH;FMTTYPE=image/jpeg:https://effieartsco.ca/wp-content/uploads/2025/12/IMG_9756.jpeg
END:VEVENT
END:VCALENDAR