BEGIN:VCALENDAR
VERSION:2.0
PRODID:-//The Effie - ECPv6.15.20//NONSGML v1.0//EN
CALSCALE:GREGORIAN
METHOD:PUBLISH
X-WR-CALNAME:The Effie
X-ORIGINAL-URL:https://effieartsco.ca
X-WR-CALDESC:Events for The Effie
REFRESH-INTERVAL;VALUE=DURATION:PT1H
X-Robots-Tag:noindex
X-PUBLISHED-TTL:PT1H
BEGIN:VTIMEZONE
TZID:America/Vancouver
BEGIN:DAYLIGHT
TZOFFSETFROM:-0800
TZOFFSETTO:-0700
TZNAME:PDT
DTSTART:20250309T100000
END:DAYLIGHT
BEGIN:STANDARD
TZOFFSETFROM:-0700
TZOFFSETTO:-0800
TZNAME:PST
DTSTART:20251102T090000
END:STANDARD
BEGIN:DAYLIGHT
TZOFFSETFROM:-0800
TZOFFSETTO:-0700
TZNAME:PDT
DTSTART:20260308T100000
END:DAYLIGHT
BEGIN:STANDARD
TZOFFSETFROM:-0700
TZOFFSETTO:-0800
TZNAME:PST
DTSTART:20261101T090000
END:STANDARD
BEGIN:DAYLIGHT
TZOFFSETFROM:-0800
TZOFFSETTO:-0700
TZNAME:PDT
DTSTART:20270314T100000
END:DAYLIGHT
BEGIN:STANDARD
TZOFFSETFROM:-0700
TZOFFSETTO:-0800
TZNAME:PST
DTSTART:20271107T090000
END:STANDARD
END:VTIMEZONE
BEGIN:VEVENT
DTSTART;TZID=America/Vancouver:20260417T193000
DTEND;TZID=America/Vancouver:20260417T193000
DTSTAMP:20260419T055938
CREATED:20260203T013415Z
LAST-MODIFIED:20260203T013937Z
UID:10001506-1776454200-1776454200@effieartsco.ca
SUMMARY:Garret T. Willie "Bill's Cafe Tour" Live at The Effie
DESCRIPTION:Garret T. Willie “Bill’s Cafe Tour”\n\n\n\n\n\n\n\n\nMinors Allowed Accompanied by an Adult \nDoors 7:00pm Show 7:30pm \n$20 + fees\n\n\n\nTICKETS: https://app.ticketowl.io/aCS6dbYjvdJ0dlx3/event/aYD8GrbnJdjceuPm\n\n\n\nGarret T. Willie’s second album Bill’s Café is more than a record —it’s a tribute and a reckoning. Named after his grandfather’s pool hall café in Alert Bay\, British Columbia\, the album ties his roots to the bright lights of Nashville\, where Willie recorded with Grammy-winning producer Tom Hambridge. Bill’s Café is a road map of grit\, heart\, and soul. Written between late nights\, long drives\, and Nashville sessions\, the album captures the restless spirit of a young artist carrying old-soul blues and rock traditions into the future. With a voice that cuts like hi-beam headlights and guitar playing that shreds without gimmicks\, Willie delivers songs about love\, loss\, addiction\, and ambition —truth-telling wrapped in raw energy. At 25\, Willie has already proven himself on stage\, channelling a lived-in blues power that feels far beyond his years. His performances —often with solos ripped from behind his head or in the middle of the crowd —are shock waves of electric energy. His debut album Same Pain\, co-written with Parker Bossley\, earned international acclaim\, airplay on BBC Radio 2\, Top 20 chart placements in the UK and US\, two Western Canadian Music Award nominations\, Best New Touring Artist nomination atthe Canadian Live Music Industry Awards and tour dates opening for Kenny Wayne Shepherd\, John Fogerty\, Kingfish\, and Joe Bonamassa.
URL:https://effieartsco.ca/event/garret-t-willie-bills-cafe-tour-live-at-the-effie/
LOCATION:The Effie\, 422 Tranquille Road\, Kamloops\, British Columbia\, V2B 3G8\, Canada
CATEGORIES:Music
ATTACH;FMTTYPE=image/jpeg:https://effieartsco.ca/wp-content/uploads/2026/02/Friday-April-17-2026.jpg
END:VEVENT
END:VCALENDAR