BEGIN:VCALENDAR
VERSION:2.0
PRODID:-//The Effie - ECPv6.15.20//NONSGML v1.0//EN
CALSCALE:GREGORIAN
METHOD:PUBLISH
X-WR-CALNAME:The Effie
X-ORIGINAL-URL:https://effieartsco.ca
X-WR-CALDESC:Events for The Effie
REFRESH-INTERVAL;VALUE=DURATION:PT1H
X-Robots-Tag:noindex
X-PUBLISHED-TTL:PT1H
BEGIN:VTIMEZONE
TZID:America/Vancouver
BEGIN:DAYLIGHT
TZOFFSETFROM:-0800
TZOFFSETTO:-0700
TZNAME:PDT
DTSTART:20230312T100000
END:DAYLIGHT
BEGIN:STANDARD
TZOFFSETFROM:-0700
TZOFFSETTO:-0800
TZNAME:PST
DTSTART:20231105T090000
END:STANDARD
BEGIN:DAYLIGHT
TZOFFSETFROM:-0800
TZOFFSETTO:-0700
TZNAME:PDT
DTSTART:20240310T100000
END:DAYLIGHT
BEGIN:STANDARD
TZOFFSETFROM:-0700
TZOFFSETTO:-0800
TZNAME:PST
DTSTART:20241103T090000
END:STANDARD
BEGIN:DAYLIGHT
TZOFFSETFROM:-0800
TZOFFSETTO:-0700
TZNAME:PDT
DTSTART:20250309T100000
END:DAYLIGHT
BEGIN:STANDARD
TZOFFSETFROM:-0700
TZOFFSETTO:-0800
TZNAME:PST
DTSTART:20251102T090000
END:STANDARD
END:VTIMEZONE
BEGIN:VEVENT
DTSTART;TZID=America/Vancouver:20240823T200000
DTEND;TZID=America/Vancouver:20240823T200000
DTSTAMP:20260419T145444
CREATED:20240718T064210Z
LAST-MODIFIED:20240808T040605Z
UID:10001116-1724443200-1724443200@effieartsco.ca
SUMMARY:Kamloops Pride Party ft. DJ Krista Mac
DESCRIPTION: TICKETS: https://www.eventbrite.ca/e/934105764487 \nWe had such a fun night at our pop up club night in June\, that we decided to do it all over again for Pride Week – and this time we invited a special guest. DJ Krista Mac will be joining us for the evening all the way from Vancouver! \nCome celebrate Pride Week at our fabulous event hosted at The Effie Arts Collective. Get ready for a night of music\, dancing\, and fun surrounded by a community that embraces everyone for who they are. \nWhether you identify as 2SLGBTQPIA+ or an ally\, this party is for everyone who believes in equality and inclusivity. Dress in your most colorful and festive attire\, bring your friends\, and let’s make unforgettable memories at the Pride Party. See you there! \nAccessibility: We strive to create an inclusive environment for all attendees: \n\nGender-neutral washrooms available\nNote: The venue is not wheelchair accessible (ramp is broken)\, and there are 3 steps to get into the venue\nStanding room only\, with very limited seating available for those who need it\nWe respect your decision to wear or not wear a mask at our events\nBright and/or strobe lights\, loud music and sounds\, and use of fog machines and/or other chemicals or smells may be present\nThis is a 19+ event\n\n🤝 Kamloops Pride volunteers will be available throughout the event to assist you with water\, calling a cab\, or anything else you may need. \n💸 PWYC Tickets: Some Pay What You Can (PWYC) tickets are available. Please reach out to info@kamloopspride.com to inquire. \n  \n\nTICKETS: https://www.eventbrite.ca/e/934105764487
URL:https://effieartsco.ca/event/kamloops-pride-event/
LOCATION:The Effie\, 422 Tranquille Road\, Kamloops\, British Columbia\, V2B 3G8\, Canada
CATEGORIES:Music
ATTACH;FMTTYPE=image/png:https://effieartsco.ca/wp-content/uploads/2024/07/Pride-Party-Instagram-Website.png
END:VEVENT
END:VCALENDAR