BEGIN:VCALENDAR
VERSION:2.0
PRODID:-//The Effie - ECPv6.15.20//NONSGML v1.0//EN
CALSCALE:GREGORIAN
METHOD:PUBLISH
X-ORIGINAL-URL:https://effieartsco.ca
X-WR-CALDESC:Events for The Effie
REFRESH-INTERVAL;VALUE=DURATION:PT1H
X-Robots-Tag:noindex
X-PUBLISHED-TTL:PT1H
BEGIN:VTIMEZONE
TZID:America/Vancouver
BEGIN:DAYLIGHT
TZOFFSETFROM:-0800
TZOFFSETTO:-0700
TZNAME:PDT
DTSTART:20230312T100000
END:DAYLIGHT
BEGIN:STANDARD
TZOFFSETFROM:-0700
TZOFFSETTO:-0800
TZNAME:PST
DTSTART:20231105T090000
END:STANDARD
BEGIN:DAYLIGHT
TZOFFSETFROM:-0800
TZOFFSETTO:-0700
TZNAME:PDT
DTSTART:20240310T100000
END:DAYLIGHT
BEGIN:STANDARD
TZOFFSETFROM:-0700
TZOFFSETTO:-0800
TZNAME:PST
DTSTART:20241103T090000
END:STANDARD
BEGIN:DAYLIGHT
TZOFFSETFROM:-0800
TZOFFSETTO:-0700
TZNAME:PDT
DTSTART:20250309T100000
END:DAYLIGHT
BEGIN:STANDARD
TZOFFSETFROM:-0700
TZOFFSETTO:-0800
TZNAME:PST
DTSTART:20251102T090000
END:STANDARD
END:VTIMEZONE
BEGIN:VEVENT
DTSTART;TZID=America/Vancouver:20240810T193000
DTEND;TZID=America/Vancouver:20240810T220000
DTSTAMP:20260419T163358
CREATED:20240711T030018Z
LAST-MODIFIED:20240711T030621Z
UID:10000579-1723318200-1723327200@effieartsco.ca
SUMMARY:Storm The Empire\, Padova & Tortion at The Effie
DESCRIPTION:TICKETS: https://www.eventbrite.ca/e/storm-the-empire-padova-tortion-at-the-effie-kamloops-bc-tickets-945382754267 \nSTORM THE EMPIRE returns to The Effie to rock with local thrashers PADOVA and metal heads TORTION! \nDoors 7pm\, Bands 7:30\, $15+fees in advance\, $20 at the door \nLicensed Venue – Minors allowed accompanied by an adult \n  \n\n\nDoors 7:00 p.m. \n\n\n\n\nTortion 7:30 p.m. – 8:00 p.m. \n\n\n\n\nPadova 8:15 p.m. – 9:00 p.m. \n\n\n\n\nStorm The Empire 9:15 p.m. – 10:00 p.m. \nTICKETS: https://www.eventbrite.ca/e/storm-the-empire-padova-tortion-at-the-effie-kamloops-bc-tickets-945382754267
URL:https://effieartsco.ca/event/storm-the-empire-padova-tortion-at-the-effie/
LOCATION:The Effie\, 422 Tranquille Road\, Kamloops\, British Columbia\, V2B 3G8\, Canada
CATEGORIES:Music
ATTACH;FMTTYPE=image/jpeg:https://effieartsco.ca/wp-content/uploads/2024/07/Ready-and-updated-scaled-e1720666727861.jpg
END:VEVENT
END:VCALENDAR