BEGIN:VCALENDAR
VERSION:2.0
PRODID:-//The Effie - ECPv6.15.20//NONSGML v1.0//EN
CALSCALE:GREGORIAN
METHOD:PUBLISH
X-WR-CALNAME:The Effie
X-ORIGINAL-URL:https://effieartsco.ca
X-WR-CALDESC:Events for The Effie
REFRESH-INTERVAL;VALUE=DURATION:PT1H
X-Robots-Tag:noindex
X-PUBLISHED-TTL:PT1H
BEGIN:VTIMEZONE
TZID:America/Vancouver
BEGIN:DAYLIGHT
TZOFFSETFROM:-0800
TZOFFSETTO:-0700
TZNAME:PDT
DTSTART:20220313T100000
END:DAYLIGHT
BEGIN:STANDARD
TZOFFSETFROM:-0700
TZOFFSETTO:-0800
TZNAME:PST
DTSTART:20221106T090000
END:STANDARD
BEGIN:DAYLIGHT
TZOFFSETFROM:-0800
TZOFFSETTO:-0700
TZNAME:PDT
DTSTART:20230312T100000
END:DAYLIGHT
BEGIN:STANDARD
TZOFFSETFROM:-0700
TZOFFSETTO:-0800
TZNAME:PST
DTSTART:20231105T090000
END:STANDARD
BEGIN:DAYLIGHT
TZOFFSETFROM:-0800
TZOFFSETTO:-0700
TZNAME:PDT
DTSTART:20240310T100000
END:DAYLIGHT
BEGIN:STANDARD
TZOFFSETFROM:-0700
TZOFFSETTO:-0800
TZNAME:PST
DTSTART:20241103T090000
END:STANDARD
END:VTIMEZONE
BEGIN:VEVENT
DTSTART;TZID=America/Vancouver:20231124T180000
DTEND;TZID=America/Vancouver:20231124T235900
DTSTAMP:20260420T055819
CREATED:20231105T214859Z
LAST-MODIFIED:20231106T040327Z
UID:10000415-1700848800-1700870340@effieartsco.ca
SUMMARY:24 Hour Playwriting Jam at The Effie
DESCRIPTION:Join us on November 24th (and 25th) for an exhilarating and sleepless adventure into the world of creativity with our 24-Hour Playwriting Jam! This exciting event brings together local writers of all backgrounds\, experience levels\, and genres for an unforgettable challenge. Over the course of a single day and night\, participants will embark on an inspiring journey to craft a unique and compelling play from scratch. \nTo register for the 24 Hour Playwrighting Jam\, fill out the form here:\nhttps://forms.gle/s9ATaVjAXGA8DhbC6\n$10.00 ($5 for Chimera Theatre Members) Registration fee can be paid at the door on Nov 24th
URL:https://effieartsco.ca/event/24-hour-playwriting-jam-at-the-effie/
LOCATION:The Effie\, 422 Tranquille Road\, Kamloops\, British Columbia\, V2B 3G8\, Canada
CATEGORIES:Theatre
ATTACH;FMTTYPE=image/jpeg:https://effieartsco.ca/wp-content/uploads/2023/11/24-hr-playwriting-jam-e1699220620810.jpg
ORGANIZER;CN="Chimera Theatre":MAILTO:info@chimeratheatre.com ﻿
END:VEVENT
END:VCALENDAR