BEGIN:VCALENDAR
VERSION:2.0
PRODID:-//The Effie - ECPv6.15.20//NONSGML v1.0//EN
CALSCALE:GREGORIAN
METHOD:PUBLISH
X-WR-CALNAME:The Effie
X-ORIGINAL-URL:https://effieartsco.ca
X-WR-CALDESC:Events for The Effie
REFRESH-INTERVAL;VALUE=DURATION:PT1H
X-Robots-Tag:noindex
X-PUBLISHED-TTL:PT1H
BEGIN:VTIMEZONE
TZID:America/Vancouver
BEGIN:DAYLIGHT
TZOFFSETFROM:-0800
TZOFFSETTO:-0700
TZNAME:PDT
DTSTART:20220313T100000
END:DAYLIGHT
BEGIN:STANDARD
TZOFFSETFROM:-0700
TZOFFSETTO:-0800
TZNAME:PST
DTSTART:20221106T090000
END:STANDARD
BEGIN:DAYLIGHT
TZOFFSETFROM:-0800
TZOFFSETTO:-0700
TZNAME:PDT
DTSTART:20230312T100000
END:DAYLIGHT
BEGIN:STANDARD
TZOFFSETFROM:-0700
TZOFFSETTO:-0800
TZNAME:PST
DTSTART:20231105T090000
END:STANDARD
BEGIN:DAYLIGHT
TZOFFSETFROM:-0800
TZOFFSETTO:-0700
TZNAME:PDT
DTSTART:20240310T100000
END:DAYLIGHT
BEGIN:STANDARD
TZOFFSETFROM:-0700
TZOFFSETTO:-0800
TZNAME:PST
DTSTART:20241103T090000
END:STANDARD
END:VTIMEZONE
BEGIN:VEVENT
DTSTART;TZID=America/Vancouver:20231122T200000
DTEND;TZID=America/Vancouver:20231122T220000
DTSTAMP:20260420T055825
CREATED:20230325T214743Z
LAST-MODIFIED:20250508T233611Z
UID:10000047-1700683200-1700690400@effieartsco.ca
SUMMARY:Kamloops Comedy Open Mic
DESCRIPTION:1/$10 General Admission\n\nFree for Performers & Eff Buddies\nDoors 7:30pm\nComedy 8-10pm\n16+\n\nKamloops Comedy Open Mic provides comedians with opportunities to get out in front of a crowd and work on their craft. It is a safe space for comedians (fans may be triggered) to get up and put it all out there.
URL:https://effieartsco.ca/event/kamloops-comedy-open-mic/2023-11-22/
LOCATION:The Effie\, 422 Tranquille Road\, Kamloops\, British Columbia\, V2B 3G8\, Canada
CATEGORIES:Comedy
ATTACH;FMTTYPE=image/jpeg:https://effieartsco.ca/wp-content/uploads/2023/01/Effie-Open-Mic.jpg
END:VEVENT
END:VCALENDAR