BEGIN:VCALENDAR
VERSION:2.0
PRODID:-//The Effie - ECPv6.15.20//NONSGML v1.0//EN
CALSCALE:GREGORIAN
METHOD:PUBLISH
X-WR-CALNAME:The Effie
X-ORIGINAL-URL:https://effieartsco.ca
X-WR-CALDESC:Events for The Effie
REFRESH-INTERVAL;VALUE=DURATION:PT1H
X-Robots-Tag:noindex
X-PUBLISHED-TTL:PT1H
BEGIN:VTIMEZONE
TZID:America/Vancouver
BEGIN:DAYLIGHT
TZOFFSETFROM:-0800
TZOFFSETTO:-0700
TZNAME:PDT
DTSTART:20220313T100000
END:DAYLIGHT
BEGIN:STANDARD
TZOFFSETFROM:-0700
TZOFFSETTO:-0800
TZNAME:PST
DTSTART:20221106T090000
END:STANDARD
BEGIN:DAYLIGHT
TZOFFSETFROM:-0800
TZOFFSETTO:-0700
TZNAME:PDT
DTSTART:20230312T100000
END:DAYLIGHT
BEGIN:STANDARD
TZOFFSETFROM:-0700
TZOFFSETTO:-0800
TZNAME:PST
DTSTART:20231105T090000
END:STANDARD
BEGIN:DAYLIGHT
TZOFFSETFROM:-0800
TZOFFSETTO:-0700
TZNAME:PDT
DTSTART:20240310T100000
END:DAYLIGHT
BEGIN:STANDARD
TZOFFSETFROM:-0700
TZOFFSETTO:-0800
TZNAME:PST
DTSTART:20241103T090000
END:STANDARD
END:VTIMEZONE
BEGIN:VEVENT
DTSTART;TZID=America/Vancouver:20231021T190000
DTEND;TZID=America/Vancouver:20231021T233000
DTSTAMP:20260420T104915
CREATED:20231005T015750Z
LAST-MODIFIED:20231005T020506Z
UID:10000364-1697914800-1697931000@effieartsco.ca
SUMMARY:DREW'S KAMCOMEDYFEST
DESCRIPTION:Get ready for The Grand Slam of Comedy!\nOver 20 of Canada’s best comedians are coming to Kamloops Oct 18-21st for Drew’s KamComedyFest!\nComedians include Brittany Lyseng\, Patrick Maliha\, Dale Ward\, Steve McGowan\, Amber Harper-Young\, Dino Archie and many more!\n2 venues\, 4 days\, 10 shows!\nShows will be held at The Paramount Theatre and the Effie Arts Collective!\nDrew’s KamComedyFest Starts October 18th\nSponsored by Next Gen Electric\, Lapper Security\, Rivershore Ram and Bry’s Custom Automotive\nFor tickets and full schedule\, go to www.kamcomedyfest.ca
URL:https://effieartsco.ca/event/drews-kamcomedyfest/2023-10-21/
LOCATION:The Effie\, 422 Tranquille Road\, Kamloops\, British Columbia\, V2B 3G8\, Canada
CATEGORIES:Comedy
ATTACH;FMTTYPE=image/jpeg:https://effieartsco.ca/wp-content/uploads/2023/10/kamcomedyfest-facebook-cover2.jpg
END:VEVENT
END:VCALENDAR