BEGIN:VCALENDAR
VERSION:2.0
PRODID:-//The Effie - ECPv6.15.20//NONSGML v1.0//EN
CALSCALE:GREGORIAN
METHOD:PUBLISH
X-ORIGINAL-URL:https://effieartsco.ca
X-WR-CALDESC:Events for The Effie
REFRESH-INTERVAL;VALUE=DURATION:PT1H
X-Robots-Tag:noindex
X-PUBLISHED-TTL:PT1H
BEGIN:VTIMEZONE
TZID:America/Vancouver
BEGIN:DAYLIGHT
TZOFFSETFROM:-0800
TZOFFSETTO:-0700
TZNAME:PDT
DTSTART:20220313T100000
END:DAYLIGHT
BEGIN:STANDARD
TZOFFSETFROM:-0700
TZOFFSETTO:-0800
TZNAME:PST
DTSTART:20221106T090000
END:STANDARD
BEGIN:DAYLIGHT
TZOFFSETFROM:-0800
TZOFFSETTO:-0700
TZNAME:PDT
DTSTART:20230312T100000
END:DAYLIGHT
BEGIN:STANDARD
TZOFFSETFROM:-0700
TZOFFSETTO:-0800
TZNAME:PST
DTSTART:20231105T090000
END:STANDARD
BEGIN:DAYLIGHT
TZOFFSETFROM:-0800
TZOFFSETTO:-0700
TZNAME:PDT
DTSTART:20240310T100000
END:DAYLIGHT
BEGIN:STANDARD
TZOFFSETFROM:-0700
TZOFFSETTO:-0800
TZNAME:PST
DTSTART:20241103T090000
END:STANDARD
END:VTIMEZONE
BEGIN:VEVENT
DTSTART;TZID=America/Vancouver:20231013T170000
DTEND;TZID=America/Vancouver:20231013T220000
DTSTAMP:20260420T104910
CREATED:20231009T213332Z
LAST-MODIFIED:20231009T213905Z
UID:10000367-1697216400-1697234400@effieartsco.ca
SUMMARY:Misfit Night Market: HALLOWEEN SPECIAL!
DESCRIPTION:♥︎Hi uglies♥︎\nSpooky season is upon us!\nFriday The 13th occurs in October this year\, and to celebrate our FAVOURITE time of the year\, Misfit Night Market will once again be taking over The Effie Arts Collective and Oddfellows and Rebekah’s Hall for an extra special\, ooky spooky night of shopping with your local freaks!\nCostumes are welcome and encouraged for this event! We all know Spirit Halloween is already open\, so why not get extra use out of your overpriced Halloween costume?!\nWhen: Friday\, October 13th 2022\, 5-10 pm\nWhere: The Effie Arts Collective (422 Tranquille Road) AND Oddfellow’s & Rebekah’s Hall (423 Tranquille Rd)\nVENDORS:\nA & K vinyl and collectables\nAlex Marx of Creators Coven\nAves Creations\nChained in the ‘Loops\nDirty Druid Soap Co\nGhost Story\nHaus of Misfit\nJupiter Bloom Art\nKitchen Witch Thrift\nLemp’s Lines\nLunalesca Apothecary & Abyssal Emporium\nMaria Elisabeth\nMystic Moon Tattoos\nnierv3D\nPinsomnia Designs\nRebecca Jones-Howe\nRebel Craft Farm\nRivers Pretty Things\nTheysister\nThree Raccoons\nTumulusHare\nZorya & Zvarog\nPLUS!\nBigfoot Tattoos is back with another Flash Night! Visit them at 445 Tranquille Rd from 4-9pm to get some spooky flash! First come first served\, limited capacity!\nHold on to your dookie\, it’s about to get spooky!\nMisfit Night Market takes place on the traditional\, unceded\, and unsurrendured territory of the Tk’emlups te Secwépemc First Nation. We stand in solidarity with Indigenous peoples across Turtle Island.
URL:https://effieartsco.ca/event/836/
LOCATION:The Effie\, 422 Tranquille Road\, Kamloops\, British Columbia\, V2B 3G8\, Canada
CATEGORIES:Market
ATTACH;FMTTYPE=image/jpeg:https://effieartsco.ca/wp-content/uploads/2023/10/misfit-oct.jpg
END:VEVENT
END:VCALENDAR