BEGIN:VCALENDAR
VERSION:2.0
PRODID:-//The Effie - ECPv6.15.20//NONSGML v1.0//EN
CALSCALE:GREGORIAN
METHOD:PUBLISH
X-ORIGINAL-URL:https://effieartsco.ca
X-WR-CALDESC:Events for The Effie
REFRESH-INTERVAL;VALUE=DURATION:PT1H
X-Robots-Tag:noindex
X-PUBLISHED-TTL:PT1H
BEGIN:VTIMEZONE
TZID:America/Vancouver
BEGIN:DAYLIGHT
TZOFFSETFROM:-0800
TZOFFSETTO:-0700
TZNAME:PDT
DTSTART:20220313T100000
END:DAYLIGHT
BEGIN:STANDARD
TZOFFSETFROM:-0700
TZOFFSETTO:-0800
TZNAME:PST
DTSTART:20221106T090000
END:STANDARD
BEGIN:DAYLIGHT
TZOFFSETFROM:-0800
TZOFFSETTO:-0700
TZNAME:PDT
DTSTART:20230312T100000
END:DAYLIGHT
BEGIN:STANDARD
TZOFFSETFROM:-0700
TZOFFSETTO:-0800
TZNAME:PST
DTSTART:20231105T090000
END:STANDARD
BEGIN:DAYLIGHT
TZOFFSETFROM:-0800
TZOFFSETTO:-0700
TZNAME:PDT
DTSTART:20240310T100000
END:DAYLIGHT
BEGIN:STANDARD
TZOFFSETFROM:-0700
TZOFFSETTO:-0800
TZNAME:PST
DTSTART:20241103T090000
END:STANDARD
END:VTIMEZONE
BEGIN:VEVENT
DTSTART;TZID=America/Vancouver:20230420T200000
DTEND;TZID=America/Vancouver:20230420T230000
DTSTAMP:20260420T220933
CREATED:20230328T053311Z
LAST-MODIFIED:20230328T053455Z
UID:10000284-1682020800-1682031600@effieartsco.ca
SUMMARY:The Freudian Slips 4/20 Special
DESCRIPTION:Doors 7:30pm\nShow 8pm\n19+ Licensed Event\nTickets $20 + fees \nThe Freudian Slips’ annual 4/20 show seeks to take Kamloops’ best Improv group and find if they’re still good after… well… you’ll see. \nWhich you can witness from the comfort of the VIP table at the Effie! \nThe Freudian Slips is the hottest Improvised Comedy Troupe in Kamloops! Bringing monthly improv shows to the city in four distinct improv styles\, no matter what form they take you are guaranteed a night of hilarity.  \nChimera Members are able to buy TWO tickets at Chimera Member Pricing (a savings of ten bucks!). Chimera Memberships are valid for one year. Don’t have a Chimera membership? Purchase one with your tickets at the checkout to get membership pricing on two tickets. Don’t forget to reserve your table by choosing the table option with your tickets. \nTICKETS: \nhttps://www.eventbrite.ca/e/599730509097
URL:https://effieartsco.ca/event/the-freudian-slips-4-20-special/
LOCATION:The Effie\, 422 Tranquille Road\, Kamloops\, British Columbia\, V2B 3G8\, Canada
CATEGORIES:Improv
ATTACH;FMTTYPE=image/jpeg:https://effieartsco.ca/wp-content/uploads/2023/03/Website-Banner-1.jpg
ORGANIZER;CN="Chimera Theatre":MAILTO:info@chimeratheatre.com ﻿
END:VEVENT
END:VCALENDAR